BEGIN:VCALENDAR
VERSION:2.0
PRODID:-//Atwood Primary - ECPv6.14.2//NONSGML v1.0//EN
CALSCALE:GREGORIAN
METHOD:PUBLISH
X-WR-CALNAME:Atwood Primary
X-ORIGINAL-URL:https://aps.rsu18.org
X-WR-CALDESC:Events for Atwood Primary
REFRESH-INTERVAL;VALUE=DURATION:PT1H
X-Robots-Tag:noindex
X-PUBLISHED-TTL:PT1H
BEGIN:VTIMEZONE
TZID:America/New_York
BEGIN:DAYLIGHT
TZOFFSETFROM:-0500
TZOFFSETTO:-0400
TZNAME:EDT
DTSTART:20260308T070000
END:DAYLIGHT
BEGIN:STANDARD
TZOFFSETFROM:-0400
TZOFFSETTO:-0500
TZNAME:EST
DTSTART:20261101T060000
END:STANDARD
END:VTIMEZONE
BEGIN:VEVENT
DTSTART;TZID=America/New_York:20260503T110000
DTEND;TZID=America/New_York:20260503T120000
DTSTAMP:20260423T131036
CREATED:20260303T114557Z
LAST-MODIFIED:20260322T134539Z
UID:10000240-1777806000-1777809600@aps.rsu18.org
SUMMARY:FAMILY VIOLENCE PRESENTATION PREK-2
DESCRIPTION:FAMILY VIOLENCE PRESENTATION
URL:https://aps.rsu18.org/event/family-violence-presentation-prek-2-41/
LOCATION:Atwood Elementary School\, 19 Heath St\, Oakland\, ME\, United States
GEO:44.548117;-69.720633
X-APPLE-STRUCTURED-LOCATION;VALUE=URI;X-ADDRESS=Atwood Elementary School 19 Heath St Oakland ME United States;X-APPLE-RADIUS=500;X-TITLE=19 Heath St:geo:-69.720633,44.548117
END:VEVENT
BEGIN:VEVENT
DTSTART;TZID=America/New_York:20260504T110000
DTEND;TZID=America/New_York:20260504T120000
DTSTAMP:20260423T131036
CREATED:20260303T114557Z
LAST-MODIFIED:20260322T134539Z
UID:10000241-1777892400-1777896000@aps.rsu18.org
SUMMARY:FAMILY VIOLENCE PRESENTATION PREK-2
DESCRIPTION:FAMILY VIOLENCE PRESENTATION
URL:https://aps.rsu18.org/event/family-violence-presentation-prek-2-42/
LOCATION:Atwood Elementary School\, 19 Heath St\, Oakland\, ME\, United States
GEO:44.548117;-69.720633
X-APPLE-STRUCTURED-LOCATION;VALUE=URI;X-ADDRESS=Atwood Elementary School 19 Heath St Oakland ME United States;X-APPLE-RADIUS=500;X-TITLE=19 Heath St:geo:-69.720633,44.548117
END:VEVENT
BEGIN:VEVENT
DTSTART;TZID=America/New_York:20260504T174500
DTEND;TZID=America/New_York:20260504T194500
DTSTAMP:20260423T131036
CREATED:20250805T140603Z
LAST-MODIFIED:20250826T163900Z
UID:10000110-1777916700-1777923900@aps.rsu18.org
SUMMARY:Cub Scout Pack 454 Meeting
DESCRIPTION:Cub Scout meeting (Must keep area clean after use)\nJoin with Google Meet: https://meet.google.com/sxm-wexy-wws\nOr dial: (US) +1 641-812-2139 PIN: 948569748#\nLearn more about Meet at: https://support.google.com/a/users/answer/9282720
URL:https://aps.rsu18.org/event/cub-scout-pack-454-meeting-39/
LOCATION:Atwood Elementary School\, 19 Heath St\, Oakland\, ME\, United States
GEO:44.548117;-69.720633
X-APPLE-STRUCTURED-LOCATION;VALUE=URI;X-ADDRESS=Atwood Elementary School 19 Heath St Oakland ME United States;X-APPLE-RADIUS=500;X-TITLE=19 Heath St:geo:-69.720633,44.548117
END:VEVENT
BEGIN:VEVENT
DTSTART;TZID=America/New_York:20260504T174500
DTEND;TZID=America/New_York:20260504T194500
DTSTAMP:20260423T131036
CREATED:20250827T164609Z
LAST-MODIFIED:20260423T153038Z
UID:10000149-1777916700-1777923900@aps.rsu18.org
SUMMARY:Cub Scout Pack 454 Meeting
DESCRIPTION:Cub Scout meeting (Must keep area clean after use)\nJoin with Google Meet: https://meet.google.com/sxm-wexy-wws\nOr dial: (US) +1 641-812-2139 PIN: 948569748#\nLearn more about Meet at: https://support.google.com/a/users/answer/9282720
URL:https://aps.rsu18.org/event/cub-scout-pack-454-meeting-78/
LOCATION:Atwood Elementary School\, 19 Heath St\, Oakland\, ME\, United States
GEO:44.548117;-69.720633
X-APPLE-STRUCTURED-LOCATION;VALUE=URI;X-ADDRESS=Atwood Elementary School 19 Heath St Oakland ME United States;X-APPLE-RADIUS=500;X-TITLE=19 Heath St:geo:-69.720633,44.548117
END:VEVENT
BEGIN:VEVENT
DTSTART;TZID=America/New_York:20260505T110000
DTEND;TZID=America/New_York:20260505T120000
DTSTAMP:20260423T131036
CREATED:20260303T114557Z
LAST-MODIFIED:20260322T134539Z
UID:10000242-1777978800-1777982400@aps.rsu18.org
SUMMARY:FAMILY VIOLENCE PRESENTATION PREK-2
DESCRIPTION:FAMILY VIOLENCE PRESENTATION
URL:https://aps.rsu18.org/event/family-violence-presentation-prek-2-43/
LOCATION:Atwood Elementary School\, 19 Heath St\, Oakland\, ME\, United States
GEO:44.548117;-69.720633
X-APPLE-STRUCTURED-LOCATION;VALUE=URI;X-ADDRESS=Atwood Elementary School 19 Heath St Oakland ME United States;X-APPLE-RADIUS=500;X-TITLE=19 Heath St:geo:-69.720633,44.548117
END:VEVENT
BEGIN:VEVENT
DTSTART;TZID=America/New_York:20260506T110000
DTEND;TZID=America/New_York:20260506T120000
DTSTAMP:20260423T131036
CREATED:20260303T114558Z
LAST-MODIFIED:20260322T134539Z
UID:10000243-1778065200-1778068800@aps.rsu18.org
SUMMARY:FAMILY VIOLENCE PRESENTATION PREK-2
DESCRIPTION:FAMILY VIOLENCE PRESENTATION
URL:https://aps.rsu18.org/event/family-violence-presentation-prek-2-44/
LOCATION:Atwood Elementary School\, 19 Heath St\, Oakland\, ME\, United States
GEO:44.548117;-69.720633
X-APPLE-STRUCTURED-LOCATION;VALUE=URI;X-ADDRESS=Atwood Elementary School 19 Heath St Oakland ME United States;X-APPLE-RADIUS=500;X-TITLE=19 Heath St:geo:-69.720633,44.548117
END:VEVENT
BEGIN:VEVENT
DTSTART;TZID=America/New_York:20260507T110000
DTEND;TZID=America/New_York:20260507T120000
DTSTAMP:20260423T131036
CREATED:20260303T114558Z
LAST-MODIFIED:20260322T134540Z
UID:10000244-1778151600-1778155200@aps.rsu18.org
SUMMARY:FAMILY VIOLENCE PRESENTATION PREK-2
DESCRIPTION:FAMILY VIOLENCE PRESENTATION
URL:https://aps.rsu18.org/event/family-violence-presentation-prek-2-45/
LOCATION:Atwood Elementary School\, 19 Heath St\, Oakland\, ME\, United States
GEO:44.548117;-69.720633
X-APPLE-STRUCTURED-LOCATION;VALUE=URI;X-ADDRESS=Atwood Elementary School 19 Heath St Oakland ME United States;X-APPLE-RADIUS=500;X-TITLE=19 Heath St:geo:-69.720633,44.548117
END:VEVENT
BEGIN:VEVENT
DTSTART;TZID=America/New_York:20260508T110000
DTEND;TZID=America/New_York:20260508T120000
DTSTAMP:20260423T131036
CREATED:20260303T114558Z
LAST-MODIFIED:20260322T134540Z
UID:10000245-1778238000-1778241600@aps.rsu18.org
SUMMARY:FAMILY VIOLENCE PRESENTATION PREK-2
DESCRIPTION:FAMILY VIOLENCE PRESENTATION
URL:https://aps.rsu18.org/event/family-violence-presentation-prek-2-46/
LOCATION:Atwood Elementary School\, 19 Heath St\, Oakland\, ME\, United States
GEO:44.548117;-69.720633
X-APPLE-STRUCTURED-LOCATION;VALUE=URI;X-ADDRESS=Atwood Elementary School 19 Heath St Oakland ME United States;X-APPLE-RADIUS=500;X-TITLE=19 Heath St:geo:-69.720633,44.548117
END:VEVENT
BEGIN:VEVENT
DTSTART;TZID=America/New_York:20260509T110000
DTEND;TZID=America/New_York:20260509T120000
DTSTAMP:20260423T131036
CREATED:20260303T114558Z
LAST-MODIFIED:20260322T134540Z
UID:10000246-1778324400-1778328000@aps.rsu18.org
SUMMARY:FAMILY VIOLENCE PRESENTATION PREK-2
DESCRIPTION:FAMILY VIOLENCE PRESENTATION
URL:https://aps.rsu18.org/event/family-violence-presentation-prek-2-47/
LOCATION:Atwood Elementary School\, 19 Heath St\, Oakland\, ME\, United States
GEO:44.548117;-69.720633
X-APPLE-STRUCTURED-LOCATION;VALUE=URI;X-ADDRESS=Atwood Elementary School 19 Heath St Oakland ME United States;X-APPLE-RADIUS=500;X-TITLE=19 Heath St:geo:-69.720633,44.548117
END:VEVENT
BEGIN:VEVENT
DTSTART;TZID=America/New_York:20260510T110000
DTEND;TZID=America/New_York:20260510T120000
DTSTAMP:20260423T131036
CREATED:20260303T114559Z
LAST-MODIFIED:20260322T134540Z
UID:10000247-1778410800-1778414400@aps.rsu18.org
SUMMARY:FAMILY VIOLENCE PRESENTATION PREK-2
DESCRIPTION:FAMILY VIOLENCE PRESENTATION
URL:https://aps.rsu18.org/event/family-violence-presentation-prek-2-48/
LOCATION:Atwood Elementary School\, 19 Heath St\, Oakland\, ME\, United States
GEO:44.548117;-69.720633
X-APPLE-STRUCTURED-LOCATION;VALUE=URI;X-ADDRESS=Atwood Elementary School 19 Heath St Oakland ME United States;X-APPLE-RADIUS=500;X-TITLE=19 Heath St:geo:-69.720633,44.548117
END:VEVENT
BEGIN:VEVENT
DTSTART;TZID=America/New_York:20260511T110000
DTEND;TZID=America/New_York:20260511T120000
DTSTAMP:20260423T131036
CREATED:20260303T114559Z
LAST-MODIFIED:20260322T134541Z
UID:10000248-1778497200-1778500800@aps.rsu18.org
SUMMARY:FAMILY VIOLENCE PRESENTATION PREK-2
DESCRIPTION:FAMILY VIOLENCE PRESENTATION
URL:https://aps.rsu18.org/event/family-violence-presentation-prek-2-49/
LOCATION:Atwood Elementary School\, 19 Heath St\, Oakland\, ME\, United States
GEO:44.548117;-69.720633
X-APPLE-STRUCTURED-LOCATION;VALUE=URI;X-ADDRESS=Atwood Elementary School 19 Heath St Oakland ME United States;X-APPLE-RADIUS=500;X-TITLE=19 Heath St:geo:-69.720633,44.548117
END:VEVENT
BEGIN:VEVENT
DTSTART;TZID=America/New_York:20260511T174500
DTEND;TZID=America/New_York:20260511T194500
DTSTAMP:20260423T131036
CREATED:20250805T140603Z
LAST-MODIFIED:20250826T163900Z
UID:10000111-1778521500-1778528700@aps.rsu18.org
SUMMARY:Cub Scout Pack 454 Meeting
DESCRIPTION:Cub Scout meeting (Must keep area clean after use)\nJoin with Google Meet: https://meet.google.com/sxm-wexy-wws\nOr dial: (US) +1 641-812-2139 PIN: 948569748#\nLearn more about Meet at: https://support.google.com/a/users/answer/9282720
URL:https://aps.rsu18.org/event/cub-scout-pack-454-meeting-40/
LOCATION:Atwood Elementary School\, 19 Heath St\, Oakland\, ME\, United States
GEO:44.548117;-69.720633
X-APPLE-STRUCTURED-LOCATION;VALUE=URI;X-ADDRESS=Atwood Elementary School 19 Heath St Oakland ME United States;X-APPLE-RADIUS=500;X-TITLE=19 Heath St:geo:-69.720633,44.548117
END:VEVENT
BEGIN:VEVENT
DTSTART;TZID=America/New_York:20260511T174500
DTEND;TZID=America/New_York:20260511T194500
DTSTAMP:20260423T131036
CREATED:20250827T164609Z
LAST-MODIFIED:20260423T153039Z
UID:10000150-1778521500-1778528700@aps.rsu18.org
SUMMARY:Cub Scout Pack 454 Meeting
DESCRIPTION:Cub Scout meeting (Must keep area clean after use)\nJoin with Google Meet: https://meet.google.com/sxm-wexy-wws\nOr dial: (US) +1 641-812-2139 PIN: 948569748#\nLearn more about Meet at: https://support.google.com/a/users/answer/9282720
URL:https://aps.rsu18.org/event/cub-scout-pack-454-meeting-79/
LOCATION:Atwood Elementary School\, 19 Heath St\, Oakland\, ME\, United States
GEO:44.548117;-69.720633
X-APPLE-STRUCTURED-LOCATION;VALUE=URI;X-ADDRESS=Atwood Elementary School 19 Heath St Oakland ME United States;X-APPLE-RADIUS=500;X-TITLE=19 Heath St:geo:-69.720633,44.548117
END:VEVENT
BEGIN:VEVENT
DTSTART;TZID=America/New_York:20260512T110000
DTEND;TZID=America/New_York:20260512T120000
DTSTAMP:20260423T131036
CREATED:20260303T114559Z
LAST-MODIFIED:20260322T134541Z
UID:10000249-1778583600-1778587200@aps.rsu18.org
SUMMARY:FAMILY VIOLENCE PRESENTATION PREK-2
DESCRIPTION:FAMILY VIOLENCE PRESENTATION
URL:https://aps.rsu18.org/event/family-violence-presentation-prek-2-50/
LOCATION:Atwood Elementary School\, 19 Heath St\, Oakland\, ME\, United States
GEO:44.548117;-69.720633
X-APPLE-STRUCTURED-LOCATION;VALUE=URI;X-ADDRESS=Atwood Elementary School 19 Heath St Oakland ME United States;X-APPLE-RADIUS=500;X-TITLE=19 Heath St:geo:-69.720633,44.548117
END:VEVENT
BEGIN:VEVENT
DTSTART;TZID=America/New_York:20260513T110000
DTEND;TZID=America/New_York:20260513T120000
DTSTAMP:20260423T131036
CREATED:20260303T114559Z
LAST-MODIFIED:20260322T134541Z
UID:10000250-1778670000-1778673600@aps.rsu18.org
SUMMARY:FAMILY VIOLENCE PRESENTATION PREK-2
DESCRIPTION:FAMILY VIOLENCE PRESENTATION
URL:https://aps.rsu18.org/event/family-violence-presentation-prek-2-51/
LOCATION:Atwood Elementary School\, 19 Heath St\, Oakland\, ME\, United States
GEO:44.548117;-69.720633
X-APPLE-STRUCTURED-LOCATION;VALUE=URI;X-ADDRESS=Atwood Elementary School 19 Heath St Oakland ME United States;X-APPLE-RADIUS=500;X-TITLE=19 Heath St:geo:-69.720633,44.548117
END:VEVENT
BEGIN:VEVENT
DTSTART;TZID=America/New_York:20260514T110000
DTEND;TZID=America/New_York:20260514T120000
DTSTAMP:20260423T131036
CREATED:20260303T114600Z
LAST-MODIFIED:20260322T134541Z
UID:10000251-1778756400-1778760000@aps.rsu18.org
SUMMARY:FAMILY VIOLENCE PRESENTATION PREK-2
DESCRIPTION:FAMILY VIOLENCE PRESENTATION
URL:https://aps.rsu18.org/event/family-violence-presentation-prek-2-52/
LOCATION:Atwood Elementary School\, 19 Heath St\, Oakland\, ME\, United States
GEO:44.548117;-69.720633
X-APPLE-STRUCTURED-LOCATION;VALUE=URI;X-ADDRESS=Atwood Elementary School 19 Heath St Oakland ME United States;X-APPLE-RADIUS=500;X-TITLE=19 Heath St:geo:-69.720633,44.548117
END:VEVENT
BEGIN:VEVENT
DTSTART;TZID=America/New_York:20260515T110000
DTEND;TZID=America/New_York:20260515T120000
DTSTAMP:20260423T131036
CREATED:20260303T114600Z
LAST-MODIFIED:20260322T134541Z
UID:10000252-1778842800-1778846400@aps.rsu18.org
SUMMARY:FAMILY VIOLENCE PRESENTATION PREK-2
DESCRIPTION:FAMILY VIOLENCE PRESENTATION
URL:https://aps.rsu18.org/event/family-violence-presentation-prek-2-53/
LOCATION:Atwood Elementary School\, 19 Heath St\, Oakland\, ME\, United States
GEO:44.548117;-69.720633
X-APPLE-STRUCTURED-LOCATION;VALUE=URI;X-ADDRESS=Atwood Elementary School 19 Heath St Oakland ME United States;X-APPLE-RADIUS=500;X-TITLE=19 Heath St:geo:-69.720633,44.548117
END:VEVENT
BEGIN:VEVENT
DTSTART;TZID=America/New_York:20260516T110000
DTEND;TZID=America/New_York:20260516T120000
DTSTAMP:20260423T131036
CREATED:20260303T114600Z
LAST-MODIFIED:20260322T134542Z
UID:10000253-1778929200-1778932800@aps.rsu18.org
SUMMARY:FAMILY VIOLENCE PRESENTATION PREK-2
DESCRIPTION:FAMILY VIOLENCE PRESENTATION
URL:https://aps.rsu18.org/event/family-violence-presentation-prek-2-54/
LOCATION:Atwood Elementary School\, 19 Heath St\, Oakland\, ME\, United States
GEO:44.548117;-69.720633
X-APPLE-STRUCTURED-LOCATION;VALUE=URI;X-ADDRESS=Atwood Elementary School 19 Heath St Oakland ME United States;X-APPLE-RADIUS=500;X-TITLE=19 Heath St:geo:-69.720633,44.548117
END:VEVENT
BEGIN:VEVENT
DTSTART;TZID=America/New_York:20260517T110000
DTEND;TZID=America/New_York:20260517T120000
DTSTAMP:20260423T131036
CREATED:20260303T114600Z
LAST-MODIFIED:20260322T134542Z
UID:10000254-1779015600-1779019200@aps.rsu18.org
SUMMARY:FAMILY VIOLENCE PRESENTATION PREK-2
DESCRIPTION:FAMILY VIOLENCE PRESENTATION
URL:https://aps.rsu18.org/event/family-violence-presentation-prek-2-55/
LOCATION:Atwood Elementary School\, 19 Heath St\, Oakland\, ME\, United States
GEO:44.548117;-69.720633
X-APPLE-STRUCTURED-LOCATION;VALUE=URI;X-ADDRESS=Atwood Elementary School 19 Heath St Oakland ME United States;X-APPLE-RADIUS=500;X-TITLE=19 Heath St:geo:-69.720633,44.548117
END:VEVENT
BEGIN:VEVENT
DTSTART;TZID=America/New_York:20260518T110000
DTEND;TZID=America/New_York:20260518T120000
DTSTAMP:20260423T131036
CREATED:20260303T114600Z
LAST-MODIFIED:20260322T134542Z
UID:10000255-1779102000-1779105600@aps.rsu18.org
SUMMARY:FAMILY VIOLENCE PRESENTATION PREK-2
DESCRIPTION:FAMILY VIOLENCE PRESENTATION
URL:https://aps.rsu18.org/event/family-violence-presentation-prek-2-56/
LOCATION:Atwood Elementary School\, 19 Heath St\, Oakland\, ME\, United States
GEO:44.548117;-69.720633
X-APPLE-STRUCTURED-LOCATION;VALUE=URI;X-ADDRESS=Atwood Elementary School 19 Heath St Oakland ME United States;X-APPLE-RADIUS=500;X-TITLE=19 Heath St:geo:-69.720633,44.548117
END:VEVENT
BEGIN:VEVENT
DTSTART;TZID=America/New_York:20260518T174500
DTEND;TZID=America/New_York:20260518T194500
DTSTAMP:20260423T131036
CREATED:20250805T140604Z
LAST-MODIFIED:20250826T163900Z
UID:10000112-1779126300-1779133500@aps.rsu18.org
SUMMARY:Cub Scout Pack 454 Meeting
DESCRIPTION:Cub Scout meeting (Must keep area clean after use)\nJoin with Google Meet: https://meet.google.com/sxm-wexy-wws\nOr dial: (US) +1 641-812-2139 PIN: 948569748#\nLearn more about Meet at: https://support.google.com/a/users/answer/9282720
URL:https://aps.rsu18.org/event/cub-scout-pack-454-meeting-41/
LOCATION:Atwood Elementary School\, 19 Heath St\, Oakland\, ME\, United States
GEO:44.548117;-69.720633
X-APPLE-STRUCTURED-LOCATION;VALUE=URI;X-ADDRESS=Atwood Elementary School 19 Heath St Oakland ME United States;X-APPLE-RADIUS=500;X-TITLE=19 Heath St:geo:-69.720633,44.548117
END:VEVENT
BEGIN:VEVENT
DTSTART;TZID=America/New_York:20260518T174500
DTEND;TZID=America/New_York:20260518T194500
DTSTAMP:20260423T131036
CREATED:20250827T164610Z
LAST-MODIFIED:20260423T153039Z
UID:10000151-1779126300-1779133500@aps.rsu18.org
SUMMARY:Cub Scout Pack 454 Meeting
DESCRIPTION:Cub Scout meeting (Must keep area clean after use)\nJoin with Google Meet: https://meet.google.com/sxm-wexy-wws\nOr dial: (US) +1 641-812-2139 PIN: 948569748#\nLearn more about Meet at: https://support.google.com/a/users/answer/9282720
URL:https://aps.rsu18.org/event/cub-scout-pack-454-meeting-80/
LOCATION:Atwood Elementary School\, 19 Heath St\, Oakland\, ME\, United States
GEO:44.548117;-69.720633
X-APPLE-STRUCTURED-LOCATION;VALUE=URI;X-ADDRESS=Atwood Elementary School 19 Heath St Oakland ME United States;X-APPLE-RADIUS=500;X-TITLE=19 Heath St:geo:-69.720633,44.548117
END:VEVENT
BEGIN:VEVENT
DTSTART;TZID=America/New_York:20260519T110000
DTEND;TZID=America/New_York:20260519T120000
DTSTAMP:20260423T131036
CREATED:20260303T114601Z
LAST-MODIFIED:20260322T134542Z
UID:10000256-1779188400-1779192000@aps.rsu18.org
SUMMARY:FAMILY VIOLENCE PRESENTATION PREK-2
DESCRIPTION:FAMILY VIOLENCE PRESENTATION
URL:https://aps.rsu18.org/event/family-violence-presentation-prek-2-57/
LOCATION:Atwood Elementary School\, 19 Heath St\, Oakland\, ME\, United States
GEO:44.548117;-69.720633
X-APPLE-STRUCTURED-LOCATION;VALUE=URI;X-ADDRESS=Atwood Elementary School 19 Heath St Oakland ME United States;X-APPLE-RADIUS=500;X-TITLE=19 Heath St:geo:-69.720633,44.548117
END:VEVENT
BEGIN:VEVENT
DTSTART;TZID=America/New_York:20260520T110000
DTEND;TZID=America/New_York:20260520T120000
DTSTAMP:20260423T131036
CREATED:20260303T114601Z
LAST-MODIFIED:20260322T134542Z
UID:10000257-1779274800-1779278400@aps.rsu18.org
SUMMARY:FAMILY VIOLENCE PRESENTATION PREK-2
DESCRIPTION:FAMILY VIOLENCE PRESENTATION
URL:https://aps.rsu18.org/event/family-violence-presentation-prek-2-58/
LOCATION:Atwood Elementary School\, 19 Heath St\, Oakland\, ME\, United States
GEO:44.548117;-69.720633
X-APPLE-STRUCTURED-LOCATION;VALUE=URI;X-ADDRESS=Atwood Elementary School 19 Heath St Oakland ME United States;X-APPLE-RADIUS=500;X-TITLE=19 Heath St:geo:-69.720633,44.548117
END:VEVENT
BEGIN:VEVENT
DTSTART;TZID=America/New_York:20260521T110000
DTEND;TZID=America/New_York:20260521T120000
DTSTAMP:20260423T131036
CREATED:20260303T114601Z
LAST-MODIFIED:20260322T134543Z
UID:10000258-1779361200-1779364800@aps.rsu18.org
SUMMARY:FAMILY VIOLENCE PRESENTATION PREK-2
DESCRIPTION:FAMILY VIOLENCE PRESENTATION
URL:https://aps.rsu18.org/event/family-violence-presentation-prek-2-59/
LOCATION:Atwood Elementary School\, 19 Heath St\, Oakland\, ME\, United States
GEO:44.548117;-69.720633
X-APPLE-STRUCTURED-LOCATION;VALUE=URI;X-ADDRESS=Atwood Elementary School 19 Heath St Oakland ME United States;X-APPLE-RADIUS=500;X-TITLE=19 Heath St:geo:-69.720633,44.548117
END:VEVENT
BEGIN:VEVENT
DTSTART;TZID=America/New_York:20260522T110000
DTEND;TZID=America/New_York:20260522T120000
DTSTAMP:20260423T131036
CREATED:20260303T114602Z
LAST-MODIFIED:20260322T134543Z
UID:10000259-1779447600-1779451200@aps.rsu18.org
SUMMARY:FAMILY VIOLENCE PRESENTATION PREK-2
DESCRIPTION:FAMILY VIOLENCE PRESENTATION
URL:https://aps.rsu18.org/event/family-violence-presentation-prek-2-60/
LOCATION:Atwood Elementary School\, 19 Heath St\, Oakland\, ME\, United States
GEO:44.548117;-69.720633
X-APPLE-STRUCTURED-LOCATION;VALUE=URI;X-ADDRESS=Atwood Elementary School 19 Heath St Oakland ME United States;X-APPLE-RADIUS=500;X-TITLE=19 Heath St:geo:-69.720633,44.548117
END:VEVENT
BEGIN:VEVENT
DTSTART;TZID=America/New_York:20260523T110000
DTEND;TZID=America/New_York:20260523T120000
DTSTAMP:20260423T131036
CREATED:20260303T114602Z
LAST-MODIFIED:20260322T134543Z
UID:10000260-1779534000-1779537600@aps.rsu18.org
SUMMARY:FAMILY VIOLENCE PRESENTATION PREK-2
DESCRIPTION:FAMILY VIOLENCE PRESENTATION
URL:https://aps.rsu18.org/event/family-violence-presentation-prek-2-61/
LOCATION:Atwood Elementary School\, 19 Heath St\, Oakland\, ME\, United States
GEO:44.548117;-69.720633
X-APPLE-STRUCTURED-LOCATION;VALUE=URI;X-ADDRESS=Atwood Elementary School 19 Heath St Oakland ME United States;X-APPLE-RADIUS=500;X-TITLE=19 Heath St:geo:-69.720633,44.548117
END:VEVENT
BEGIN:VEVENT
DTSTART;TZID=America/New_York:20260524T110000
DTEND;TZID=America/New_York:20260524T120000
DTSTAMP:20260423T131036
CREATED:20260303T114602Z
LAST-MODIFIED:20260322T134543Z
UID:10000261-1779620400-1779624000@aps.rsu18.org
SUMMARY:FAMILY VIOLENCE PRESENTATION PREK-2
DESCRIPTION:FAMILY VIOLENCE PRESENTATION
URL:https://aps.rsu18.org/event/family-violence-presentation-prek-2-62/
LOCATION:Atwood Elementary School\, 19 Heath St\, Oakland\, ME\, United States
GEO:44.548117;-69.720633
X-APPLE-STRUCTURED-LOCATION;VALUE=URI;X-ADDRESS=Atwood Elementary School 19 Heath St Oakland ME United States;X-APPLE-RADIUS=500;X-TITLE=19 Heath St:geo:-69.720633,44.548117
END:VEVENT
BEGIN:VEVENT
DTSTART;TZID=America/New_York:20260525T110000
DTEND;TZID=America/New_York:20260525T120000
DTSTAMP:20260423T131036
CREATED:20260303T114602Z
LAST-MODIFIED:20260322T134543Z
UID:10000262-1779706800-1779710400@aps.rsu18.org
SUMMARY:FAMILY VIOLENCE PRESENTATION PREK-2
DESCRIPTION:FAMILY VIOLENCE PRESENTATION
URL:https://aps.rsu18.org/event/family-violence-presentation-prek-2-63/
LOCATION:Atwood Elementary School\, 19 Heath St\, Oakland\, ME\, United States
GEO:44.548117;-69.720633
X-APPLE-STRUCTURED-LOCATION;VALUE=URI;X-ADDRESS=Atwood Elementary School 19 Heath St Oakland ME United States;X-APPLE-RADIUS=500;X-TITLE=19 Heath St:geo:-69.720633,44.548117
END:VEVENT
BEGIN:VEVENT
DTSTART;TZID=America/New_York:20260525T174500
DTEND;TZID=America/New_York:20260525T194500
DTSTAMP:20260423T131036
CREATED:20250805T140604Z
LAST-MODIFIED:20250826T163900Z
UID:10000113-1779731100-1779738300@aps.rsu18.org
SUMMARY:Cub Scout Pack 454 Meeting
DESCRIPTION:Cub Scout meeting (Must keep area clean after use)\nJoin with Google Meet: https://meet.google.com/sxm-wexy-wws\nOr dial: (US) +1 641-812-2139 PIN: 948569748#\nLearn more about Meet at: https://support.google.com/a/users/answer/9282720
URL:https://aps.rsu18.org/event/cub-scout-pack-454-meeting-42/
LOCATION:Atwood Elementary School\, 19 Heath St\, Oakland\, ME\, United States
GEO:44.548117;-69.720633
X-APPLE-STRUCTURED-LOCATION;VALUE=URI;X-ADDRESS=Atwood Elementary School 19 Heath St Oakland ME United States;X-APPLE-RADIUS=500;X-TITLE=19 Heath St:geo:-69.720633,44.548117
END:VEVENT
END:VCALENDAR