BEGIN:VCALENDAR
VERSION:2.0
PRODID:-//Atwood Primary - ECPv6.14.2//NONSGML v1.0//EN
CALSCALE:GREGORIAN
METHOD:PUBLISH
X-ORIGINAL-URL:https://aps.rsu18.org
X-WR-CALDESC:Events for Atwood Primary
REFRESH-INTERVAL;VALUE=DURATION:PT1H
X-Robots-Tag:noindex
X-PUBLISHED-TTL:PT1H
BEGIN:VTIMEZONE
TZID:America/New_York
BEGIN:DAYLIGHT
TZOFFSETFROM:-0500
TZOFFSETTO:-0400
TZNAME:EDT
DTSTART:20260308T070000
END:DAYLIGHT
BEGIN:STANDARD
TZOFFSETFROM:-0400
TZOFFSETTO:-0500
TZNAME:EST
DTSTART:20261101T060000
END:STANDARD
END:VTIMEZONE
BEGIN:VEVENT
DTSTART;TZID=America/New_York:20260426T110000
DTEND;TZID=America/New_York:20260426T120000
DTSTAMP:20260423T144930
CREATED:20260303T114555Z
LAST-MODIFIED:20260322T134537Z
UID:10000233-1777201200-1777204800@aps.rsu18.org
SUMMARY:FAMILY VIOLENCE PRESENTATION PREK-2
DESCRIPTION:FAMILY VIOLENCE PRESENTATION
URL:https://aps.rsu18.org/event/family-violence-presentation-prek-2-34/
LOCATION:Atwood Elementary School\, 19 Heath St\, Oakland\, ME\, United States
GEO:44.548117;-69.720633
X-APPLE-STRUCTURED-LOCATION;VALUE=URI;X-ADDRESS=Atwood Elementary School 19 Heath St Oakland ME United States;X-APPLE-RADIUS=500;X-TITLE=19 Heath St:geo:-69.720633,44.548117
END:VEVENT
BEGIN:VEVENT
DTSTART;TZID=America/New_York:20260425T110000
DTEND;TZID=America/New_York:20260425T120000
DTSTAMP:20260423T144930
CREATED:20260303T114555Z
LAST-MODIFIED:20260322T134536Z
UID:10000232-1777114800-1777118400@aps.rsu18.org
SUMMARY:FAMILY VIOLENCE PRESENTATION PREK-2
DESCRIPTION:FAMILY VIOLENCE PRESENTATION
URL:https://aps.rsu18.org/event/family-violence-presentation-prek-2-33/
LOCATION:Atwood Elementary School\, 19 Heath St\, Oakland\, ME\, United States
GEO:44.548117;-69.720633
X-APPLE-STRUCTURED-LOCATION;VALUE=URI;X-ADDRESS=Atwood Elementary School 19 Heath St Oakland ME United States;X-APPLE-RADIUS=500;X-TITLE=19 Heath St:geo:-69.720633,44.548117
END:VEVENT
BEGIN:VEVENT
DTSTART;TZID=America/New_York:20260424T110000
DTEND;TZID=America/New_York:20260424T120000
DTSTAMP:20260423T144930
CREATED:20260303T114554Z
LAST-MODIFIED:20260322T134536Z
UID:10000231-1777028400-1777032000@aps.rsu18.org
SUMMARY:FAMILY VIOLENCE PRESENTATION PREK-2
DESCRIPTION:FAMILY VIOLENCE PRESENTATION
URL:https://aps.rsu18.org/event/family-violence-presentation-prek-2-32/
LOCATION:Atwood Elementary School\, 19 Heath St\, Oakland\, ME\, United States
GEO:44.548117;-69.720633
X-APPLE-STRUCTURED-LOCATION;VALUE=URI;X-ADDRESS=Atwood Elementary School 19 Heath St Oakland ME United States;X-APPLE-RADIUS=500;X-TITLE=19 Heath St:geo:-69.720633,44.548117
END:VEVENT
BEGIN:VEVENT
DTSTART;VALUE=DATE:20260424
DTEND;VALUE=DATE:20260425
DTSTAMP:20260423T144930
CREATED:20250912T181640Z
LAST-MODIFIED:20260423T153038Z
UID:10000186-1776988800-1777075199@aps.rsu18.org
SUMMARY:SPRING BREAK - NO SCHOOL
DESCRIPTION:
URL:https://aps.rsu18.org/event/spring-break-no-school-8/
LOCATION:ME
END:VEVENT
BEGIN:VEVENT
DTSTART;TZID=America/New_York:20260423T110000
DTEND;TZID=America/New_York:20260423T120000
DTSTAMP:20260423T144930
CREATED:20260303T114554Z
LAST-MODIFIED:20260322T134536Z
UID:10000230-1776942000-1776945600@aps.rsu18.org
SUMMARY:FAMILY VIOLENCE PRESENTATION PREK-2
DESCRIPTION:FAMILY VIOLENCE PRESENTATION
URL:https://aps.rsu18.org/event/family-violence-presentation-prek-2-31/
LOCATION:Atwood Elementary School\, 19 Heath St\, Oakland\, ME\, United States
GEO:44.548117;-69.720633
X-APPLE-STRUCTURED-LOCATION;VALUE=URI;X-ADDRESS=Atwood Elementary School 19 Heath St Oakland ME United States;X-APPLE-RADIUS=500;X-TITLE=19 Heath St:geo:-69.720633,44.548117
END:VEVENT
BEGIN:VEVENT
DTSTART;VALUE=DATE:20260423
DTEND;VALUE=DATE:20260424
DTSTAMP:20260423T144930
CREATED:20250912T181639Z
LAST-MODIFIED:20260423T153038Z
UID:10000179-1776902400-1776988799@aps.rsu18.org
SUMMARY:SPRING BREAK - NO SCHOOL
DESCRIPTION:
URL:https://aps.rsu18.org/event/spring-break-no-school/
LOCATION:ME
END:VEVENT
BEGIN:VEVENT
DTSTART;TZID=America/New_York:20260422T110000
DTEND;TZID=America/New_York:20260422T120000
DTSTAMP:20260423T144930
CREATED:20260303T114553Z
LAST-MODIFIED:20260322T134534Z
UID:10000229-1776855600-1776859200@aps.rsu18.org
SUMMARY:FAMILY VIOLENCE PRESENTATION PREK-2
DESCRIPTION:FAMILY VIOLENCE PRESENTATION
URL:https://aps.rsu18.org/event/family-violence-presentation-prek-2-30/
LOCATION:Atwood Elementary School\, 19 Heath St\, Oakland\, ME\, United States
GEO:44.548117;-69.720633
X-APPLE-STRUCTURED-LOCATION;VALUE=URI;X-ADDRESS=Atwood Elementary School 19 Heath St Oakland ME United States;X-APPLE-RADIUS=500;X-TITLE=19 Heath St:geo:-69.720633,44.548117
END:VEVENT
BEGIN:VEVENT
DTSTART;VALUE=DATE:20260422
DTEND;VALUE=DATE:20260423
DTSTAMP:20260423T144930
CREATED:20250912T181639Z
LAST-MODIFIED:20260422T151534Z
UID:10000180-1776816000-1776902399@aps.rsu18.org
SUMMARY:SPRING BREAK - NO SCHOOL
DESCRIPTION:
URL:https://aps.rsu18.org/event/spring-break-no-school-2/
LOCATION:ME
END:VEVENT
BEGIN:VEVENT
DTSTART;TZID=America/New_York:20260421T110000
DTEND;TZID=America/New_York:20260421T120000
DTSTAMP:20260423T144930
CREATED:20260303T114553Z
LAST-MODIFIED:20260322T134534Z
UID:10000227-1776769200-1776772800@aps.rsu18.org
SUMMARY:FAMILY VIOLENCE PRESENTATION PREK-2
DESCRIPTION:FAMILY VIOLENCE PRESENTATION
URL:https://aps.rsu18.org/event/family-violence-presentation-prek-2-28/
LOCATION:Atwood Elementary School\, 19 Heath St\, Oakland\, ME\, United States
GEO:44.548117;-69.720633
X-APPLE-STRUCTURED-LOCATION;VALUE=URI;X-ADDRESS=Atwood Elementary School 19 Heath St Oakland ME United States;X-APPLE-RADIUS=500;X-TITLE=19 Heath St:geo:-69.720633,44.548117
END:VEVENT
BEGIN:VEVENT
DTSTART;VALUE=DATE:20260421
DTEND;VALUE=DATE:20260422
DTSTAMP:20260423T144930
CREATED:20250912T181639Z
LAST-MODIFIED:20260421T151558Z
UID:10000181-1776729600-1776815999@aps.rsu18.org
SUMMARY:SPRING BREAK - NO SCHOOL
DESCRIPTION:
URL:https://aps.rsu18.org/event/spring-break-no-school-3/
LOCATION:ME
END:VEVENT
BEGIN:VEVENT
DTSTART;TZID=America/New_York:20260420T174500
DTEND;TZID=America/New_York:20260420T194500
DTSTAMP:20260423T144930
CREATED:20250827T164609Z
LAST-MODIFIED:20260420T151700Z
UID:10000147-1776707100-1776714300@aps.rsu18.org
SUMMARY:Cub Scout Pack 454 Meeting
DESCRIPTION:Cub Scout meeting (Must keep area clean after use)\nJoin with Google Meet: https://meet.google.com/sxm-wexy-wws\nOr dial: (US) +1 641-812-2139 PIN: 948569748#\nLearn more about Meet at: https://support.google.com/a/users/answer/9282720
URL:https://aps.rsu18.org/event/cub-scout-pack-454-meeting-76/
LOCATION:Atwood Elementary School\, 19 Heath St\, Oakland\, ME\, United States
GEO:44.548117;-69.720633
X-APPLE-STRUCTURED-LOCATION;VALUE=URI;X-ADDRESS=Atwood Elementary School 19 Heath St Oakland ME United States;X-APPLE-RADIUS=500;X-TITLE=19 Heath St:geo:-69.720633,44.548117
END:VEVENT
BEGIN:VEVENT
DTSTART;TZID=America/New_York:20260420T174500
DTEND;TZID=America/New_York:20260420T194500
DTSTAMP:20260423T144930
CREATED:20250805T140603Z
LAST-MODIFIED:20250826T163900Z
UID:10000108-1776707100-1776714300@aps.rsu18.org
SUMMARY:Cub Scout Pack 454 Meeting
DESCRIPTION:Cub Scout meeting (Must keep area clean after use)\nJoin with Google Meet: https://meet.google.com/sxm-wexy-wws\nOr dial: (US) +1 641-812-2139 PIN: 948569748#\nLearn more about Meet at: https://support.google.com/a/users/answer/9282720
URL:https://aps.rsu18.org/event/cub-scout-pack-454-meeting-37/
LOCATION:Atwood Elementary School\, 19 Heath St\, Oakland\, ME\, United States
GEO:44.548117;-69.720633
X-APPLE-STRUCTURED-LOCATION;VALUE=URI;X-ADDRESS=Atwood Elementary School 19 Heath St Oakland ME United States;X-APPLE-RADIUS=500;X-TITLE=19 Heath St:geo:-69.720633,44.548117
END:VEVENT
BEGIN:VEVENT
DTSTART;TZID=America/New_York:20260420T110000
DTEND;TZID=America/New_York:20260420T120000
DTSTAMP:20260423T144930
CREATED:20260303T114553Z
LAST-MODIFIED:20260322T134535Z
UID:10000228-1776682800-1776686400@aps.rsu18.org
SUMMARY:FAMILY VIOLENCE PRESENTATION PREK-2
DESCRIPTION:FAMILY VIOLENCE PRESENTATION
URL:https://aps.rsu18.org/event/family-violence-presentation-prek-2-29/
LOCATION:Atwood Elementary School\, 19 Heath St\, Oakland\, ME\, United States
GEO:44.548117;-69.720633
X-APPLE-STRUCTURED-LOCATION;VALUE=URI;X-ADDRESS=Atwood Elementary School 19 Heath St Oakland ME United States;X-APPLE-RADIUS=500;X-TITLE=19 Heath St:geo:-69.720633,44.548117
END:VEVENT
BEGIN:VEVENT
DTSTART;VALUE=DATE:20260420
DTEND;VALUE=DATE:20260421
DTSTAMP:20260423T144930
CREATED:20250912T181639Z
LAST-MODIFIED:20260420T151700Z
UID:10000182-1776643200-1776729599@aps.rsu18.org
SUMMARY:SPRING BREAK - NO SCHOOL
DESCRIPTION:
URL:https://aps.rsu18.org/event/spring-break-no-school-4/
LOCATION:ME
END:VEVENT
BEGIN:VEVENT
DTSTART;TZID=America/New_York:20260419T110000
DTEND;TZID=America/New_York:20260419T120000
DTSTAMP:20260423T144930
CREATED:20260303T114552Z
LAST-MODIFIED:20260322T134535Z
UID:10000226-1776596400-1776600000@aps.rsu18.org
SUMMARY:FAMILY VIOLENCE PRESENTATION PREK-2
DESCRIPTION:FAMILY VIOLENCE PRESENTATION
URL:https://aps.rsu18.org/event/family-violence-presentation-prek-2-27/
LOCATION:Atwood Elementary School\, 19 Heath St\, Oakland\, ME\, United States
GEO:44.548117;-69.720633
X-APPLE-STRUCTURED-LOCATION;VALUE=URI;X-ADDRESS=Atwood Elementary School 19 Heath St Oakland ME United States;X-APPLE-RADIUS=500;X-TITLE=19 Heath St:geo:-69.720633,44.548117
END:VEVENT
BEGIN:VEVENT
DTSTART;VALUE=DATE:20260419
DTEND;VALUE=DATE:20260420
DTSTAMP:20260423T144930
CREATED:20250912T181639Z
LAST-MODIFIED:20260419T151526Z
UID:10000183-1776556800-1776643199@aps.rsu18.org
SUMMARY:SPRING BREAK - NO SCHOOL
DESCRIPTION:
URL:https://aps.rsu18.org/event/spring-break-no-school-5/
LOCATION:ME
END:VEVENT
BEGIN:VEVENT
DTSTART;TZID=America/New_York:20260418T110000
DTEND;TZID=America/New_York:20260418T120000
DTSTAMP:20260423T144930
CREATED:20260303T114552Z
LAST-MODIFIED:20260322T134535Z
UID:10000225-1776510000-1776513600@aps.rsu18.org
SUMMARY:FAMILY VIOLENCE PRESENTATION PREK-2
DESCRIPTION:FAMILY VIOLENCE PRESENTATION
URL:https://aps.rsu18.org/event/family-violence-presentation-prek-2-26/
LOCATION:Atwood Elementary School\, 19 Heath St\, Oakland\, ME\, United States
GEO:44.548117;-69.720633
X-APPLE-STRUCTURED-LOCATION;VALUE=URI;X-ADDRESS=Atwood Elementary School 19 Heath St Oakland ME United States;X-APPLE-RADIUS=500;X-TITLE=19 Heath St:geo:-69.720633,44.548117
END:VEVENT
BEGIN:VEVENT
DTSTART;VALUE=DATE:20260418
DTEND;VALUE=DATE:20260419
DTSTAMP:20260423T144930
CREATED:20250912T181639Z
LAST-MODIFIED:20260418T151528Z
UID:10000184-1776470400-1776556799@aps.rsu18.org
SUMMARY:SPRING BREAK - NO SCHOOL
DESCRIPTION:
URL:https://aps.rsu18.org/event/spring-break-no-school-6/
LOCATION:ME
END:VEVENT
BEGIN:VEVENT
DTSTART;TZID=America/New_York:20260417T110000
DTEND;TZID=America/New_York:20260417T120000
DTSTAMP:20260423T144930
CREATED:20260303T114552Z
LAST-MODIFIED:20260322T134534Z
UID:10000224-1776423600-1776427200@aps.rsu18.org
SUMMARY:FAMILY VIOLENCE PRESENTATION PREK-2
DESCRIPTION:FAMILY VIOLENCE PRESENTATION
URL:https://aps.rsu18.org/event/family-violence-presentation-prek-2-25/
LOCATION:Atwood Elementary School\, 19 Heath St\, Oakland\, ME\, United States
GEO:44.548117;-69.720633
X-APPLE-STRUCTURED-LOCATION;VALUE=URI;X-ADDRESS=Atwood Elementary School 19 Heath St Oakland ME United States;X-APPLE-RADIUS=500;X-TITLE=19 Heath St:geo:-69.720633,44.548117
END:VEVENT
BEGIN:VEVENT
DTSTART;VALUE=DATE:20260417
DTEND;VALUE=DATE:20260418
DTSTAMP:20260423T144930
CREATED:20250912T181639Z
LAST-MODIFIED:20260417T151640Z
UID:10000185-1776384000-1776470399@aps.rsu18.org
SUMMARY:SPRING BREAK - NO SCHOOL
DESCRIPTION:
URL:https://aps.rsu18.org/event/spring-break-no-school-7/
LOCATION:ME
END:VEVENT
BEGIN:VEVENT
DTSTART;TZID=America/New_York:20260416T110000
DTEND;TZID=America/New_York:20260416T120000
DTSTAMP:20260423T144930
CREATED:20260303T114551Z
LAST-MODIFIED:20260322T134534Z
UID:10000223-1776337200-1776340800@aps.rsu18.org
SUMMARY:FAMILY VIOLENCE PRESENTATION PREK-2
DESCRIPTION:FAMILY VIOLENCE PRESENTATION
URL:https://aps.rsu18.org/event/family-violence-presentation-prek-2-24/
LOCATION:Atwood Elementary School\, 19 Heath St\, Oakland\, ME\, United States
GEO:44.548117;-69.720633
X-APPLE-STRUCTURED-LOCATION;VALUE=URI;X-ADDRESS=Atwood Elementary School 19 Heath St Oakland ME United States;X-APPLE-RADIUS=500;X-TITLE=19 Heath St:geo:-69.720633,44.548117
END:VEVENT
BEGIN:VEVENT
DTSTART;TZID=America/New_York:20260415T110000
DTEND;TZID=America/New_York:20260415T120000
DTSTAMP:20260423T144930
CREATED:20260303T114551Z
LAST-MODIFIED:20260322T134533Z
UID:10000222-1776250800-1776254400@aps.rsu18.org
SUMMARY:FAMILY VIOLENCE PRESENTATION PREK-2
DESCRIPTION:FAMILY VIOLENCE PRESENTATION
URL:https://aps.rsu18.org/event/family-violence-presentation-prek-2-23/
LOCATION:Atwood Elementary School\, 19 Heath St\, Oakland\, ME\, United States
GEO:44.548117;-69.720633
X-APPLE-STRUCTURED-LOCATION;VALUE=URI;X-ADDRESS=Atwood Elementary School 19 Heath St Oakland ME United States;X-APPLE-RADIUS=500;X-TITLE=19 Heath St:geo:-69.720633,44.548117
END:VEVENT
BEGIN:VEVENT
DTSTART;TZID=America/New_York:20260414T110000
DTEND;TZID=America/New_York:20260414T120000
DTSTAMP:20260423T144930
CREATED:20260303T114551Z
LAST-MODIFIED:20260322T134533Z
UID:10000221-1776164400-1776168000@aps.rsu18.org
SUMMARY:FAMILY VIOLENCE PRESENTATION PREK-2
DESCRIPTION:FAMILY VIOLENCE PRESENTATION
URL:https://aps.rsu18.org/event/family-violence-presentation-prek-2-22/
LOCATION:Atwood Elementary School\, 19 Heath St\, Oakland\, ME\, United States
GEO:44.548117;-69.720633
X-APPLE-STRUCTURED-LOCATION;VALUE=URI;X-ADDRESS=Atwood Elementary School 19 Heath St Oakland ME United States;X-APPLE-RADIUS=500;X-TITLE=19 Heath St:geo:-69.720633,44.548117
END:VEVENT
BEGIN:VEVENT
DTSTART;TZID=America/New_York:20260413T174500
DTEND;TZID=America/New_York:20260413T194500
DTSTAMP:20260423T144930
CREATED:20250827T164608Z
LAST-MODIFIED:20260413T150027Z
UID:10000146-1776102300-1776109500@aps.rsu18.org
SUMMARY:Cub Scout Pack 454 Meeting
DESCRIPTION:Cub Scout meeting (Must keep area clean after use)\nJoin with Google Meet: https://meet.google.com/sxm-wexy-wws\nOr dial: (US) +1 641-812-2139 PIN: 948569748#\nLearn more about Meet at: https://support.google.com/a/users/answer/9282720
URL:https://aps.rsu18.org/event/cub-scout-pack-454-meeting-75/
LOCATION:Atwood Elementary School\, 19 Heath St\, Oakland\, ME\, United States
GEO:44.548117;-69.720633
X-APPLE-STRUCTURED-LOCATION;VALUE=URI;X-ADDRESS=Atwood Elementary School 19 Heath St Oakland ME United States;X-APPLE-RADIUS=500;X-TITLE=19 Heath St:geo:-69.720633,44.548117
END:VEVENT
BEGIN:VEVENT
DTSTART;TZID=America/New_York:20260413T174500
DTEND;TZID=America/New_York:20260413T194500
DTSTAMP:20260423T144930
CREATED:20250805T140603Z
LAST-MODIFIED:20250826T163859Z
UID:10000107-1776102300-1776109500@aps.rsu18.org
SUMMARY:Cub Scout Pack 454 Meeting
DESCRIPTION:Cub Scout meeting (Must keep area clean after use)\nJoin with Google Meet: https://meet.google.com/sxm-wexy-wws\nOr dial: (US) +1 641-812-2139 PIN: 948569748#\nLearn more about Meet at: https://support.google.com/a/users/answer/9282720
URL:https://aps.rsu18.org/event/cub-scout-pack-454-meeting-36/
LOCATION:Atwood Elementary School\, 19 Heath St\, Oakland\, ME\, United States
GEO:44.548117;-69.720633
X-APPLE-STRUCTURED-LOCATION;VALUE=URI;X-ADDRESS=Atwood Elementary School 19 Heath St Oakland ME United States;X-APPLE-RADIUS=500;X-TITLE=19 Heath St:geo:-69.720633,44.548117
END:VEVENT
BEGIN:VEVENT
DTSTART;TZID=America/New_York:20260413T110000
DTEND;TZID=America/New_York:20260413T120000
DTSTAMP:20260423T144930
CREATED:20260303T114551Z
LAST-MODIFIED:20260322T134533Z
UID:10000220-1776078000-1776081600@aps.rsu18.org
SUMMARY:FAMILY VIOLENCE PRESENTATION PREK-2
DESCRIPTION:FAMILY VIOLENCE PRESENTATION
URL:https://aps.rsu18.org/event/family-violence-presentation-prek-2-21/
LOCATION:Atwood Elementary School\, 19 Heath St\, Oakland\, ME\, United States
GEO:44.548117;-69.720633
X-APPLE-STRUCTURED-LOCATION;VALUE=URI;X-ADDRESS=Atwood Elementary School 19 Heath St Oakland ME United States;X-APPLE-RADIUS=500;X-TITLE=19 Heath St:geo:-69.720633,44.548117
END:VEVENT
BEGIN:VEVENT
DTSTART;TZID=America/New_York:20260412T110000
DTEND;TZID=America/New_York:20260412T120000
DTSTAMP:20260423T144930
CREATED:20260303T114550Z
LAST-MODIFIED:20260322T134533Z
UID:10000219-1775991600-1775995200@aps.rsu18.org
SUMMARY:FAMILY VIOLENCE PRESENTATION PREK-2
DESCRIPTION:FAMILY VIOLENCE PRESENTATION
URL:https://aps.rsu18.org/event/family-violence-presentation-prek-2-20/
LOCATION:Atwood Elementary School\, 19 Heath St\, Oakland\, ME\, United States
GEO:44.548117;-69.720633
X-APPLE-STRUCTURED-LOCATION;VALUE=URI;X-ADDRESS=Atwood Elementary School 19 Heath St Oakland ME United States;X-APPLE-RADIUS=500;X-TITLE=19 Heath St:geo:-69.720633,44.548117
END:VEVENT
BEGIN:VEVENT
DTSTART;TZID=America/New_York:20260411T110000
DTEND;TZID=America/New_York:20260411T120000
DTSTAMP:20260423T144930
CREATED:20260303T114550Z
LAST-MODIFIED:20260322T134532Z
UID:10000218-1775905200-1775908800@aps.rsu18.org
SUMMARY:FAMILY VIOLENCE PRESENTATION PREK-2
DESCRIPTION:FAMILY VIOLENCE PRESENTATION
URL:https://aps.rsu18.org/event/family-violence-presentation-prek-2-19/
LOCATION:Atwood Elementary School\, 19 Heath St\, Oakland\, ME\, United States
GEO:44.548117;-69.720633
X-APPLE-STRUCTURED-LOCATION;VALUE=URI;X-ADDRESS=Atwood Elementary School 19 Heath St Oakland ME United States;X-APPLE-RADIUS=500;X-TITLE=19 Heath St:geo:-69.720633,44.548117
END:VEVENT
BEGIN:VEVENT
DTSTART;TZID=America/New_York:20260410T110000
DTEND;TZID=America/New_York:20260410T120000
DTSTAMP:20260423T144930
CREATED:20260303T114550Z
LAST-MODIFIED:20260322T134532Z
UID:10000217-1775818800-1775822400@aps.rsu18.org
SUMMARY:FAMILY VIOLENCE PRESENTATION PREK-2
DESCRIPTION:FAMILY VIOLENCE PRESENTATION
URL:https://aps.rsu18.org/event/family-violence-presentation-prek-2-18/
LOCATION:Atwood Elementary School\, 19 Heath St\, Oakland\, ME\, United States
GEO:44.548117;-69.720633
X-APPLE-STRUCTURED-LOCATION;VALUE=URI;X-ADDRESS=Atwood Elementary School 19 Heath St Oakland ME United States;X-APPLE-RADIUS=500;X-TITLE=19 Heath St:geo:-69.720633,44.548117
END:VEVENT
BEGIN:VEVENT
DTSTART;TZID=America/New_York:20260409T170000
DTEND;TZID=America/New_York:20260409T180000
DTSTAMP:20260423T144930
CREATED:20260323T134634Z
LAST-MODIFIED:20260409T150059Z
UID:10000295-1775754000-1775757600@aps.rsu18.org
SUMMARY:Kindergarten Open House
DESCRIPTION:
URL:https://aps.rsu18.org/event/kindergarten-open-house-2/
LOCATION:Atwood Elementary School\, 19 Heath St\, Oakland\, ME\, United States
GEO:44.548117;-69.720633
X-APPLE-STRUCTURED-LOCATION;VALUE=URI;X-ADDRESS=Atwood Elementary School 19 Heath St Oakland ME United States;X-APPLE-RADIUS=500;X-TITLE=19 Heath St:geo:-69.720633,44.548117
END:VEVENT
END:VCALENDAR