BEGIN:VCALENDAR
VERSION:2.0
PRODID:-//Atwood Primary - ECPv6.14.2//NONSGML v1.0//EN
CALSCALE:GREGORIAN
METHOD:PUBLISH
X-ORIGINAL-URL:https://aps.rsu18.org
X-WR-CALDESC:Events for Atwood Primary
REFRESH-INTERVAL;VALUE=DURATION:PT1H
X-Robots-Tag:noindex
X-PUBLISHED-TTL:PT1H
BEGIN:VTIMEZONE
TZID:America/New_York
BEGIN:DAYLIGHT
TZOFFSETFROM:-0500
TZOFFSETTO:-0400
TZNAME:EDT
DTSTART:20260308T070000
END:DAYLIGHT
BEGIN:STANDARD
TZOFFSETFROM:-0400
TZOFFSETTO:-0500
TZNAME:EST
DTSTART:20261101T060000
END:STANDARD
END:VTIMEZONE
BEGIN:VEVENT
DTSTART;TZID=America/New_York:20260319T150000
DTEND;TZID=America/New_York:20260319T190000
DTSTAMP:20260423T192655
CREATED:20260303T114545Z
LAST-MODIFIED:20260319T133047Z
UID:10000198-1773932400-1773946800@aps.rsu18.org
SUMMARY:PARENT/TEACHER CONFERENCES
DESCRIPTION:PARENT TEACHER CONFERENCE NIGHT & Fun Math Games
URL:https://aps.rsu18.org/event/parent-teacher-conferences/
LOCATION:Atwood Elementary School\, 19 Heath St\, Oakland\, ME\, United States
GEO:44.548117;-69.720633
X-APPLE-STRUCTURED-LOCATION;VALUE=URI;X-ADDRESS=Atwood Elementary School 19 Heath St Oakland ME United States;X-APPLE-RADIUS=500;X-TITLE=19 Heath St:geo:-69.720633,44.548117
END:VEVENT
BEGIN:VEVENT
DTSTART;TZID=America/New_York:20260316T174500
DTEND;TZID=America/New_York:20260316T194500
DTSTAMP:20260423T192655
CREATED:20250827T164607Z
LAST-MODIFIED:20260316T130047Z
UID:10000142-1773683100-1773690300@aps.rsu18.org
SUMMARY:Cub Scout Pack 454 Meeting
DESCRIPTION:Cub Scout meeting (Must keep area clean after use)\nJoin with Google Meet: https://meet.google.com/sxm-wexy-wws\nOr dial: (US) +1 641-812-2139 PIN: 948569748#\nLearn more about Meet at: https://support.google.com/a/users/answer/9282720
URL:https://aps.rsu18.org/event/cub-scout-pack-454-meeting-71/
LOCATION:Atwood Elementary School\, 19 Heath St\, Oakland\, ME\, United States
GEO:44.548117;-69.720633
X-APPLE-STRUCTURED-LOCATION;VALUE=URI;X-ADDRESS=Atwood Elementary School 19 Heath St Oakland ME United States;X-APPLE-RADIUS=500;X-TITLE=19 Heath St:geo:-69.720633,44.548117
END:VEVENT
BEGIN:VEVENT
DTSTART;TZID=America/New_York:20260316T174500
DTEND;TZID=America/New_York:20260316T194500
DTSTAMP:20260423T192655
CREATED:20250805T140602Z
LAST-MODIFIED:20250826T163859Z
UID:10000103-1773683100-1773690300@aps.rsu18.org
SUMMARY:Cub Scout Pack 454 Meeting
DESCRIPTION:Cub Scout meeting (Must keep area clean after use)\nJoin with Google Meet: https://meet.google.com/sxm-wexy-wws\nOr dial: (US) +1 641-812-2139 PIN: 948569748#\nLearn more about Meet at: https://support.google.com/a/users/answer/9282720
URL:https://aps.rsu18.org/event/cub-scout-pack-454-meeting-32/
LOCATION:Atwood Elementary School\, 19 Heath St\, Oakland\, ME\, United States
GEO:44.548117;-69.720633
X-APPLE-STRUCTURED-LOCATION;VALUE=URI;X-ADDRESS=Atwood Elementary School 19 Heath St Oakland ME United States;X-APPLE-RADIUS=500;X-TITLE=19 Heath St:geo:-69.720633,44.548117
END:VEVENT
BEGIN:VEVENT
DTSTART;VALUE=DATE:20260313
DTEND;VALUE=DATE:20260314
DTSTAMP:20260423T192655
CREATED:20260303T114545Z
LAST-MODIFIED:20260313T123049Z
UID:10000197-1773360000-1773446399@aps.rsu18.org
SUMMARY:WORKSHOP DAY NO SCHOOL
DESCRIPTION:NO SCHOOL WORKSHOP DAY
URL:https://aps.rsu18.org/event/workshop-day-no-school/
LOCATION:Atwood Elementary School\, 19 Heath St\, Oakland\, ME\, United States
GEO:44.548117;-69.720633
X-APPLE-STRUCTURED-LOCATION;VALUE=URI;X-ADDRESS=Atwood Elementary School 19 Heath St Oakland ME United States;X-APPLE-RADIUS=500;X-TITLE=19 Heath St:geo:-69.720633,44.548117
END:VEVENT
BEGIN:VEVENT
DTSTART;VALUE=DATE:20260313
DTEND;VALUE=DATE:20260314
DTSTAMP:20260423T192655
CREATED:20250912T181637Z
LAST-MODIFIED:20260313T123049Z
UID:10000178-1773360000-1773446399@aps.rsu18.org
SUMMARY:NO SCHOOL
DESCRIPTION:
URL:https://aps.rsu18.org/event/no-school-9/
LOCATION:ME
END:VEVENT
BEGIN:VEVENT
DTSTART;TZID=America/New_York:20260310T083000
DTEND;TZID=America/New_York:20260310T113000
DTSTAMP:20260423T192655
CREATED:20260303T114545Z
LAST-MODIFIED:20260310T121549Z
UID:10000196-1773131400-1773142200@aps.rsu18.org
SUMMARY:CHILDREN'S DISCOVERY MUSEUM
DESCRIPTION:GRADE 1 FIELD TRIP
URL:https://aps.rsu18.org/event/childrens-discovery-museum/
LOCATION:Atwood Elementary School\, 19 Heath St\, Oakland\, ME\, United States
GEO:44.548117;-69.720633
X-APPLE-STRUCTURED-LOCATION;VALUE=URI;X-ADDRESS=Atwood Elementary School 19 Heath St Oakland ME United States;X-APPLE-RADIUS=500;X-TITLE=19 Heath St:geo:-69.720633,44.548117
END:VEVENT
BEGIN:VEVENT
DTSTART;TZID=America/New_York:20260309T174500
DTEND;TZID=America/New_York:20260309T194500
DTSTAMP:20260423T192655
CREATED:20250827T164606Z
LAST-MODIFIED:20260309T121527Z
UID:10000141-1773078300-1773085500@aps.rsu18.org
SUMMARY:Cub Scout Pack 454 Meeting
DESCRIPTION:Cub Scout meeting (Must keep area clean after use)\nJoin with Google Meet: https://meet.google.com/sxm-wexy-wws\nOr dial: (US) +1 641-812-2139 PIN: 948569748#\nLearn more about Meet at: https://support.google.com/a/users/answer/9282720
URL:https://aps.rsu18.org/event/cub-scout-pack-454-meeting-70/
LOCATION:Atwood Elementary School\, 19 Heath St\, Oakland\, ME\, United States
GEO:44.548117;-69.720633
X-APPLE-STRUCTURED-LOCATION;VALUE=URI;X-ADDRESS=Atwood Elementary School 19 Heath St Oakland ME United States;X-APPLE-RADIUS=500;X-TITLE=19 Heath St:geo:-69.720633,44.548117
END:VEVENT
BEGIN:VEVENT
DTSTART;TZID=America/New_York:20260309T174500
DTEND;TZID=America/New_York:20260309T194500
DTSTAMP:20260423T192655
CREATED:20250805T140602Z
LAST-MODIFIED:20250826T163858Z
UID:10000102-1773078300-1773085500@aps.rsu18.org
SUMMARY:Cub Scout Pack 454 Meeting
DESCRIPTION:Cub Scout meeting (Must keep area clean after use)\nJoin with Google Meet: https://meet.google.com/sxm-wexy-wws\nOr dial: (US) +1 641-812-2139 PIN: 948569748#\nLearn more about Meet at: https://support.google.com/a/users/answer/9282720
URL:https://aps.rsu18.org/event/cub-scout-pack-454-meeting-31/
LOCATION:Atwood Elementary School\, 19 Heath St\, Oakland\, ME\, United States
GEO:44.548117;-69.720633
X-APPLE-STRUCTURED-LOCATION;VALUE=URI;X-ADDRESS=Atwood Elementary School 19 Heath St Oakland ME United States;X-APPLE-RADIUS=500;X-TITLE=19 Heath St:geo:-69.720633,44.548117
END:VEVENT
BEGIN:VEVENT
DTSTART;VALUE=DATE:20260304
DTEND;VALUE=DATE:20260305
DTSTAMP:20260423T192655
CREATED:20260303T114544Z
LAST-MODIFIED:20260304T120046Z
UID:10000195-1772582400-1772668799@aps.rsu18.org
SUMMARY:CHEWONKI OWL EXHIBIT AT ATW
DESCRIPTION:CHEWONKI OWLS TO VISIT ATW\nJoin with Google Meet: https://meet.google.com/knt-tafz-rdg\nOr dial: (US) +1 406-616-3139 PIN: 605545439#\nLearn more about Meet at: https://support.google.com/a/users/answer/9282720
URL:https://aps.rsu18.org/event/chewonki-owl-exhibit-at-atw/
LOCATION:Atwood Elementary School\, 19 Heath St\, Oakland\, ME\, United States
GEO:44.548117;-69.720633
X-APPLE-STRUCTURED-LOCATION;VALUE=URI;X-ADDRESS=Atwood Elementary School 19 Heath St Oakland ME United States;X-APPLE-RADIUS=500;X-TITLE=19 Heath St:geo:-69.720633,44.548117
END:VEVENT
BEGIN:VEVENT
DTSTART;TZID=America/New_York:20260303T080000
DTEND;TZID=America/New_York:20260303T113000
DTSTAMP:20260423T192655
CREATED:20260303T114544Z
LAST-MODIFIED:20260303T114544Z
UID:10000194-1772524800-1772537400@aps.rsu18.org
SUMMARY:EARLY RELEASE DAY 11:30 DISMISSAL
DESCRIPTION:STUDENTS WILL BE DISMISSED AT 11:30 A.M.
URL:https://aps.rsu18.org/event/early-release-day-1130-dismissal/
LOCATION:Atwood Elementary School\, 19 Heath St\, Oakland\, ME\, United States
GEO:44.548117;-69.720633
X-APPLE-STRUCTURED-LOCATION;VALUE=URI;X-ADDRESS=Atwood Elementary School 19 Heath St Oakland ME United States;X-APPLE-RADIUS=500;X-TITLE=19 Heath St:geo:-69.720633,44.548117
END:VEVENT
BEGIN:VEVENT
DTSTART;TZID=America/New_York:20260302T174500
DTEND;TZID=America/New_York:20260302T194500
DTSTAMP:20260423T192655
CREATED:20250827T164606Z
LAST-MODIFIED:20260301T235103Z
UID:10000140-1772473500-1772480700@aps.rsu18.org
SUMMARY:Cub Scout Pack 454 Meeting
DESCRIPTION:Cub Scout meeting (Must keep area clean after use)\nJoin with Google Meet: https://meet.google.com/sxm-wexy-wws\nOr dial: (US) +1 641-812-2139 PIN: 948569748#\nLearn more about Meet at: https://support.google.com/a/users/answer/9282720
URL:https://aps.rsu18.org/event/cub-scout-pack-454-meeting-69/
LOCATION:Atwood Elementary School\, 19 Heath St\, Oakland\, ME\, United States
GEO:44.548117;-69.720633
X-APPLE-STRUCTURED-LOCATION;VALUE=URI;X-ADDRESS=Atwood Elementary School 19 Heath St Oakland ME United States;X-APPLE-RADIUS=500;X-TITLE=19 Heath St:geo:-69.720633,44.548117
END:VEVENT
BEGIN:VEVENT
DTSTART;TZID=America/New_York:20260302T174500
DTEND;TZID=America/New_York:20260302T194500
DTSTAMP:20260423T192655
CREATED:20250805T140602Z
LAST-MODIFIED:20250826T163858Z
UID:10000101-1772473500-1772480700@aps.rsu18.org
SUMMARY:Cub Scout Pack 454 Meeting
DESCRIPTION:Cub Scout meeting (Must keep area clean after use)\nJoin with Google Meet: https://meet.google.com/sxm-wexy-wws\nOr dial: (US) +1 641-812-2139 PIN: 948569748#\nLearn more about Meet at: https://support.google.com/a/users/answer/9282720
URL:https://aps.rsu18.org/event/cub-scout-pack-454-meeting-30/
LOCATION:Atwood Elementary School\, 19 Heath St\, Oakland\, ME\, United States
GEO:44.548117;-69.720633
X-APPLE-STRUCTURED-LOCATION;VALUE=URI;X-ADDRESS=Atwood Elementary School 19 Heath St Oakland ME United States;X-APPLE-RADIUS=500;X-TITLE=19 Heath St:geo:-69.720633,44.548117
END:VEVENT
BEGIN:VEVENT
DTSTART;TZID=America/New_York:20260223T174500
DTEND;TZID=America/New_York:20260223T194500
DTSTAMP:20260423T192655
CREATED:20250827T164606Z
LAST-MODIFIED:20260223T231530Z
UID:10000139-1771868700-1771875900@aps.rsu18.org
SUMMARY:Cub Scout Pack 454 Meeting
DESCRIPTION:Cub Scout meeting (Must keep area clean after use)\nJoin with Google Meet: https://meet.google.com/sxm-wexy-wws\nOr dial: (US) +1 641-812-2139 PIN: 948569748#\nLearn more about Meet at: https://support.google.com/a/users/answer/9282720
URL:https://aps.rsu18.org/event/cub-scout-pack-454-meeting-68/
LOCATION:Atwood Elementary School\, 19 Heath St\, Oakland\, ME\, United States
GEO:44.548117;-69.720633
X-APPLE-STRUCTURED-LOCATION;VALUE=URI;X-ADDRESS=Atwood Elementary School 19 Heath St Oakland ME United States;X-APPLE-RADIUS=500;X-TITLE=19 Heath St:geo:-69.720633,44.548117
END:VEVENT
BEGIN:VEVENT
DTSTART;TZID=America/New_York:20260223T174500
DTEND;TZID=America/New_York:20260223T194500
DTSTAMP:20260423T192655
CREATED:20250805T140601Z
LAST-MODIFIED:20250826T163858Z
UID:10000100-1771868700-1771875900@aps.rsu18.org
SUMMARY:Cub Scout Pack 454 Meeting
DESCRIPTION:Cub Scout meeting (Must keep area clean after use)\nJoin with Google Meet: https://meet.google.com/sxm-wexy-wws\nOr dial: (US) +1 641-812-2139 PIN: 948569748#\nLearn more about Meet at: https://support.google.com/a/users/answer/9282720
URL:https://aps.rsu18.org/event/cub-scout-pack-454-meeting-29/
LOCATION:Atwood Elementary School\, 19 Heath St\, Oakland\, ME\, United States
GEO:44.548117;-69.720633
X-APPLE-STRUCTURED-LOCATION;VALUE=URI;X-ADDRESS=Atwood Elementary School 19 Heath St Oakland ME United States;X-APPLE-RADIUS=500;X-TITLE=19 Heath St:geo:-69.720633,44.548117
END:VEVENT
BEGIN:VEVENT
DTSTART;VALUE=DATE:20260220
DTEND;VALUE=DATE:20260221
DTSTAMP:20260423T192655
CREATED:20250912T181637Z
LAST-MODIFIED:20260220T230037Z
UID:10000176-1771545600-1771631999@aps.rsu18.org
SUMMARY:FEBRUARY BREAK
DESCRIPTION:
URL:https://aps.rsu18.org/event/february-break-4/
LOCATION:ME
END:VEVENT
BEGIN:VEVENT
DTSTART;VALUE=DATE:20260219
DTEND;VALUE=DATE:20260220
DTSTAMP:20260423T192655
CREATED:20250912T181637Z
LAST-MODIFIED:20260219T230157Z
UID:10000177-1771459200-1771545599@aps.rsu18.org
SUMMARY:FEBRUARY BREAK
DESCRIPTION:
URL:https://aps.rsu18.org/event/february-break-5/
LOCATION:ME
END:VEVENT
BEGIN:VEVENT
DTSTART;VALUE=DATE:20260218
DTEND;VALUE=DATE:20260219
DTSTAMP:20260423T192655
CREATED:20250912T181636Z
LAST-MODIFIED:20260218T230031Z
UID:10000174-1771372800-1771459199@aps.rsu18.org
SUMMARY:FEBRUARY BREAK
DESCRIPTION:
URL:https://aps.rsu18.org/event/february-break-2/
LOCATION:ME
END:VEVENT
BEGIN:VEVENT
DTSTART;VALUE=DATE:20260217
DTEND;VALUE=DATE:20260218
DTSTAMP:20260423T192655
CREATED:20250912T181636Z
LAST-MODIFIED:20260217T230036Z
UID:10000175-1771286400-1771372799@aps.rsu18.org
SUMMARY:FEBRUARY BREAK
DESCRIPTION:
URL:https://aps.rsu18.org/event/february-break-3/
LOCATION:ME
END:VEVENT
BEGIN:VEVENT
DTSTART;TZID=America/New_York:20260216T174500
DTEND;TZID=America/New_York:20260216T194500
DTSTAMP:20260423T192655
CREATED:20250827T164605Z
LAST-MODIFIED:20260216T224812Z
UID:10000138-1771263900-1771271100@aps.rsu18.org
SUMMARY:Cub Scout Pack 454 Meeting
DESCRIPTION:Cub Scout meeting (Must keep area clean after use)\nJoin with Google Meet: https://meet.google.com/sxm-wexy-wws\nOr dial: (US) +1 641-812-2139 PIN: 948569748#\nLearn more about Meet at: https://support.google.com/a/users/answer/9282720
URL:https://aps.rsu18.org/event/cub-scout-pack-454-meeting-67/
LOCATION:Atwood Elementary School\, 19 Heath St\, Oakland\, ME\, United States
GEO:44.548117;-69.720633
X-APPLE-STRUCTURED-LOCATION;VALUE=URI;X-ADDRESS=Atwood Elementary School 19 Heath St Oakland ME United States;X-APPLE-RADIUS=500;X-TITLE=19 Heath St:geo:-69.720633,44.548117
END:VEVENT
BEGIN:VEVENT
DTSTART;TZID=America/New_York:20260216T174500
DTEND;TZID=America/New_York:20260216T194500
DTSTAMP:20260423T192655
CREATED:20250805T140601Z
LAST-MODIFIED:20250826T163858Z
UID:10000099-1771263900-1771271100@aps.rsu18.org
SUMMARY:Cub Scout Pack 454 Meeting
DESCRIPTION:Cub Scout meeting (Must keep area clean after use)\nJoin with Google Meet: https://meet.google.com/sxm-wexy-wws\nOr dial: (US) +1 641-812-2139 PIN: 948569748#\nLearn more about Meet at: https://support.google.com/a/users/answer/9282720
URL:https://aps.rsu18.org/event/cub-scout-pack-454-meeting-28/
LOCATION:Atwood Elementary School\, 19 Heath St\, Oakland\, ME\, United States
GEO:44.548117;-69.720633
X-APPLE-STRUCTURED-LOCATION;VALUE=URI;X-ADDRESS=Atwood Elementary School 19 Heath St Oakland ME United States;X-APPLE-RADIUS=500;X-TITLE=19 Heath St:geo:-69.720633,44.548117
END:VEVENT
BEGIN:VEVENT
DTSTART;VALUE=DATE:20260216
DTEND;VALUE=DATE:20260217
DTSTAMP:20260423T192655
CREATED:20250912T181636Z
LAST-MODIFIED:20260216T224812Z
UID:10000173-1771200000-1771286399@aps.rsu18.org
SUMMARY:FEBRUARY BREAK
DESCRIPTION:
URL:https://aps.rsu18.org/event/february-break/
LOCATION:ME
END:VEVENT
BEGIN:VEVENT
DTSTART;TZID=America/New_York:20260209T174500
DTEND;TZID=America/New_York:20260209T194500
DTSTAMP:20260423T192655
CREATED:20250827T164604Z
LAST-MODIFIED:20260209T223102Z
UID:10000137-1770659100-1770666300@aps.rsu18.org
SUMMARY:Cub Scout Pack 454 Meeting
DESCRIPTION:Cub Scout meeting (Must keep area clean after use)\nJoin with Google Meet: https://meet.google.com/sxm-wexy-wws\nOr dial: (US) +1 641-812-2139 PIN: 948569748#\nLearn more about Meet at: https://support.google.com/a/users/answer/9282720
URL:https://aps.rsu18.org/event/cub-scout-pack-454-meeting-66/
LOCATION:Atwood Elementary School\, 19 Heath St\, Oakland\, ME\, United States
GEO:44.548117;-69.720633
X-APPLE-STRUCTURED-LOCATION;VALUE=URI;X-ADDRESS=Atwood Elementary School 19 Heath St Oakland ME United States;X-APPLE-RADIUS=500;X-TITLE=19 Heath St:geo:-69.720633,44.548117
END:VEVENT
BEGIN:VEVENT
DTSTART;TZID=America/New_York:20260209T174500
DTEND;TZID=America/New_York:20260209T194500
DTSTAMP:20260423T192655
CREATED:20250805T140601Z
LAST-MODIFIED:20250826T163858Z
UID:10000098-1770659100-1770666300@aps.rsu18.org
SUMMARY:Cub Scout Pack 454 Meeting
DESCRIPTION:Cub Scout meeting (Must keep area clean after use)\nJoin with Google Meet: https://meet.google.com/sxm-wexy-wws\nOr dial: (US) +1 641-812-2139 PIN: 948569748#\nLearn more about Meet at: https://support.google.com/a/users/answer/9282720
URL:https://aps.rsu18.org/event/cub-scout-pack-454-meeting-27/
LOCATION:Atwood Elementary School\, 19 Heath St\, Oakland\, ME\, United States
GEO:44.548117;-69.720633
X-APPLE-STRUCTURED-LOCATION;VALUE=URI;X-ADDRESS=Atwood Elementary School 19 Heath St Oakland ME United States;X-APPLE-RADIUS=500;X-TITLE=19 Heath St:geo:-69.720633,44.548117
END:VEVENT
BEGIN:VEVENT
DTSTART;TZID=America/New_York:20260202T174500
DTEND;TZID=America/New_York:20260202T194500
DTSTAMP:20260423T192655
CREATED:20250827T164604Z
LAST-MODIFIED:20260202T223041Z
UID:10000136-1770054300-1770061500@aps.rsu18.org
SUMMARY:Cub Scout Pack 454 Meeting
DESCRIPTION:Cub Scout meeting (Must keep area clean after use)\nJoin with Google Meet: https://meet.google.com/sxm-wexy-wws\nOr dial: (US) +1 641-812-2139 PIN: 948569748#\nLearn more about Meet at: https://support.google.com/a/users/answer/9282720
URL:https://aps.rsu18.org/event/cub-scout-pack-454-meeting-65/
LOCATION:Atwood Elementary School\, 19 Heath St\, Oakland\, ME\, United States
GEO:44.548117;-69.720633
X-APPLE-STRUCTURED-LOCATION;VALUE=URI;X-ADDRESS=Atwood Elementary School 19 Heath St Oakland ME United States;X-APPLE-RADIUS=500;X-TITLE=19 Heath St:geo:-69.720633,44.548117
END:VEVENT
BEGIN:VEVENT
DTSTART;TZID=America/New_York:20260202T174500
DTEND;TZID=America/New_York:20260202T194500
DTSTAMP:20260423T192655
CREATED:20250805T140601Z
LAST-MODIFIED:20250826T163857Z
UID:10000097-1770054300-1770061500@aps.rsu18.org
SUMMARY:Cub Scout Pack 454 Meeting
DESCRIPTION:Cub Scout meeting (Must keep area clean after use)\nJoin with Google Meet: https://meet.google.com/sxm-wexy-wws\nOr dial: (US) +1 641-812-2139 PIN: 948569748#\nLearn more about Meet at: https://support.google.com/a/users/answer/9282720
URL:https://aps.rsu18.org/event/cub-scout-pack-454-meeting-26/
LOCATION:Atwood Elementary School\, 19 Heath St\, Oakland\, ME\, United States
GEO:44.548117;-69.720633
X-APPLE-STRUCTURED-LOCATION;VALUE=URI;X-ADDRESS=Atwood Elementary School 19 Heath St Oakland ME United States;X-APPLE-RADIUS=500;X-TITLE=19 Heath St:geo:-69.720633,44.548117
END:VEVENT
BEGIN:VEVENT
DTSTART;TZID=America/New_York:20260126T174500
DTEND;TZID=America/New_York:20260126T194500
DTSTAMP:20260423T192655
CREATED:20250827T164603Z
LAST-MODIFIED:20260126T223109Z
UID:10000135-1769449500-1769456700@aps.rsu18.org
SUMMARY:Cub Scout Pack 454 Meeting
DESCRIPTION:Cub Scout meeting (Must keep area clean after use)\nJoin with Google Meet: https://meet.google.com/sxm-wexy-wws\nOr dial: (US) +1 641-812-2139 PIN: 948569748#\nLearn more about Meet at: https://support.google.com/a/users/answer/9282720
URL:https://aps.rsu18.org/event/cub-scout-pack-454-meeting-64/
LOCATION:Atwood Elementary School\, 19 Heath St\, Oakland\, ME\, United States
GEO:44.548117;-69.720633
X-APPLE-STRUCTURED-LOCATION;VALUE=URI;X-ADDRESS=Atwood Elementary School 19 Heath St Oakland ME United States;X-APPLE-RADIUS=500;X-TITLE=19 Heath St:geo:-69.720633,44.548117
END:VEVENT
BEGIN:VEVENT
DTSTART;TZID=America/New_York:20260126T174500
DTEND;TZID=America/New_York:20260126T194500
DTSTAMP:20260423T192655
CREATED:20250805T140600Z
LAST-MODIFIED:20250826T163857Z
UID:10000096-1769449500-1769456700@aps.rsu18.org
SUMMARY:Cub Scout Pack 454 Meeting
DESCRIPTION:Cub Scout meeting (Must keep area clean after use)\nJoin with Google Meet: https://meet.google.com/sxm-wexy-wws\nOr dial: (US) +1 641-812-2139 PIN: 948569748#\nLearn more about Meet at: https://support.google.com/a/users/answer/9282720
URL:https://aps.rsu18.org/event/cub-scout-pack-454-meeting-25/
LOCATION:Atwood Elementary School\, 19 Heath St\, Oakland\, ME\, United States
GEO:44.548117;-69.720633
X-APPLE-STRUCTURED-LOCATION;VALUE=URI;X-ADDRESS=Atwood Elementary School 19 Heath St Oakland ME United States;X-APPLE-RADIUS=500;X-TITLE=19 Heath St:geo:-69.720633,44.548117
END:VEVENT
BEGIN:VEVENT
DTSTART;VALUE=DATE:20260126
DTEND;VALUE=DATE:20260127
DTSTAMP:20260423T192655
CREATED:20250912T181635Z
LAST-MODIFIED:20260126T223109Z
UID:10000172-1769385600-1769471999@aps.rsu18.org
SUMMARY:NO SCHOOL
DESCRIPTION:
URL:https://aps.rsu18.org/event/no-school-8/
LOCATION:ME
END:VEVENT
BEGIN:VEVENT
DTSTART;TZID=America/New_York:20260119T174500
DTEND;TZID=America/New_York:20260119T194500
DTSTAMP:20260423T192655
CREATED:20250827T164602Z
LAST-MODIFIED:20260119T221551Z
UID:10000134-1768844700-1768851900@aps.rsu18.org
SUMMARY:Cub Scout Pack 454 Meeting
DESCRIPTION:Cub Scout meeting (Must keep area clean after use)\nJoin with Google Meet: https://meet.google.com/sxm-wexy-wws\nOr dial: (US) +1 641-812-2139 PIN: 948569748#\nLearn more about Meet at: https://support.google.com/a/users/answer/9282720
URL:https://aps.rsu18.org/event/cub-scout-pack-454-meeting-63/
LOCATION:Atwood Elementary School\, 19 Heath St\, Oakland\, ME\, United States
GEO:44.548117;-69.720633
X-APPLE-STRUCTURED-LOCATION;VALUE=URI;X-ADDRESS=Atwood Elementary School 19 Heath St Oakland ME United States;X-APPLE-RADIUS=500;X-TITLE=19 Heath St:geo:-69.720633,44.548117
END:VEVENT
BEGIN:VEVENT
DTSTART;TZID=America/New_York:20260119T174500
DTEND;TZID=America/New_York:20260119T194500
DTSTAMP:20260423T192655
CREATED:20250805T140600Z
LAST-MODIFIED:20250826T163857Z
UID:10000095-1768844700-1768851900@aps.rsu18.org
SUMMARY:Cub Scout Pack 454 Meeting
DESCRIPTION:Cub Scout meeting (Must keep area clean after use)\nJoin with Google Meet: https://meet.google.com/sxm-wexy-wws\nOr dial: (US) +1 641-812-2139 PIN: 948569748#\nLearn more about Meet at: https://support.google.com/a/users/answer/9282720
URL:https://aps.rsu18.org/event/cub-scout-pack-454-meeting-24/
LOCATION:Atwood Elementary School\, 19 Heath St\, Oakland\, ME\, United States
GEO:44.548117;-69.720633
X-APPLE-STRUCTURED-LOCATION;VALUE=URI;X-ADDRESS=Atwood Elementary School 19 Heath St Oakland ME United States;X-APPLE-RADIUS=500;X-TITLE=19 Heath St:geo:-69.720633,44.548117
END:VEVENT
END:VCALENDAR