BEGIN:VCALENDAR
VERSION:2.0
PRODID:-//Atwood Primary - ECPv6.14.2//NONSGML v1.0//EN
CALSCALE:GREGORIAN
METHOD:PUBLISH
X-WR-CALNAME:Atwood Primary
X-ORIGINAL-URL:https://aps.rsu18.org
X-WR-CALDESC:Events for Atwood Primary
REFRESH-INTERVAL;VALUE=DURATION:PT1H
X-Robots-Tag:noindex
X-PUBLISHED-TTL:PT1H
BEGIN:VTIMEZONE
TZID:America/New_York
BEGIN:DAYLIGHT
TZOFFSETFROM:-0500
TZOFFSETTO:-0400
TZNAME:EDT
DTSTART:20240310T070000
END:DAYLIGHT
BEGIN:STANDARD
TZOFFSETFROM:-0400
TZOFFSETTO:-0500
TZNAME:EST
DTSTART:20241103T060000
END:STANDARD
BEGIN:DAYLIGHT
TZOFFSETFROM:-0500
TZOFFSETTO:-0400
TZNAME:EDT
DTSTART:20250309T070000
END:DAYLIGHT
BEGIN:STANDARD
TZOFFSETFROM:-0400
TZOFFSETTO:-0500
TZNAME:EST
DTSTART:20251102T060000
END:STANDARD
END:VTIMEZONE
BEGIN:VEVENT
DTSTART;TZID=America/New_York:20240917T120000
DTEND;TZID=America/New_York:20240917T130000
DTSTAMP:20260423T162121
CREATED:20240911T161908Z
LAST-MODIFIED:20240917T165832Z
UID:10000032-1726574400-1726578000@aps.rsu18.org
SUMMARY:EARLY RELEASE DAY/ DISMISSAL
DESCRIPTION:
URL:https://aps.rsu18.org/event/early-release-day-dismissal/
LOCATION:Atwood Elementary School\, 19 Heath St\, Oakland\, ME\, United States
GEO:44.548117;-69.720633
X-APPLE-STRUCTURED-LOCATION;VALUE=URI;X-ADDRESS=Atwood Elementary School 19 Heath St Oakland ME United States;X-APPLE-RADIUS=500;X-TITLE=19 Heath St:geo:-69.720633,44.548117
END:VEVENT
BEGIN:VEVENT
DTSTART;VALUE=DATE:20240923
DTEND;VALUE=DATE:20240924
DTSTAMP:20260423T162121
CREATED:20240911T161908Z
LAST-MODIFIED:20240923T171651Z
UID:10000033-1727049600-1727135999@aps.rsu18.org
SUMMARY:PAJAMA DAY
DESCRIPTION:
URL:https://aps.rsu18.org/event/pajama-day/
LOCATION:Atwood Elementary School\, 19 Heath St\, Oakland\, ME\, United States
GEO:44.548117;-69.720633
X-APPLE-STRUCTURED-LOCATION;VALUE=URI;X-ADDRESS=Atwood Elementary School 19 Heath St Oakland ME United States;X-APPLE-RADIUS=500;X-TITLE=19 Heath St:geo:-69.720633,44.548117
END:VEVENT
BEGIN:VEVENT
DTSTART;VALUE=DATE:20240924
DTEND;VALUE=DATE:20240925
DTSTAMP:20260423T162121
CREATED:20240911T161909Z
LAST-MODIFIED:20240924T171542Z
UID:10000034-1727136000-1727222399@aps.rsu18.org
SUMMARY:DRESS YOUR BEST DAY
DESCRIPTION:
URL:https://aps.rsu18.org/event/dress-your-best-day/
LOCATION:Atwood Elementary School\, 19 Heath St\, Oakland\, ME\, United States
GEO:44.548117;-69.720633
X-APPLE-STRUCTURED-LOCATION;VALUE=URI;X-ADDRESS=Atwood Elementary School 19 Heath St Oakland ME United States;X-APPLE-RADIUS=500;X-TITLE=19 Heath St:geo:-69.720633,44.548117
END:VEVENT
BEGIN:VEVENT
DTSTART;VALUE=DATE:20240925
DTEND;VALUE=DATE:20240926
DTSTAMP:20260423T162121
CREATED:20240911T161909Z
LAST-MODIFIED:20240925T172111Z
UID:10000035-1727222400-1727308799@aps.rsu18.org
SUMMARY:WACKY WEDNESDAY
DESCRIPTION:
URL:https://aps.rsu18.org/event/wacky-wednesday/
LOCATION:Atwood Elementary School\, 19 Heath St\, Oakland\, ME\, United States
GEO:44.548117;-69.720633
X-APPLE-STRUCTURED-LOCATION;VALUE=URI;X-ADDRESS=Atwood Elementary School 19 Heath St Oakland ME United States;X-APPLE-RADIUS=500;X-TITLE=19 Heath St:geo:-69.720633,44.548117
END:VEVENT
BEGIN:VEVENT
DTSTART;VALUE=DATE:20240926
DTEND;VALUE=DATE:20240927
DTSTAMP:20260423T162121
CREATED:20240911T161909Z
LAST-MODIFIED:20240926T172029Z
UID:10000036-1727308800-1727395199@aps.rsu18.org
SUMMARY:HAT DAY
DESCRIPTION:
URL:https://aps.rsu18.org/event/hat-day/
LOCATION:Atwood Elementary School\, 19 Heath St\, Oakland\, ME\, United States
GEO:44.548117;-69.720633
X-APPLE-STRUCTURED-LOCATION;VALUE=URI;X-ADDRESS=Atwood Elementary School 19 Heath St Oakland ME United States;X-APPLE-RADIUS=500;X-TITLE=19 Heath St:geo:-69.720633,44.548117
END:VEVENT
BEGIN:VEVENT
DTSTART;VALUE=DATE:20240927
DTEND;VALUE=DATE:20240928
DTSTAMP:20260423T162121
CREATED:20240911T161909Z
LAST-MODIFIED:20240927T172016Z
UID:10000037-1727395200-1727481599@aps.rsu18.org
SUMMARY:MESSOLONSKEE COLORS DAY
DESCRIPTION:WEAR YOUR MESSO GEAR OR MESSO COLORS\nPREK & KINDERGARTEN=RED\nGRADE 1=WHITE\nGRADE 2=BLUE
URL:https://aps.rsu18.org/event/messolonskee-colors-day/
LOCATION:Atwood Elementary School\, 19 Heath St\, Oakland\, ME\, United States
GEO:44.548117;-69.720633
X-APPLE-STRUCTURED-LOCATION;VALUE=URI;X-ADDRESS=Atwood Elementary School 19 Heath St Oakland ME United States;X-APPLE-RADIUS=500;X-TITLE=19 Heath St:geo:-69.720633,44.548117
END:VEVENT
BEGIN:VEVENT
DTSTART;TZID=America/New_York:20241001T080000
DTEND;TZID=America/New_York:20241001T110000
DTSTAMP:20260423T162121
CREATED:20240911T161909Z
LAST-MODIFIED:20240930T180153Z
UID:10000038-1727769600-1727780400@aps.rsu18.org
SUMMARY:ATW Flu Clinic
DESCRIPTION:Flu Clinic for students and staff
URL:https://aps.rsu18.org/event/atw-flu-clinic/
LOCATION:ME
END:VEVENT
BEGIN:VEVENT
DTSTART;TZID=America/New_York:20241008T073000
DTEND;TZID=America/New_York:20241008T120000
DTSTAMP:20260423T162121
CREATED:20240911T161909Z
LAST-MODIFIED:20241006T183700Z
UID:10000039-1728372600-1728388800@aps.rsu18.org
SUMMARY:Student Photo's
DESCRIPTION:
URL:https://aps.rsu18.org/event/student-photos/
LOCATION:Atwood Elementary School\, 19 Heath St\, Oakland\, ME\, United States
GEO:44.548117;-69.720633
X-APPLE-STRUCTURED-LOCATION;VALUE=URI;X-ADDRESS=Atwood Elementary School 19 Heath St Oakland ME United States;X-APPLE-RADIUS=500;X-TITLE=19 Heath St:geo:-69.720633,44.548117
END:VEVENT
BEGIN:VEVENT
DTSTART;TZID=America/New_York:20241016T131500
DTEND;TZID=America/New_York:20241016T141500
DTSTAMP:20260423T162121
CREATED:20240923T171652Z
LAST-MODIFIED:20241015T191730Z
UID:10000040-1729084500-1729088100@aps.rsu18.org
SUMMARY:Student Assemby World of Changwe
DESCRIPTION:
URL:https://aps.rsu18.org/event/student-assemby-world-of-changwe/
LOCATION:Atwood Elementary School\, 19 Heath St\, Oakland\, ME\, United States
GEO:44.548117;-69.720633
X-APPLE-STRUCTURED-LOCATION;VALUE=URI;X-ADDRESS=Atwood Elementary School 19 Heath St Oakland ME United States;X-APPLE-RADIUS=500;X-TITLE=19 Heath St:geo:-69.720633,44.548117
END:VEVENT
BEGIN:VEVENT
DTSTART;TZID=America/New_York:20241027T140000
DTEND;TZID=America/New_York:20241027T160000
DTSTAMP:20260423T162121
CREATED:20240926T172030Z
LAST-MODIFIED:20241026T203211Z
UID:10000042-1730037600-1730044800@aps.rsu18.org
SUMMARY:Trunk or Treat
DESCRIPTION:Halloween Festivities
URL:https://aps.rsu18.org/event/trunk-or-treat/
LOCATION:Messalonskee High School\, 131 Messalonskee High Dr\, Oakland\, ME\, United States
GEO:44.556119;-69.716516
X-APPLE-STRUCTURED-LOCATION;VALUE=URI;X-ADDRESS=Messalonskee High School 131 Messalonskee High Dr Oakland ME United States;X-APPLE-RADIUS=500;X-TITLE=131 Messalonskee High Dr:geo:-69.716516,44.556119
END:VEVENT
BEGIN:VEVENT
DTSTART;VALUE=DATE:20241031
DTEND;VALUE=DATE:20241101
DTSTAMP:20260423T162121
CREATED:20240923T171652Z
LAST-MODIFIED:20241031T210139Z
UID:10000041-1730332800-1730419199@aps.rsu18.org
SUMMARY:Costumes for a Cause
DESCRIPTION:
URL:https://aps.rsu18.org/event/costumes-for-a-cause/
LOCATION:Atwood Elementary School\, 19 Heath St\, Oakland\, ME\, United States
GEO:44.548117;-69.720633
X-APPLE-STRUCTURED-LOCATION;VALUE=URI;X-ADDRESS=Atwood Elementary School 19 Heath St Oakland ME United States;X-APPLE-RADIUS=500;X-TITLE=19 Heath St:geo:-69.720633,44.548117
END:VEVENT
BEGIN:VEVENT
DTSTART;TZID=America/New_York:20241125T130000
DTEND;TZID=America/New_York:20241125T140000
DTSTAMP:20260423T162121
CREATED:20241114T221624Z
LAST-MODIFIED:20241124T232409Z
UID:10000043-1732539600-1732543200@aps.rsu18.org
SUMMARY:Kindness Assemby
DESCRIPTION:Student assembly
URL:https://aps.rsu18.org/event/kindness-assemby/
LOCATION:Atwood Elementary School\, 19 Heath St\, Oakland\, ME\, United States
GEO:44.548117;-69.720633
X-APPLE-STRUCTURED-LOCATION;VALUE=URI;X-ADDRESS=Atwood Elementary School 19 Heath St Oakland ME United States;X-APPLE-RADIUS=500;X-TITLE=19 Heath St:geo:-69.720633,44.548117
END:VEVENT
BEGIN:VEVENT
DTSTART;VALUE=DATE:20241127
DTEND;VALUE=DATE:20241130
DTSTAMP:20260423T162121
CREATED:20241114T221625Z
LAST-MODIFIED:20241129T231550Z
UID:10000044-1732665600-1732924799@aps.rsu18.org
SUMMARY:Thanksgiving Break
DESCRIPTION:
URL:https://aps.rsu18.org/event/thanksgiving-break/
LOCATION:Atwood Elementary School\, 19 Heath St\, Oakland\, ME\, United States
GEO:44.548117;-69.720633
X-APPLE-STRUCTURED-LOCATION;VALUE=URI;X-ADDRESS=Atwood Elementary School 19 Heath St Oakland ME United States;X-APPLE-RADIUS=500;X-TITLE=19 Heath St:geo:-69.720633,44.548117
END:VEVENT
BEGIN:VEVENT
DTSTART;TZID=America/New_York:20241205T083000
DTEND;TZID=America/New_York:20241205T120000
DTSTAMP:20260423T162121
CREATED:20241114T221625Z
LAST-MODIFIED:20241204T234544Z
UID:10000045-1733387400-1733400000@aps.rsu18.org
SUMMARY:PICTURE RETAKES/LIFETOUCH
DESCRIPTION:
URL:https://aps.rsu18.org/event/picture-retakes-lifetouch/
LOCATION:Atwood Elementary School\, 19 Heath St\, Oakland\, ME\, United States
GEO:44.548117;-69.720633
X-APPLE-STRUCTURED-LOCATION;VALUE=URI;X-ADDRESS=Atwood Elementary School 19 Heath St Oakland ME United States;X-APPLE-RADIUS=500;X-TITLE=19 Heath St:geo:-69.720633,44.548117
END:VEVENT
BEGIN:VEVENT
DTSTART;TZID=America/New_York:20241210T120000
DTEND;TZID=America/New_York:20241210T143000
DTSTAMP:20260423T162121
CREATED:20241114T221626Z
LAST-MODIFIED:20241210T120203Z
UID:10000046-1733832000-1733841000@aps.rsu18.org
SUMMARY:EARLY RELEASE
DESCRIPTION:Noon dismissal
URL:https://aps.rsu18.org/event/early-release/
LOCATION:Atwood Elementary School\, 19 Heath St\, Oakland\, ME\, United States
GEO:44.548117;-69.720633
X-APPLE-STRUCTURED-LOCATION;VALUE=URI;X-ADDRESS=Atwood Elementary School 19 Heath St Oakland ME United States;X-APPLE-RADIUS=500;X-TITLE=19 Heath St:geo:-69.720633,44.548117
END:VEVENT
BEGIN:VEVENT
DTSTART;VALUE=DATE:20241223
DTEND;VALUE=DATE:20250102
DTSTAMP:20260423T162121
CREATED:20241114T221626Z
LAST-MODIFIED:20250101T133033Z
UID:10000047-1734912000-1735775999@aps.rsu18.org
SUMMARY:Christmas Vacation
DESCRIPTION:
URL:https://aps.rsu18.org/event/christmas-vacation/
LOCATION:Atwood Elementary School\, 19 Heath St\, Oakland\, ME\, United States
GEO:44.548117;-69.720633
X-APPLE-STRUCTURED-LOCATION;VALUE=URI;X-ADDRESS=Atwood Elementary School 19 Heath St Oakland ME United States;X-APPLE-RADIUS=500;X-TITLE=19 Heath St:geo:-69.720633,44.548117
END:VEVENT
BEGIN:VEVENT
DTSTART;VALUE=DATE:20250120
DTEND;VALUE=DATE:20250121
DTSTAMP:20260423T162121
CREATED:20241231T133051Z
LAST-MODIFIED:20250120T151639Z
UID:10000060-1737331200-1737417599@aps.rsu18.org
SUMMARY:SCHOLASTIC BOOK FAIR!
DESCRIPTION:
URL:https://aps.rsu18.org/event/scholastic-book-fair/
LOCATION:Atwood Elementary School\, 19 Heath St\, Oakland\, ME\, United States
GEO:44.548117;-69.720633
X-APPLE-STRUCTURED-LOCATION;VALUE=URI;X-ADDRESS=Atwood Elementary School 19 Heath St Oakland ME United States;X-APPLE-RADIUS=500;X-TITLE=19 Heath St:geo:-69.720633,44.548117
END:VEVENT
BEGIN:VEVENT
DTSTART;VALUE=DATE:20250120
DTEND;VALUE=DATE:20250121
DTSTAMP:20260423T162121
CREATED:20241114T221626Z
LAST-MODIFIED:20250120T151639Z
UID:10000048-1737331200-1737417599@aps.rsu18.org
SUMMARY:Martin Luther King Jr. Day
DESCRIPTION:
URL:https://aps.rsu18.org/event/martin-luther-king-jr-day/
LOCATION:Atwood Elementary School\, 19 Heath St\, Oakland\, ME\, United States
GEO:44.548117;-69.720633
X-APPLE-STRUCTURED-LOCATION;VALUE=URI;X-ADDRESS=Atwood Elementary School 19 Heath St Oakland ME United States;X-APPLE-RADIUS=500;X-TITLE=19 Heath St:geo:-69.720633,44.548117
END:VEVENT
BEGIN:VEVENT
DTSTART;TZID=America/New_York:20250123T173000
DTEND;TZID=America/New_York:20250123T193000
DTSTAMP:20260423T162121
CREATED:20241205T234610Z
LAST-MODIFIED:20250123T152632Z
UID:10000058-1737653400-1737660600@aps.rsu18.org
SUMMARY:Title 1 Literacty Event
DESCRIPTION:Title 1 Parent Night\nJoin with Google Meet: https://meet.google.com/yyc-jxge-ccq\nOr dial: (US) +1 417-567-4264 PIN: 824290102#\nLearn more about Meet at: https://support.google.com/a/users/answer/9282720
URL:https://aps.rsu18.org/event/title-1-literacty-event/
LOCATION:Atwood Elementary School\, 19 Heath St\, Oakland\, ME\, United States
GEO:44.548117;-69.720633
X-APPLE-STRUCTURED-LOCATION;VALUE=URI;X-ADDRESS=Atwood Elementary School 19 Heath St Oakland ME United States;X-APPLE-RADIUS=500;X-TITLE=19 Heath St:geo:-69.720633,44.548117
END:VEVENT
BEGIN:VEVENT
DTSTART;VALUE=DATE:20250124
DTEND;VALUE=DATE:20250125
DTSTAMP:20260423T162121
CREATED:20241231T133052Z
LAST-MODIFIED:20250124T152437Z
UID:10000061-1737676800-1737763199@aps.rsu18.org
SUMMARY:SCHOLASTIC BOOK FAIR!
DESCRIPTION:
URL:https://aps.rsu18.org/event/scholastic-book-fair-2/
LOCATION:Atwood Elementary School\, 19 Heath St\, Oakland\, ME\, United States
GEO:44.548117;-69.720633
X-APPLE-STRUCTURED-LOCATION;VALUE=URI;X-ADDRESS=Atwood Elementary School 19 Heath St Oakland ME United States;X-APPLE-RADIUS=500;X-TITLE=19 Heath St:geo:-69.720633,44.548117
END:VEVENT
BEGIN:VEVENT
DTSTART;VALUE=DATE:20250125
DTEND;VALUE=DATE:20250126
DTSTAMP:20260423T162121
CREATED:20241231T133052Z
LAST-MODIFIED:20250125T153052Z
UID:10000062-1737763200-1737849599@aps.rsu18.org
SUMMARY:PTA SNOW BALL
DESCRIPTION:More information to follow
URL:https://aps.rsu18.org/event/pta-snow-ball/
LOCATION:Atwood Elementary School\, 19 Heath St\, Oakland\, ME\, United States
GEO:44.548117;-69.720633
X-APPLE-STRUCTURED-LOCATION;VALUE=URI;X-ADDRESS=Atwood Elementary School 19 Heath St Oakland ME United States;X-APPLE-RADIUS=500;X-TITLE=19 Heath St:geo:-69.720633,44.548117
END:VEVENT
BEGIN:VEVENT
DTSTART;VALUE=DATE:20250127
DTEND;VALUE=DATE:20250128
DTSTAMP:20260423T162121
CREATED:20241231T133053Z
LAST-MODIFIED:20250126T154626Z
UID:10000066-1737936000-1738022399@aps.rsu18.org
SUMMARY:GREAT KINDNESS CHALLENGE
DESCRIPTION:
URL:https://aps.rsu18.org/event/great-kindness-challenge-4/
LOCATION:Atwood Elementary School\, 19 Heath St\, Oakland\, ME\, United States
GEO:44.548117;-69.720633
X-APPLE-STRUCTURED-LOCATION;VALUE=URI;X-ADDRESS=Atwood Elementary School 19 Heath St Oakland ME United States;X-APPLE-RADIUS=500;X-TITLE=19 Heath St:geo:-69.720633,44.548117
END:VEVENT
BEGIN:VEVENT
DTSTART;VALUE=DATE:20250127
DTEND;VALUE=DATE:20250128
DTSTAMP:20260423T162121
CREATED:20241114T221627Z
LAST-MODIFIED:20250126T154625Z
UID:10000049-1737936000-1738022399@aps.rsu18.org
SUMMARY:TEACHER WORKSHOP DAY NO SCHOOL
DESCRIPTION:
URL:https://aps.rsu18.org/event/teacher-workshop-day-no-school/
LOCATION:Atwood Elementary School\, 19 Heath St\, Oakland\, ME\, United States
GEO:44.548117;-69.720633
X-APPLE-STRUCTURED-LOCATION;VALUE=URI;X-ADDRESS=Atwood Elementary School 19 Heath St Oakland ME United States;X-APPLE-RADIUS=500;X-TITLE=19 Heath St:geo:-69.720633,44.548117
END:VEVENT
BEGIN:VEVENT
DTSTART;VALUE=DATE:20250128
DTEND;VALUE=DATE:20250129
DTSTAMP:20260423T162121
CREATED:20241231T133053Z
LAST-MODIFIED:20250128T161555Z
UID:10000065-1738022400-1738108799@aps.rsu18.org
SUMMARY:GREAT KINDNESS CHALLENGE
DESCRIPTION:
URL:https://aps.rsu18.org/event/great-kindness-challenge-3/
LOCATION:Atwood Elementary School\, 19 Heath St\, Oakland\, ME\, United States
GEO:44.548117;-69.720633
X-APPLE-STRUCTURED-LOCATION;VALUE=URI;X-ADDRESS=Atwood Elementary School 19 Heath St Oakland ME United States;X-APPLE-RADIUS=500;X-TITLE=19 Heath St:geo:-69.720633,44.548117
END:VEVENT
BEGIN:VEVENT
DTSTART;VALUE=DATE:20250129
DTEND;VALUE=DATE:20250130
DTSTAMP:20260423T162121
CREATED:20241231T133053Z
LAST-MODIFIED:20250128T161555Z
UID:10000064-1738108800-1738195199@aps.rsu18.org
SUMMARY:GREAT KINDNESS CHALLENGE
DESCRIPTION:
URL:https://aps.rsu18.org/event/great-kindness-challenge-2/
LOCATION:Atwood Elementary School\, 19 Heath St\, Oakland\, ME\, United States
GEO:44.548117;-69.720633
X-APPLE-STRUCTURED-LOCATION;VALUE=URI;X-ADDRESS=Atwood Elementary School 19 Heath St Oakland ME United States;X-APPLE-RADIUS=500;X-TITLE=19 Heath St:geo:-69.720633,44.548117
END:VEVENT
BEGIN:VEVENT
DTSTART;VALUE=DATE:20250130
DTEND;VALUE=DATE:20250131
DTSTAMP:20260423T162121
CREATED:20241231T133053Z
LAST-MODIFIED:20250130T164603Z
UID:10000063-1738195200-1738281599@aps.rsu18.org
SUMMARY:GREAT KINDNESS CHALLENGE
DESCRIPTION:
URL:https://aps.rsu18.org/event/great-kindness-challenge/
LOCATION:Atwood Elementary School\, 19 Heath St\, Oakland\, ME\, United States
GEO:44.548117;-69.720633
X-APPLE-STRUCTURED-LOCATION;VALUE=URI;X-ADDRESS=Atwood Elementary School 19 Heath St Oakland ME United States;X-APPLE-RADIUS=500;X-TITLE=19 Heath St:geo:-69.720633,44.548117
END:VEVENT
BEGIN:VEVENT
DTSTART;VALUE=DATE:20250131
DTEND;VALUE=DATE:20250201
DTSTAMP:20260423T162121
CREATED:20241231T133053Z
LAST-MODIFIED:20250131T164927Z
UID:10000067-1738281600-1738367999@aps.rsu18.org
SUMMARY:GREAT KINDNESS CHALLENGE
DESCRIPTION:
URL:https://aps.rsu18.org/event/great-kindness-challenge-5/
LOCATION:Atwood Elementary School\, 19 Heath St\, Oakland\, ME\, United States
GEO:44.548117;-69.720633
X-APPLE-STRUCTURED-LOCATION;VALUE=URI;X-ADDRESS=Atwood Elementary School 19 Heath St Oakland ME United States;X-APPLE-RADIUS=500;X-TITLE=19 Heath St:geo:-69.720633,44.548117
END:VEVENT
BEGIN:VEVENT
DTSTART;VALUE=DATE:20250202
DTEND;VALUE=DATE:20250203
DTSTAMP:20260423T162121
CREATED:20250116T144604Z
LAST-MODIFIED:20250202T172023Z
UID:10000069-1738454400-1738540799@aps.rsu18.org
SUMMARY:OAKLAND FISHING DERBY
DESCRIPTION:Annual fishing derby
URL:https://aps.rsu18.org/event/oakland-fishing-derby/
LOCATION:Atwood Elementary School\, 19 Heath St\, Oakland\, ME\, United States
GEO:44.548117;-69.720633
X-APPLE-STRUCTURED-LOCATION;VALUE=URI;X-ADDRESS=Atwood Elementary School 19 Heath St Oakland ME United States;X-APPLE-RADIUS=500;X-TITLE=19 Heath St:geo:-69.720633,44.548117
END:VEVENT
BEGIN:VEVENT
DTSTART;VALUE=DATE:20250205
DTEND;VALUE=DATE:20250206
DTSTAMP:20260423T162121
CREATED:20241231T133053Z
LAST-MODIFIED:20250205T173031Z
UID:10000068-1738713600-1738799999@aps.rsu18.org
SUMMARY:WORLD READ ALOUD DAY
DESCRIPTION:World Read Aloud Day is a special day since we LOVE reading aloud in our elementary classrooms. Below is a link to 252 authors who are offering FREE ZOOM read alouds to classrooms on World Read Aloud Day! I highly recommend this free\, fun way to connect our students with authors! \nCheck in with me or Amy Grenier for a recommended author on this list but you might find the name of an author for a favorite series in your class or a great picture book that you love! Happy Reading!
URL:https://aps.rsu18.org/event/world-read-aloud-day/
LOCATION:Atwood Elementary School\, 19 Heath St\, Oakland\, ME\, United States
GEO:44.548117;-69.720633
X-APPLE-STRUCTURED-LOCATION;VALUE=URI;X-ADDRESS=Atwood Elementary School 19 Heath St Oakland ME United States;X-APPLE-RADIUS=500;X-TITLE=19 Heath St:geo:-69.720633,44.548117
END:VEVENT
BEGIN:VEVENT
DTSTART;VALUE=DATE:20250217
DTEND;VALUE=DATE:20250222
DTSTAMP:20260423T162121
CREATED:20241114T221627Z
LAST-MODIFIED:20250221T195807Z
UID:10000050-1739750400-1740182399@aps.rsu18.org
SUMMARY:WINTER BREAK
DESCRIPTION:
URL:https://aps.rsu18.org/event/winter-break/
LOCATION:Atwood Elementary School\, 19 Heath St\, Oakland\, ME\, United States
GEO:44.548117;-69.720633
X-APPLE-STRUCTURED-LOCATION;VALUE=URI;X-ADDRESS=Atwood Elementary School 19 Heath St Oakland ME United States;X-APPLE-RADIUS=500;X-TITLE=19 Heath St:geo:-69.720633,44.548117
END:VEVENT
END:VCALENDAR