BEGIN:VCALENDAR
VERSION:2.0
PRODID:-//Atwood Primary - ECPv6.14.2//NONSGML v1.0//EN
CALSCALE:GREGORIAN
METHOD:PUBLISH
X-WR-CALNAME:Atwood Primary
X-ORIGINAL-URL:https://aps.rsu18.org
X-WR-CALDESC:Events for Atwood Primary
REFRESH-INTERVAL;VALUE=DURATION:PT1H
X-Robots-Tag:noindex
X-PUBLISHED-TTL:PT1H
BEGIN:VTIMEZONE
TZID:America/New_York
BEGIN:DAYLIGHT
TZOFFSETFROM:-0500
TZOFFSETTO:-0400
TZNAME:EDT
DTSTART:20250309T070000
END:DAYLIGHT
BEGIN:STANDARD
TZOFFSETFROM:-0400
TZOFFSETTO:-0500
TZNAME:EST
DTSTART:20251102T060000
END:STANDARD
END:VTIMEZONE
BEGIN:VEVENT
DTSTART;TZID=America/New_York:20250929T174500
DTEND;TZID=America/New_York:20250929T194500
DTSTAMP:20260424T064151
CREATED:20250805T140556Z
LAST-MODIFIED:20250826T163854Z
UID:10000079-1759167900-1759175100@aps.rsu18.org
SUMMARY:Cub Scout Pack 454 Meeting
DESCRIPTION:Cub Scout meeting (Must keep area clean after use)\nJoin with Google Meet: https://meet.google.com/sxm-wexy-wws\nOr dial: (US) +1 641-812-2139 PIN: 948569748#\nLearn more about Meet at: https://support.google.com/a/users/answer/9282720
URL:https://aps.rsu18.org/event/cub-scout-pack-454-meeting-8/
LOCATION:Atwood Elementary School\, 19 Heath St\, Oakland\, ME\, United States
GEO:44.548117;-69.720633
X-APPLE-STRUCTURED-LOCATION;VALUE=URI;X-ADDRESS=Atwood Elementary School 19 Heath St Oakland ME United States;X-APPLE-RADIUS=500;X-TITLE=19 Heath St:geo:-69.720633,44.548117
END:VEVENT
BEGIN:VEVENT
DTSTART;TZID=America/New_York:20250922T174500
DTEND;TZID=America/New_York:20250922T194500
DTSTAMP:20260424T064151
CREATED:20250827T164536Z
LAST-MODIFIED:20250922T134528Z
UID:10000117-1758563100-1758570300@aps.rsu18.org
SUMMARY:Cub Scout Pack 454 Meeting
DESCRIPTION:Cub Scout meeting (Must keep area clean after use)\nJoin with Google Meet: https://meet.google.com/sxm-wexy-wws\nOr dial: (US) +1 641-812-2139 PIN: 948569748#\nLearn more about Meet at: https://support.google.com/a/users/answer/9282720
URL:https://aps.rsu18.org/event/cub-scout-pack-454-meeting-46/
LOCATION:Atwood Elementary School\, 19 Heath St\, Oakland\, ME\, United States
GEO:44.548117;-69.720633
X-APPLE-STRUCTURED-LOCATION;VALUE=URI;X-ADDRESS=Atwood Elementary School 19 Heath St Oakland ME United States;X-APPLE-RADIUS=500;X-TITLE=19 Heath St:geo:-69.720633,44.548117
END:VEVENT
BEGIN:VEVENT
DTSTART;TZID=America/New_York:20250922T174500
DTEND;TZID=America/New_York:20250922T194500
DTSTAMP:20260424T064151
CREATED:20250805T140556Z
LAST-MODIFIED:20250826T163854Z
UID:10000078-1758563100-1758570300@aps.rsu18.org
SUMMARY:Cub Scout Pack 454 Meeting
DESCRIPTION:Cub Scout meeting (Must keep area clean after use)\nJoin with Google Meet: https://meet.google.com/sxm-wexy-wws\nOr dial: (US) +1 641-812-2139 PIN: 948569748#\nLearn more about Meet at: https://support.google.com/a/users/answer/9282720
URL:https://aps.rsu18.org/event/cub-scout-pack-454-meeting-7/
LOCATION:Atwood Elementary School\, 19 Heath St\, Oakland\, ME\, United States
GEO:44.548117;-69.720633
X-APPLE-STRUCTURED-LOCATION;VALUE=URI;X-ADDRESS=Atwood Elementary School 19 Heath St Oakland ME United States;X-APPLE-RADIUS=500;X-TITLE=19 Heath St:geo:-69.720633,44.548117
END:VEVENT
BEGIN:VEVENT
DTSTART;TZID=America/New_York:20250915T174500
DTEND;TZID=America/New_York:20250915T194500
DTSTAMP:20260424T064151
CREATED:20250827T164536Z
LAST-MODIFIED:20250915T132229Z
UID:10000116-1757958300-1757965500@aps.rsu18.org
SUMMARY:Cub Scout Pack 454 Meeting
DESCRIPTION:Cub Scout meeting (Must keep area clean after use)\nJoin with Google Meet: https://meet.google.com/sxm-wexy-wws\nOr dial: (US) +1 641-812-2139 PIN: 948569748#\nLearn more about Meet at: https://support.google.com/a/users/answer/9282720
URL:https://aps.rsu18.org/event/cub-scout-pack-454-meeting-45/
LOCATION:Atwood Elementary School\, 19 Heath St\, Oakland\, ME\, United States
GEO:44.548117;-69.720633
X-APPLE-STRUCTURED-LOCATION;VALUE=URI;X-ADDRESS=Atwood Elementary School 19 Heath St Oakland ME United States;X-APPLE-RADIUS=500;X-TITLE=19 Heath St:geo:-69.720633,44.548117
END:VEVENT
BEGIN:VEVENT
DTSTART;TZID=America/New_York:20250915T174500
DTEND;TZID=America/New_York:20250915T194500
DTSTAMP:20260424T064151
CREATED:20250805T140556Z
LAST-MODIFIED:20250826T163854Z
UID:10000077-1757958300-1757965500@aps.rsu18.org
SUMMARY:Cub Scout Pack 454 Meeting
DESCRIPTION:Cub Scout meeting (Must keep area clean after use)\nJoin with Google Meet: https://meet.google.com/sxm-wexy-wws\nOr dial: (US) +1 641-812-2139 PIN: 948569748#\nLearn more about Meet at: https://support.google.com/a/users/answer/9282720
URL:https://aps.rsu18.org/event/cub-scout-pack-454-meeting-6/
LOCATION:Atwood Elementary School\, 19 Heath St\, Oakland\, ME\, United States
GEO:44.548117;-69.720633
X-APPLE-STRUCTURED-LOCATION;VALUE=URI;X-ADDRESS=Atwood Elementary School 19 Heath St Oakland ME United States;X-APPLE-RADIUS=500;X-TITLE=19 Heath St:geo:-69.720633,44.548117
END:VEVENT
BEGIN:VEVENT
DTSTART;TZID=America/New_York:20250908T174500
DTEND;TZID=America/New_York:20250908T194500
DTSTAMP:20260424T064151
CREATED:20250827T164536Z
LAST-MODIFIED:20250908T173029Z
UID:10000115-1757353500-1757360700@aps.rsu18.org
SUMMARY:Cub Scout Pack 454 Meeting
DESCRIPTION:Cub Scout meeting (Must keep area clean after use)\nJoin with Google Meet: https://meet.google.com/sxm-wexy-wws\nOr dial: (US) +1 641-812-2139 PIN: 948569748#\nLearn more about Meet at: https://support.google.com/a/users/answer/9282720
URL:https://aps.rsu18.org/event/cub-scout-pack-454-meeting-44/
LOCATION:Atwood Elementary School\, 19 Heath St\, Oakland\, ME\, United States
GEO:44.548117;-69.720633
X-APPLE-STRUCTURED-LOCATION;VALUE=URI;X-ADDRESS=Atwood Elementary School 19 Heath St Oakland ME United States;X-APPLE-RADIUS=500;X-TITLE=19 Heath St:geo:-69.720633,44.548117
END:VEVENT
BEGIN:VEVENT
DTSTART;TZID=America/New_York:20250908T174500
DTEND;TZID=America/New_York:20250908T194500
DTSTAMP:20260424T064151
CREATED:20250805T140556Z
LAST-MODIFIED:20250826T163854Z
UID:10000076-1757353500-1757360700@aps.rsu18.org
SUMMARY:Cub Scout Pack 454 Meeting
DESCRIPTION:Cub Scout meeting (Must keep area clean after use)\nJoin with Google Meet: https://meet.google.com/sxm-wexy-wws\nOr dial: (US) +1 641-812-2139 PIN: 948569748#\nLearn more about Meet at: https://support.google.com/a/users/answer/9282720
URL:https://aps.rsu18.org/event/cub-scout-pack-454-meeting-5/
LOCATION:Atwood Elementary School\, 19 Heath St\, Oakland\, ME\, United States
GEO:44.548117;-69.720633
X-APPLE-STRUCTURED-LOCATION;VALUE=URI;X-ADDRESS=Atwood Elementary School 19 Heath St Oakland ME United States;X-APPLE-RADIUS=500;X-TITLE=19 Heath St:geo:-69.720633,44.548117
END:VEVENT
BEGIN:VEVENT
DTSTART;TZID=America/New_York:20250901T174500
DTEND;TZID=America/New_York:20250901T194500
DTSTAMP:20260424T064151
CREATED:20250827T164536Z
LAST-MODIFIED:20250901T171536Z
UID:10000114-1756748700-1756755900@aps.rsu18.org
SUMMARY:Cub Scout Pack 454 Meeting
DESCRIPTION:Cub Scout meeting (Must keep area clean after use)\nJoin with Google Meet: https://meet.google.com/sxm-wexy-wws\nOr dial: (US) +1 641-812-2139 PIN: 948569748#\nLearn more about Meet at: https://support.google.com/a/users/answer/9282720
URL:https://aps.rsu18.org/event/cub-scout-pack-454-meeting-43/
LOCATION:Atwood Elementary School\, 19 Heath St\, Oakland\, ME\, United States
GEO:44.548117;-69.720633
X-APPLE-STRUCTURED-LOCATION;VALUE=URI;X-ADDRESS=Atwood Elementary School 19 Heath St Oakland ME United States;X-APPLE-RADIUS=500;X-TITLE=19 Heath St:geo:-69.720633,44.548117
END:VEVENT
BEGIN:VEVENT
DTSTART;TZID=America/New_York:20250901T174500
DTEND;TZID=America/New_York:20250901T194500
DTSTAMP:20260424T064151
CREATED:20250805T140556Z
LAST-MODIFIED:20250826T163853Z
UID:10000075-1756748700-1756755900@aps.rsu18.org
SUMMARY:Cub Scout Pack 454 Meeting
DESCRIPTION:Cub Scout meeting (Must keep area clean after use)\nJoin with Google Meet: https://meet.google.com/sxm-wexy-wws\nOr dial: (US) +1 641-812-2139 PIN: 948569748#\nLearn more about Meet at: https://support.google.com/a/users/answer/9282720
URL:https://aps.rsu18.org/event/cub-scout-pack-454-meeting-4/
LOCATION:Atwood Elementary School\, 19 Heath St\, Oakland\, ME\, United States
GEO:44.548117;-69.720633
X-APPLE-STRUCTURED-LOCATION;VALUE=URI;X-ADDRESS=Atwood Elementary School 19 Heath St Oakland ME United States;X-APPLE-RADIUS=500;X-TITLE=19 Heath St:geo:-69.720633,44.548117
END:VEVENT
BEGIN:VEVENT
DTSTART;VALUE=DATE:20250827
DTEND;VALUE=DATE:20250828
DTSTAMP:20260424T064151
CREATED:20250805T140555Z
LAST-MODIFIED:20250827T164535Z
UID:10000074-1756252800-1756339199@aps.rsu18.org
SUMMARY:1st Day of School
DESCRIPTION:
URL:https://aps.rsu18.org/event/1st-day-of-school/
LOCATION:Atwood Elementary School\, 19 Heath St\, Oakland\, ME\, United States
GEO:44.548117;-69.720633
X-APPLE-STRUCTURED-LOCATION;VALUE=URI;X-ADDRESS=Atwood Elementary School 19 Heath St Oakland ME United States;X-APPLE-RADIUS=500;X-TITLE=19 Heath St:geo:-69.720633,44.548117
END:VEVENT
BEGIN:VEVENT
DTSTART;TZID=America/New_York:20250825T174500
DTEND;TZID=America/New_York:20250825T194500
DTSTAMP:20260424T064151
CREATED:20250805T140555Z
LAST-MODIFIED:20250825T162306Z
UID:10000073-1756143900-1756151100@aps.rsu18.org
SUMMARY:Cub Scout Pack 454 Meeting
DESCRIPTION:Cub Scout meeting (Must keep area clean after use)\nJoin with Google Meet: https://meet.google.com/sxm-wexy-wws\nOr dial: (US) +1 641-812-2139 PIN: 948569748#\nLearn more about Meet at: https://support.google.com/a/users/answer/9282720
URL:https://aps.rsu18.org/event/cub-scout-pack-454-meeting-3/
LOCATION:Atwood Elementary School\, 19 Heath St\, Oakland\, ME\, United States
GEO:44.548117;-69.720633
X-APPLE-STRUCTURED-LOCATION;VALUE=URI;X-ADDRESS=Atwood Elementary School 19 Heath St Oakland ME United States;X-APPLE-RADIUS=500;X-TITLE=19 Heath St:geo:-69.720633,44.548117
END:VEVENT
BEGIN:VEVENT
DTSTART;TZID=America/New_York:20250821T170000
DTEND;TZID=America/New_York:20250821T183000
DTSTAMP:20260424T064151
CREATED:20250805T140555Z
LAST-MODIFIED:20250821T160027Z
UID:10000072-1755795600-1755801000@aps.rsu18.org
SUMMARY:Kindergarten Open House
DESCRIPTION:Meet & Greet with your kindergarten teacher.  Bus Ride. Introduction to ATW.\nJoin with Google Meet: https://meet.google.com/xrb-mmyt-yef\nOr dial: (US) +1 314-527-0011 PIN: 895400101#\nLearn more about Meet at: https://support.google.com/a/users/answer/9282720
URL:https://aps.rsu18.org/event/kindergarten-open-house/
LOCATION:Atwood Elementary School\, 19 Heath St\, Oakland\, ME\, United States
GEO:44.548117;-69.720633
X-APPLE-STRUCTURED-LOCATION;VALUE=URI;X-ADDRESS=Atwood Elementary School 19 Heath St Oakland ME United States;X-APPLE-RADIUS=500;X-TITLE=19 Heath St:geo:-69.720633,44.548117
END:VEVENT
BEGIN:VEVENT
DTSTART;TZID=America/New_York:20250818T174500
DTEND;TZID=America/New_York:20250818T194500
DTSTAMP:20260424T064151
CREATED:20250805T140555Z
LAST-MODIFIED:20250818T170041Z
UID:10000071-1755539100-1755546300@aps.rsu18.org
SUMMARY:Cub Scout Pack 454 Meeting
DESCRIPTION:Cub Scout meeting (Must keep area clean after use)\nJoin with Google Meet: https://meet.google.com/sxm-wexy-wws\nOr dial: (US) +1 641-812-2139 PIN: 948569748#\nLearn more about Meet at: https://support.google.com/a/users/answer/9282720
URL:https://aps.rsu18.org/event/cub-scout-pack-454-meeting-2/
LOCATION:Atwood Elementary School\, 19 Heath St\, Oakland\, ME\, United States
GEO:44.548117;-69.720633
X-APPLE-STRUCTURED-LOCATION;VALUE=URI;X-ADDRESS=Atwood Elementary School 19 Heath St Oakland ME United States;X-APPLE-RADIUS=500;X-TITLE=19 Heath St:geo:-69.720633,44.548117
END:VEVENT
BEGIN:VEVENT
DTSTART;TZID=America/New_York:20250811T174500
DTEND;TZID=America/New_York:20250811T194500
DTSTAMP:20260424T064151
CREATED:20250805T140554Z
LAST-MODIFIED:20250811T163502Z
UID:10000070-1754934300-1754941500@aps.rsu18.org
SUMMARY:Cub Scout Pack 454 Meeting
DESCRIPTION:Cub Scout meeting (Must keep area clean after use)\nJoin with Google Meet: https://meet.google.com/sxm-wexy-wws\nOr dial: (US) +1 641-812-2139 PIN: 948569748#\nLearn more about Meet at: https://support.google.com/a/users/answer/9282720
URL:https://aps.rsu18.org/event/cub-scout-pack-454-meeting/
LOCATION:Atwood Elementary School\, 19 Heath St\, Oakland\, ME\, United States
GEO:44.548117;-69.720633
X-APPLE-STRUCTURED-LOCATION;VALUE=URI;X-ADDRESS=Atwood Elementary School 19 Heath St Oakland ME United States;X-APPLE-RADIUS=500;X-TITLE=19 Heath St:geo:-69.720633,44.548117
END:VEVENT
BEGIN:VEVENT
DTSTART;VALUE=DATE:20250526
DTEND;VALUE=DATE:20250527
DTSTAMP:20260424T064151
CREATED:20241114T221629Z
LAST-MODIFIED:20250301T203144Z
UID:10000056-1748217600-1748303999@aps.rsu18.org
SUMMARY:MEMORIAL DAY NO SCHOOL
DESCRIPTION:
URL:https://aps.rsu18.org/event/memorial-day-no-school/
LOCATION:Atwood Elementary School\, 19 Heath St\, Oakland\, ME\, United States
GEO:44.548117;-69.720633
X-APPLE-STRUCTURED-LOCATION;VALUE=URI;X-ADDRESS=Atwood Elementary School 19 Heath St Oakland ME United States;X-APPLE-RADIUS=500;X-TITLE=19 Heath St:geo:-69.720633,44.548117
END:VEVENT
BEGIN:VEVENT
DTSTART;VALUE=DATE:20250516
DTEND;VALUE=DATE:20250517
DTSTAMP:20260424T064151
CREATED:20241204T234547Z
LAST-MODIFIED:20250301T203144Z
UID:10000057-1747353600-1747439999@aps.rsu18.org
SUMMARY:North East Expo Field Trip
DESCRIPTION:Grade 1 Field Trip
URL:https://aps.rsu18.org/event/north-east-expo-field-trip/
LOCATION:Atwood Elementary School\, 19 Heath St\, Oakland\, ME\, United States
GEO:44.548117;-69.720633
X-APPLE-STRUCTURED-LOCATION;VALUE=URI;X-ADDRESS=Atwood Elementary School 19 Heath St Oakland ME United States;X-APPLE-RADIUS=500;X-TITLE=19 Heath St:geo:-69.720633,44.548117
END:VEVENT
BEGIN:VEVENT
DTSTART;TZID=America/New_York:20250513T120000
DTEND;TZID=America/New_York:20250513T143000
DTSTAMP:20260424T064151
CREATED:20241114T221628Z
LAST-MODIFIED:20250301T203143Z
UID:10000055-1747137600-1747146600@aps.rsu18.org
SUMMARY:EARLY RELEASE DAY
DESCRIPTION:
URL:https://aps.rsu18.org/event/early-release-day-2/
LOCATION:Atwood Elementary School\, 19 Heath St\, Oakland\, ME\, United States
GEO:44.548117;-69.720633
X-APPLE-STRUCTURED-LOCATION;VALUE=URI;X-ADDRESS=Atwood Elementary School 19 Heath St Oakland ME United States;X-APPLE-RADIUS=500;X-TITLE=19 Heath St:geo:-69.720633,44.548117
END:VEVENT
BEGIN:VEVENT
DTSTART;VALUE=DATE:20250421
DTEND;VALUE=DATE:20250426
DTSTAMP:20260424T064151
CREATED:20241114T221628Z
LAST-MODIFIED:20250301T203143Z
UID:10000054-1745193600-1745625599@aps.rsu18.org
SUMMARY:SPRING BREAK
DESCRIPTION:
URL:https://aps.rsu18.org/event/spring-break/
LOCATION:Atwood Elementary School\, 19 Heath St\, Oakland\, ME\, United States
GEO:44.548117;-69.720633
X-APPLE-STRUCTURED-LOCATION;VALUE=URI;X-ADDRESS=Atwood Elementary School 19 Heath St Oakland ME United States;X-APPLE-RADIUS=500;X-TITLE=19 Heath St:geo:-69.720633,44.548117
END:VEVENT
BEGIN:VEVENT
DTSTART;VALUE=DATE:20250418
DTEND;VALUE=DATE:20250419
DTSTAMP:20260424T064151
CREATED:20241114T221628Z
LAST-MODIFIED:20250301T203143Z
UID:10000053-1744934400-1745020799@aps.rsu18.org
SUMMARY:COMP DAY NO SCHOOL
DESCRIPTION:
URL:https://aps.rsu18.org/event/comp-day-no-school/
LOCATION:Atwood Elementary School\, 19 Heath St\, Oakland\, ME\, United States
GEO:44.548117;-69.720633
X-APPLE-STRUCTURED-LOCATION;VALUE=URI;X-ADDRESS=Atwood Elementary School 19 Heath St Oakland ME United States;X-APPLE-RADIUS=500;X-TITLE=19 Heath St:geo:-69.720633,44.548117
END:VEVENT
BEGIN:VEVENT
DTSTART;VALUE=DATE:20250321
DTEND;VALUE=DATE:20250322
DTSTAMP:20260424T064151
CREATED:20241114T221628Z
LAST-MODIFIED:20250301T203143Z
UID:10000052-1742515200-1742601599@aps.rsu18.org
SUMMARY:TEACHER WORKSHOP DAY
DESCRIPTION:
URL:https://aps.rsu18.org/event/teacher-workshop-day/
LOCATION:Atwood Elementary School\, 19 Heath St\, Oakland\, ME\, United States
GEO:44.548117;-69.720633
X-APPLE-STRUCTURED-LOCATION;VALUE=URI;X-ADDRESS=Atwood Elementary School 19 Heath St Oakland ME United States;X-APPLE-RADIUS=500;X-TITLE=19 Heath St:geo:-69.720633,44.548117
END:VEVENT
BEGIN:VEVENT
DTSTART;TZID=America/New_York:20250313T173000
DTEND;TZID=America/New_York:20250313T193000
DTSTAMP:20260424T064151
CREATED:20241206T234737Z
LAST-MODIFIED:20250301T203143Z
UID:10000059-1741887000-1741894200@aps.rsu18.org
SUMMARY:Common Conference Night
DESCRIPTION:
URL:https://aps.rsu18.org/event/common-conference-night/
LOCATION:Atwood Elementary School\, 19 Heath St\, Oakland\, ME\, United States
GEO:44.548117;-69.720633
X-APPLE-STRUCTURED-LOCATION;VALUE=URI;X-ADDRESS=Atwood Elementary School 19 Heath St Oakland ME United States;X-APPLE-RADIUS=500;X-TITLE=19 Heath St:geo:-69.720633,44.548117
END:VEVENT
BEGIN:VEVENT
DTSTART;TZID=America/New_York:20250304T120000
DTEND;TZID=America/New_York:20250304T143000
DTSTAMP:20260424T064151
CREATED:20241114T221627Z
LAST-MODIFIED:20250301T203142Z
UID:10000051-1741089600-1741098600@aps.rsu18.org
SUMMARY:EARLY RELEASE DAY
DESCRIPTION:
URL:https://aps.rsu18.org/event/early-release-day/
LOCATION:Atwood Elementary School\, 19 Heath St\, Oakland\, ME\, United States
GEO:44.548117;-69.720633
X-APPLE-STRUCTURED-LOCATION;VALUE=URI;X-ADDRESS=Atwood Elementary School 19 Heath St Oakland ME United States;X-APPLE-RADIUS=500;X-TITLE=19 Heath St:geo:-69.720633,44.548117
END:VEVENT
BEGIN:VEVENT
DTSTART;VALUE=DATE:20250217
DTEND;VALUE=DATE:20250222
DTSTAMP:20260424T064151
CREATED:20241114T221627Z
LAST-MODIFIED:20250221T195807Z
UID:10000050-1739750400-1740182399@aps.rsu18.org
SUMMARY:WINTER BREAK
DESCRIPTION:
URL:https://aps.rsu18.org/event/winter-break/
LOCATION:Atwood Elementary School\, 19 Heath St\, Oakland\, ME\, United States
GEO:44.548117;-69.720633
X-APPLE-STRUCTURED-LOCATION;VALUE=URI;X-ADDRESS=Atwood Elementary School 19 Heath St Oakland ME United States;X-APPLE-RADIUS=500;X-TITLE=19 Heath St:geo:-69.720633,44.548117
END:VEVENT
BEGIN:VEVENT
DTSTART;VALUE=DATE:20250205
DTEND;VALUE=DATE:20250206
DTSTAMP:20260424T064151
CREATED:20241231T133053Z
LAST-MODIFIED:20250205T173031Z
UID:10000068-1738713600-1738799999@aps.rsu18.org
SUMMARY:WORLD READ ALOUD DAY
DESCRIPTION:World Read Aloud Day is a special day since we LOVE reading aloud in our elementary classrooms. Below is a link to 252 authors who are offering FREE ZOOM read alouds to classrooms on World Read Aloud Day! I highly recommend this free\, fun way to connect our students with authors! \nCheck in with me or Amy Grenier for a recommended author on this list but you might find the name of an author for a favorite series in your class or a great picture book that you love! Happy Reading!
URL:https://aps.rsu18.org/event/world-read-aloud-day/
LOCATION:Atwood Elementary School\, 19 Heath St\, Oakland\, ME\, United States
GEO:44.548117;-69.720633
X-APPLE-STRUCTURED-LOCATION;VALUE=URI;X-ADDRESS=Atwood Elementary School 19 Heath St Oakland ME United States;X-APPLE-RADIUS=500;X-TITLE=19 Heath St:geo:-69.720633,44.548117
END:VEVENT
BEGIN:VEVENT
DTSTART;VALUE=DATE:20250202
DTEND;VALUE=DATE:20250203
DTSTAMP:20260424T064151
CREATED:20250116T144604Z
LAST-MODIFIED:20250202T172023Z
UID:10000069-1738454400-1738540799@aps.rsu18.org
SUMMARY:OAKLAND FISHING DERBY
DESCRIPTION:Annual fishing derby
URL:https://aps.rsu18.org/event/oakland-fishing-derby/
LOCATION:Atwood Elementary School\, 19 Heath St\, Oakland\, ME\, United States
GEO:44.548117;-69.720633
X-APPLE-STRUCTURED-LOCATION;VALUE=URI;X-ADDRESS=Atwood Elementary School 19 Heath St Oakland ME United States;X-APPLE-RADIUS=500;X-TITLE=19 Heath St:geo:-69.720633,44.548117
END:VEVENT
BEGIN:VEVENT
DTSTART;VALUE=DATE:20250131
DTEND;VALUE=DATE:20250201
DTSTAMP:20260424T064151
CREATED:20241231T133053Z
LAST-MODIFIED:20250131T164927Z
UID:10000067-1738281600-1738367999@aps.rsu18.org
SUMMARY:GREAT KINDNESS CHALLENGE
DESCRIPTION:
URL:https://aps.rsu18.org/event/great-kindness-challenge-5/
LOCATION:Atwood Elementary School\, 19 Heath St\, Oakland\, ME\, United States
GEO:44.548117;-69.720633
X-APPLE-STRUCTURED-LOCATION;VALUE=URI;X-ADDRESS=Atwood Elementary School 19 Heath St Oakland ME United States;X-APPLE-RADIUS=500;X-TITLE=19 Heath St:geo:-69.720633,44.548117
END:VEVENT
BEGIN:VEVENT
DTSTART;VALUE=DATE:20250130
DTEND;VALUE=DATE:20250131
DTSTAMP:20260424T064151
CREATED:20241231T133053Z
LAST-MODIFIED:20250130T164603Z
UID:10000063-1738195200-1738281599@aps.rsu18.org
SUMMARY:GREAT KINDNESS CHALLENGE
DESCRIPTION:
URL:https://aps.rsu18.org/event/great-kindness-challenge/
LOCATION:Atwood Elementary School\, 19 Heath St\, Oakland\, ME\, United States
GEO:44.548117;-69.720633
X-APPLE-STRUCTURED-LOCATION;VALUE=URI;X-ADDRESS=Atwood Elementary School 19 Heath St Oakland ME United States;X-APPLE-RADIUS=500;X-TITLE=19 Heath St:geo:-69.720633,44.548117
END:VEVENT
BEGIN:VEVENT
DTSTART;VALUE=DATE:20250129
DTEND;VALUE=DATE:20250130
DTSTAMP:20260424T064151
CREATED:20241231T133053Z
LAST-MODIFIED:20250128T161555Z
UID:10000064-1738108800-1738195199@aps.rsu18.org
SUMMARY:GREAT KINDNESS CHALLENGE
DESCRIPTION:
URL:https://aps.rsu18.org/event/great-kindness-challenge-2/
LOCATION:Atwood Elementary School\, 19 Heath St\, Oakland\, ME\, United States
GEO:44.548117;-69.720633
X-APPLE-STRUCTURED-LOCATION;VALUE=URI;X-ADDRESS=Atwood Elementary School 19 Heath St Oakland ME United States;X-APPLE-RADIUS=500;X-TITLE=19 Heath St:geo:-69.720633,44.548117
END:VEVENT
BEGIN:VEVENT
DTSTART;VALUE=DATE:20250128
DTEND;VALUE=DATE:20250129
DTSTAMP:20260424T064151
CREATED:20241231T133053Z
LAST-MODIFIED:20250128T161555Z
UID:10000065-1738022400-1738108799@aps.rsu18.org
SUMMARY:GREAT KINDNESS CHALLENGE
DESCRIPTION:
URL:https://aps.rsu18.org/event/great-kindness-challenge-3/
LOCATION:Atwood Elementary School\, 19 Heath St\, Oakland\, ME\, United States
GEO:44.548117;-69.720633
X-APPLE-STRUCTURED-LOCATION;VALUE=URI;X-ADDRESS=Atwood Elementary School 19 Heath St Oakland ME United States;X-APPLE-RADIUS=500;X-TITLE=19 Heath St:geo:-69.720633,44.548117
END:VEVENT
BEGIN:VEVENT
DTSTART;VALUE=DATE:20250127
DTEND;VALUE=DATE:20250128
DTSTAMP:20260424T064151
CREATED:20241231T133053Z
LAST-MODIFIED:20250126T154626Z
UID:10000066-1737936000-1738022399@aps.rsu18.org
SUMMARY:GREAT KINDNESS CHALLENGE
DESCRIPTION:
URL:https://aps.rsu18.org/event/great-kindness-challenge-4/
LOCATION:Atwood Elementary School\, 19 Heath St\, Oakland\, ME\, United States
GEO:44.548117;-69.720633
X-APPLE-STRUCTURED-LOCATION;VALUE=URI;X-ADDRESS=Atwood Elementary School 19 Heath St Oakland ME United States;X-APPLE-RADIUS=500;X-TITLE=19 Heath St:geo:-69.720633,44.548117
END:VEVENT
END:VCALENDAR