BEGIN:VCALENDAR
VERSION:2.0
PRODID:-//Atwood Primary - ECPv6.14.2//NONSGML v1.0//EN
CALSCALE:GREGORIAN
METHOD:PUBLISH
X-WR-CALNAME:Atwood Primary
X-ORIGINAL-URL:https://aps.rsu18.org
X-WR-CALDESC:Events for Atwood Primary
REFRESH-INTERVAL;VALUE=DURATION:PT1H
X-Robots-Tag:noindex
X-PUBLISHED-TTL:PT1H
BEGIN:VTIMEZONE
TZID:America/New_York
BEGIN:DAYLIGHT
TZOFFSETFROM:-0500
TZOFFSETTO:-0400
TZNAME:EDT
DTSTART:20250309T070000
END:DAYLIGHT
BEGIN:STANDARD
TZOFFSETFROM:-0400
TZOFFSETTO:-0500
TZNAME:EST
DTSTART:20251102T060000
END:STANDARD
END:VTIMEZONE
BEGIN:VEVENT
DTSTART;TZID=America/New_York:20251222T174500
DTEND;TZID=America/New_York:20251222T194500
DTSTAMP:20260423T194411
CREATED:20250805T140559Z
LAST-MODIFIED:20250826T163856Z
UID:10000091-1766425500-1766432700@aps.rsu18.org
SUMMARY:Cub Scout Pack 454 Meeting
DESCRIPTION:Cub Scout meeting (Must keep area clean after use)\nJoin with Google Meet: https://meet.google.com/sxm-wexy-wws\nOr dial: (US) +1 641-812-2139 PIN: 948569748#\nLearn more about Meet at: https://support.google.com/a/users/answer/9282720
URL:https://aps.rsu18.org/event/cub-scout-pack-454-meeting-20/
LOCATION:Atwood Elementary School\, 19 Heath St\, Oakland\, ME\, United States
GEO:44.548117;-69.720633
X-APPLE-STRUCTURED-LOCATION;VALUE=URI;X-ADDRESS=Atwood Elementary School 19 Heath St Oakland ME United States;X-APPLE-RADIUS=500;X-TITLE=19 Heath St:geo:-69.720633,44.548117
END:VEVENT
BEGIN:VEVENT
DTSTART;TZID=America/New_York:20251215T174500
DTEND;TZID=America/New_York:20251215T194500
DTSTAMP:20260423T194411
CREATED:20250827T164550Z
LAST-MODIFIED:20251215T184623Z
UID:10000129-1765820700-1765827900@aps.rsu18.org
SUMMARY:Cub Scout Pack 454 Meeting
DESCRIPTION:Cub Scout meeting (Must keep area clean after use)\nJoin with Google Meet: https://meet.google.com/sxm-wexy-wws\nOr dial: (US) +1 641-812-2139 PIN: 948569748#\nLearn more about Meet at: https://support.google.com/a/users/answer/9282720
URL:https://aps.rsu18.org/event/cub-scout-pack-454-meeting-58/
LOCATION:Atwood Elementary School\, 19 Heath St\, Oakland\, ME\, United States
GEO:44.548117;-69.720633
X-APPLE-STRUCTURED-LOCATION;VALUE=URI;X-ADDRESS=Atwood Elementary School 19 Heath St Oakland ME United States;X-APPLE-RADIUS=500;X-TITLE=19 Heath St:geo:-69.720633,44.548117
END:VEVENT
BEGIN:VEVENT
DTSTART;TZID=America/New_York:20251215T174500
DTEND;TZID=America/New_York:20251215T194500
DTSTAMP:20260423T194411
CREATED:20250805T140559Z
LAST-MODIFIED:20250826T163856Z
UID:10000090-1765820700-1765827900@aps.rsu18.org
SUMMARY:Cub Scout Pack 454 Meeting
DESCRIPTION:Cub Scout meeting (Must keep area clean after use)\nJoin with Google Meet: https://meet.google.com/sxm-wexy-wws\nOr dial: (US) +1 641-812-2139 PIN: 948569748#\nLearn more about Meet at: https://support.google.com/a/users/answer/9282720
URL:https://aps.rsu18.org/event/cub-scout-pack-454-meeting-19/
LOCATION:Atwood Elementary School\, 19 Heath St\, Oakland\, ME\, United States
GEO:44.548117;-69.720633
X-APPLE-STRUCTURED-LOCATION;VALUE=URI;X-ADDRESS=Atwood Elementary School 19 Heath St Oakland ME United States;X-APPLE-RADIUS=500;X-TITLE=19 Heath St:geo:-69.720633,44.548117
END:VEVENT
BEGIN:VEVENT
DTSTART;TZID=America/New_York:20251208T174500
DTEND;TZID=America/New_York:20251208T194500
DTSTAMP:20260423T194411
CREATED:20250827T164549Z
LAST-MODIFIED:20251208T181845Z
UID:10000128-1765215900-1765223100@aps.rsu18.org
SUMMARY:Cub Scout Pack 454 Meeting
DESCRIPTION:Cub Scout meeting (Must keep area clean after use)\nJoin with Google Meet: https://meet.google.com/sxm-wexy-wws\nOr dial: (US) +1 641-812-2139 PIN: 948569748#\nLearn more about Meet at: https://support.google.com/a/users/answer/9282720
URL:https://aps.rsu18.org/event/cub-scout-pack-454-meeting-57/
LOCATION:Atwood Elementary School\, 19 Heath St\, Oakland\, ME\, United States
GEO:44.548117;-69.720633
X-APPLE-STRUCTURED-LOCATION;VALUE=URI;X-ADDRESS=Atwood Elementary School 19 Heath St Oakland ME United States;X-APPLE-RADIUS=500;X-TITLE=19 Heath St:geo:-69.720633,44.548117
END:VEVENT
BEGIN:VEVENT
DTSTART;TZID=America/New_York:20251208T174500
DTEND;TZID=America/New_York:20251208T194500
DTSTAMP:20260423T194411
CREATED:20250805T140559Z
LAST-MODIFIED:20250826T163856Z
UID:10000089-1765215900-1765223100@aps.rsu18.org
SUMMARY:Cub Scout Pack 454 Meeting
DESCRIPTION:Cub Scout meeting (Must keep area clean after use)\nJoin with Google Meet: https://meet.google.com/sxm-wexy-wws\nOr dial: (US) +1 641-812-2139 PIN: 948569748#\nLearn more about Meet at: https://support.google.com/a/users/answer/9282720
URL:https://aps.rsu18.org/event/cub-scout-pack-454-meeting-18/
LOCATION:Atwood Elementary School\, 19 Heath St\, Oakland\, ME\, United States
GEO:44.548117;-69.720633
X-APPLE-STRUCTURED-LOCATION;VALUE=URI;X-ADDRESS=Atwood Elementary School 19 Heath St Oakland ME United States;X-APPLE-RADIUS=500;X-TITLE=19 Heath St:geo:-69.720633,44.548117
END:VEVENT
BEGIN:VEVENT
DTSTART;TZID=America/New_York:20251201T174500
DTEND;TZID=America/New_York:20251201T194500
DTSTAMP:20260423T194411
CREATED:20250827T164548Z
LAST-MODIFIED:20251201T174535Z
UID:10000127-1764611100-1764618300@aps.rsu18.org
SUMMARY:Cub Scout Pack 454 Meeting
DESCRIPTION:Cub Scout meeting (Must keep area clean after use)\nJoin with Google Meet: https://meet.google.com/sxm-wexy-wws\nOr dial: (US) +1 641-812-2139 PIN: 948569748#\nLearn more about Meet at: https://support.google.com/a/users/answer/9282720
URL:https://aps.rsu18.org/event/cub-scout-pack-454-meeting-56/
LOCATION:Atwood Elementary School\, 19 Heath St\, Oakland\, ME\, United States
GEO:44.548117;-69.720633
X-APPLE-STRUCTURED-LOCATION;VALUE=URI;X-ADDRESS=Atwood Elementary School 19 Heath St Oakland ME United States;X-APPLE-RADIUS=500;X-TITLE=19 Heath St:geo:-69.720633,44.548117
END:VEVENT
BEGIN:VEVENT
DTSTART;TZID=America/New_York:20251201T174500
DTEND;TZID=America/New_York:20251201T194500
DTSTAMP:20260423T194411
CREATED:20250805T140558Z
LAST-MODIFIED:20250826T163856Z
UID:10000088-1764611100-1764618300@aps.rsu18.org
SUMMARY:Cub Scout Pack 454 Meeting
DESCRIPTION:Cub Scout meeting (Must keep area clean after use)\nJoin with Google Meet: https://meet.google.com/sxm-wexy-wws\nOr dial: (US) +1 641-812-2139 PIN: 948569748#\nLearn more about Meet at: https://support.google.com/a/users/answer/9282720
URL:https://aps.rsu18.org/event/cub-scout-pack-454-meeting-17/
LOCATION:Atwood Elementary School\, 19 Heath St\, Oakland\, ME\, United States
GEO:44.548117;-69.720633
X-APPLE-STRUCTURED-LOCATION;VALUE=URI;X-ADDRESS=Atwood Elementary School 19 Heath St Oakland ME United States;X-APPLE-RADIUS=500;X-TITLE=19 Heath St:geo:-69.720633,44.548117
END:VEVENT
BEGIN:VEVENT
DTSTART;VALUE=DATE:20251128
DTEND;VALUE=DATE:20251129
DTSTAMP:20260423T194411
CREATED:20250912T181632Z
LAST-MODIFIED:20251128T174545Z
UID:10000158-1764288000-1764374399@aps.rsu18.org
SUMMARY:NO SCHOOL
DESCRIPTION:
URL:https://aps.rsu18.org/event/no-school-5/
LOCATION:ME
END:VEVENT
BEGIN:VEVENT
DTSTART;VALUE=DATE:20251127
DTEND;VALUE=DATE:20251128
DTSTAMP:20260423T194411
CREATED:20250912T181632Z
LAST-MODIFIED:20251127T173037Z
UID:10000159-1764201600-1764287999@aps.rsu18.org
SUMMARY:NO SCHOOL
DESCRIPTION:
URL:https://aps.rsu18.org/event/no-school-6/
LOCATION:ME
END:VEVENT
BEGIN:VEVENT
DTSTART;VALUE=DATE:20251126
DTEND;VALUE=DATE:20251127
DTSTAMP:20260423T194411
CREATED:20250912T181632Z
LAST-MODIFIED:20251126T171605Z
UID:10000160-1764115200-1764201599@aps.rsu18.org
SUMMARY:NO SCHOOL
DESCRIPTION:
URL:https://aps.rsu18.org/event/no-school-7/
LOCATION:ME
END:VEVENT
BEGIN:VEVENT
DTSTART;TZID=America/New_York:20251124T174500
DTEND;TZID=America/New_York:20251124T194500
DTSTAMP:20260423T194411
CREATED:20250827T164547Z
LAST-MODIFIED:20251124T171552Z
UID:10000126-1764006300-1764013500@aps.rsu18.org
SUMMARY:Cub Scout Pack 454 Meeting
DESCRIPTION:Cub Scout meeting (Must keep area clean after use)\nJoin with Google Meet: https://meet.google.com/sxm-wexy-wws\nOr dial: (US) +1 641-812-2139 PIN: 948569748#\nLearn more about Meet at: https://support.google.com/a/users/answer/9282720
URL:https://aps.rsu18.org/event/cub-scout-pack-454-meeting-55/
LOCATION:Atwood Elementary School\, 19 Heath St\, Oakland\, ME\, United States
GEO:44.548117;-69.720633
X-APPLE-STRUCTURED-LOCATION;VALUE=URI;X-ADDRESS=Atwood Elementary School 19 Heath St Oakland ME United States;X-APPLE-RADIUS=500;X-TITLE=19 Heath St:geo:-69.720633,44.548117
END:VEVENT
BEGIN:VEVENT
DTSTART;TZID=America/New_York:20251124T174500
DTEND;TZID=America/New_York:20251124T194500
DTSTAMP:20260423T194411
CREATED:20250805T140558Z
LAST-MODIFIED:20250826T163856Z
UID:10000087-1764006300-1764013500@aps.rsu18.org
SUMMARY:Cub Scout Pack 454 Meeting
DESCRIPTION:Cub Scout meeting (Must keep area clean after use)\nJoin with Google Meet: https://meet.google.com/sxm-wexy-wws\nOr dial: (US) +1 641-812-2139 PIN: 948569748#\nLearn more about Meet at: https://support.google.com/a/users/answer/9282720
URL:https://aps.rsu18.org/event/cub-scout-pack-454-meeting-16/
LOCATION:Atwood Elementary School\, 19 Heath St\, Oakland\, ME\, United States
GEO:44.548117;-69.720633
X-APPLE-STRUCTURED-LOCATION;VALUE=URI;X-ADDRESS=Atwood Elementary School 19 Heath St Oakland ME United States;X-APPLE-RADIUS=500;X-TITLE=19 Heath St:geo:-69.720633,44.548117
END:VEVENT
BEGIN:VEVENT
DTSTART;TZID=America/New_York:20251121T083000
DTEND;TZID=America/New_York:20251121T113000
DTSTAMP:20260423T194411
CREATED:20250916T133044Z
LAST-MODIFIED:20251120T170027Z
UID:10000192-1763713800-1763724600@aps.rsu18.org
SUMMARY:Lifetouch Retake Day
DESCRIPTION:Join with Google Meet: https://meet.google.com/bbd-nyen-ivs\nOr dial: (US) +1 203-850-7861 PIN: 421832464#\nLearn more about Meet at: https://support.google.com/a/users/answer/9282720
URL:https://aps.rsu18.org/event/lifetouch-retake-day/
LOCATION:Atwood Elementary School\, 19 Heath St\, Oakland\, ME\, United States
GEO:44.548117;-69.720633
X-APPLE-STRUCTURED-LOCATION;VALUE=URI;X-ADDRESS=Atwood Elementary School 19 Heath St Oakland ME United States;X-APPLE-RADIUS=500;X-TITLE=19 Heath St:geo:-69.720633,44.548117
END:VEVENT
BEGIN:VEVENT
DTSTART;TZID=America/New_York:20251117T174500
DTEND;TZID=America/New_York:20251117T194500
DTSTAMP:20260423T194411
CREATED:20250827T164546Z
LAST-MODIFIED:20251117T170027Z
UID:10000125-1763401500-1763408700@aps.rsu18.org
SUMMARY:Cub Scout Pack 454 Meeting
DESCRIPTION:Cub Scout meeting (Must keep area clean after use)\nJoin with Google Meet: https://meet.google.com/sxm-wexy-wws\nOr dial: (US) +1 641-812-2139 PIN: 948569748#\nLearn more about Meet at: https://support.google.com/a/users/answer/9282720
URL:https://aps.rsu18.org/event/cub-scout-pack-454-meeting-54/
LOCATION:Atwood Elementary School\, 19 Heath St\, Oakland\, ME\, United States
GEO:44.548117;-69.720633
X-APPLE-STRUCTURED-LOCATION;VALUE=URI;X-ADDRESS=Atwood Elementary School 19 Heath St Oakland ME United States;X-APPLE-RADIUS=500;X-TITLE=19 Heath St:geo:-69.720633,44.548117
END:VEVENT
BEGIN:VEVENT
DTSTART;TZID=America/New_York:20251117T174500
DTEND;TZID=America/New_York:20251117T194500
DTSTAMP:20260423T194411
CREATED:20250805T140558Z
LAST-MODIFIED:20250826T163855Z
UID:10000086-1763401500-1763408700@aps.rsu18.org
SUMMARY:Cub Scout Pack 454 Meeting
DESCRIPTION:Cub Scout meeting (Must keep area clean after use)\nJoin with Google Meet: https://meet.google.com/sxm-wexy-wws\nOr dial: (US) +1 641-812-2139 PIN: 948569748#\nLearn more about Meet at: https://support.google.com/a/users/answer/9282720
URL:https://aps.rsu18.org/event/cub-scout-pack-454-meeting-15/
LOCATION:Atwood Elementary School\, 19 Heath St\, Oakland\, ME\, United States
GEO:44.548117;-69.720633
X-APPLE-STRUCTURED-LOCATION;VALUE=URI;X-ADDRESS=Atwood Elementary School 19 Heath St Oakland ME United States;X-APPLE-RADIUS=500;X-TITLE=19 Heath St:geo:-69.720633,44.548117
END:VEVENT
BEGIN:VEVENT
DTSTART;VALUE=DATE:20251112
DTEND;VALUE=DATE:20251114
DTSTAMP:20260423T194411
CREATED:20250916T133043Z
LAST-MODIFIED:20251113T164528Z
UID:10000191-1762905600-1763078399@aps.rsu18.org
SUMMARY:Dental clinic ATW
DESCRIPTION:
URL:https://aps.rsu18.org/event/dental-clinic-atw/
LOCATION:Atwood Elementary School\, 19 Heath St\, Oakland\, ME\, United States
GEO:44.548117;-69.720633
X-APPLE-STRUCTURED-LOCATION;VALUE=URI;X-ADDRESS=Atwood Elementary School 19 Heath St Oakland ME United States;X-APPLE-RADIUS=500;X-TITLE=19 Heath St:geo:-69.720633,44.548117
END:VEVENT
BEGIN:VEVENT
DTSTART;VALUE=DATE:20251111
DTEND;VALUE=DATE:20251113
DTSTAMP:20260423T194411
CREATED:20250912T181631Z
LAST-MODIFIED:20250915T132231Z
UID:10000157-1762819200-1762991999@aps.rsu18.org
SUMMARY:NO SCHOOL
DESCRIPTION:
URL:https://aps.rsu18.org/event/no-school-4/
LOCATION:ME
END:VEVENT
BEGIN:VEVENT
DTSTART;TZID=America/New_York:20251110T174500
DTEND;TZID=America/New_York:20251110T194500
DTSTAMP:20260423T194411
CREATED:20250827T164545Z
LAST-MODIFIED:20251110T164540Z
UID:10000124-1762796700-1762803900@aps.rsu18.org
SUMMARY:Cub Scout Pack 454 Meeting
DESCRIPTION:Cub Scout meeting (Must keep area clean after use)\nJoin with Google Meet: https://meet.google.com/sxm-wexy-wws\nOr dial: (US) +1 641-812-2139 PIN: 948569748#\nLearn more about Meet at: https://support.google.com/a/users/answer/9282720
URL:https://aps.rsu18.org/event/cub-scout-pack-454-meeting-53/
LOCATION:Atwood Elementary School\, 19 Heath St\, Oakland\, ME\, United States
GEO:44.548117;-69.720633
X-APPLE-STRUCTURED-LOCATION;VALUE=URI;X-ADDRESS=Atwood Elementary School 19 Heath St Oakland ME United States;X-APPLE-RADIUS=500;X-TITLE=19 Heath St:geo:-69.720633,44.548117
END:VEVENT
BEGIN:VEVENT
DTSTART;TZID=America/New_York:20251110T174500
DTEND;TZID=America/New_York:20251110T194500
DTSTAMP:20260423T194411
CREATED:20250805T140558Z
LAST-MODIFIED:20250826T163855Z
UID:10000085-1762796700-1762803900@aps.rsu18.org
SUMMARY:Cub Scout Pack 454 Meeting
DESCRIPTION:Cub Scout meeting (Must keep area clean after use)\nJoin with Google Meet: https://meet.google.com/sxm-wexy-wws\nOr dial: (US) +1 641-812-2139 PIN: 948569748#\nLearn more about Meet at: https://support.google.com/a/users/answer/9282720
URL:https://aps.rsu18.org/event/cub-scout-pack-454-meeting-14/
LOCATION:Atwood Elementary School\, 19 Heath St\, Oakland\, ME\, United States
GEO:44.548117;-69.720633
X-APPLE-STRUCTURED-LOCATION;VALUE=URI;X-ADDRESS=Atwood Elementary School 19 Heath St Oakland ME United States;X-APPLE-RADIUS=500;X-TITLE=19 Heath St:geo:-69.720633,44.548117
END:VEVENT
BEGIN:VEVENT
DTSTART;VALUE=DATE:20251110
DTEND;VALUE=DATE:20251112
DTSTAMP:20260423T194411
CREATED:20250912T181631Z
LAST-MODIFIED:20250915T132231Z
UID:10000156-1762732800-1762905599@aps.rsu18.org
SUMMARY:NO SCHOOL
DESCRIPTION:
URL:https://aps.rsu18.org/event/no-school-3/
LOCATION:ME
END:VEVENT
BEGIN:VEVENT
DTSTART;TZID=America/New_York:20251103T174500
DTEND;TZID=America/New_York:20251103T194500
DTSTAMP:20260423T194411
CREATED:20250827T164543Z
LAST-MODIFIED:20251103T161608Z
UID:10000123-1762191900-1762199100@aps.rsu18.org
SUMMARY:Cub Scout Pack 454 Meeting
DESCRIPTION:Cub Scout meeting (Must keep area clean after use)\nJoin with Google Meet: https://meet.google.com/sxm-wexy-wws\nOr dial: (US) +1 641-812-2139 PIN: 948569748#\nLearn more about Meet at: https://support.google.com/a/users/answer/9282720
URL:https://aps.rsu18.org/event/cub-scout-pack-454-meeting-52/
LOCATION:Atwood Elementary School\, 19 Heath St\, Oakland\, ME\, United States
GEO:44.548117;-69.720633
X-APPLE-STRUCTURED-LOCATION;VALUE=URI;X-ADDRESS=Atwood Elementary School 19 Heath St Oakland ME United States;X-APPLE-RADIUS=500;X-TITLE=19 Heath St:geo:-69.720633,44.548117
END:VEVENT
BEGIN:VEVENT
DTSTART;TZID=America/New_York:20251103T174500
DTEND;TZID=America/New_York:20251103T194500
DTSTAMP:20260423T194411
CREATED:20250805T140557Z
LAST-MODIFIED:20250826T163855Z
UID:10000084-1762191900-1762199100@aps.rsu18.org
SUMMARY:Cub Scout Pack 454 Meeting
DESCRIPTION:Cub Scout meeting (Must keep area clean after use)\nJoin with Google Meet: https://meet.google.com/sxm-wexy-wws\nOr dial: (US) +1 641-812-2139 PIN: 948569748#\nLearn more about Meet at: https://support.google.com/a/users/answer/9282720
URL:https://aps.rsu18.org/event/cub-scout-pack-454-meeting-13/
LOCATION:Atwood Elementary School\, 19 Heath St\, Oakland\, ME\, United States
GEO:44.548117;-69.720633
X-APPLE-STRUCTURED-LOCATION;VALUE=URI;X-ADDRESS=Atwood Elementary School 19 Heath St Oakland ME United States;X-APPLE-RADIUS=500;X-TITLE=19 Heath St:geo:-69.720633,44.548117
END:VEVENT
BEGIN:VEVENT
DTSTART;TZID=America/New_York:20251027T174500
DTEND;TZID=America/New_York:20251027T194500
DTSTAMP:20260423T194411
CREATED:20250827T164542Z
LAST-MODIFIED:20251027T154614Z
UID:10000122-1761587100-1761594300@aps.rsu18.org
SUMMARY:Cub Scout Pack 454 Meeting
DESCRIPTION:Cub Scout meeting (Must keep area clean after use)\nJoin with Google Meet: https://meet.google.com/sxm-wexy-wws\nOr dial: (US) +1 641-812-2139 PIN: 948569748#\nLearn more about Meet at: https://support.google.com/a/users/answer/9282720
URL:https://aps.rsu18.org/event/cub-scout-pack-454-meeting-51/
LOCATION:Atwood Elementary School\, 19 Heath St\, Oakland\, ME\, United States
GEO:44.548117;-69.720633
X-APPLE-STRUCTURED-LOCATION;VALUE=URI;X-ADDRESS=Atwood Elementary School 19 Heath St Oakland ME United States;X-APPLE-RADIUS=500;X-TITLE=19 Heath St:geo:-69.720633,44.548117
END:VEVENT
BEGIN:VEVENT
DTSTART;TZID=America/New_York:20251027T174500
DTEND;TZID=America/New_York:20251027T194500
DTSTAMP:20260423T194411
CREATED:20250805T140557Z
LAST-MODIFIED:20250826T163855Z
UID:10000083-1761587100-1761594300@aps.rsu18.org
SUMMARY:Cub Scout Pack 454 Meeting
DESCRIPTION:Cub Scout meeting (Must keep area clean after use)\nJoin with Google Meet: https://meet.google.com/sxm-wexy-wws\nOr dial: (US) +1 641-812-2139 PIN: 948569748#\nLearn more about Meet at: https://support.google.com/a/users/answer/9282720
URL:https://aps.rsu18.org/event/cub-scout-pack-454-meeting-12/
LOCATION:Atwood Elementary School\, 19 Heath St\, Oakland\, ME\, United States
GEO:44.548117;-69.720633
X-APPLE-STRUCTURED-LOCATION;VALUE=URI;X-ADDRESS=Atwood Elementary School 19 Heath St Oakland ME United States;X-APPLE-RADIUS=500;X-TITLE=19 Heath St:geo:-69.720633,44.548117
END:VEVENT
BEGIN:VEVENT
DTSTART;TZID=America/New_York:20251020T174500
DTEND;TZID=America/New_York:20251020T194500
DTSTAMP:20260423T194411
CREATED:20250827T164540Z
LAST-MODIFIED:20251020T151552Z
UID:10000121-1760982300-1760989500@aps.rsu18.org
SUMMARY:Cub Scout Pack 454 Meeting
DESCRIPTION:Cub Scout meeting (Must keep area clean after use)\nJoin with Google Meet: https://meet.google.com/sxm-wexy-wws\nOr dial: (US) +1 641-812-2139 PIN: 948569748#\nLearn more about Meet at: https://support.google.com/a/users/answer/9282720
URL:https://aps.rsu18.org/event/cub-scout-pack-454-meeting-50/
LOCATION:Atwood Elementary School\, 19 Heath St\, Oakland\, ME\, United States
GEO:44.548117;-69.720633
X-APPLE-STRUCTURED-LOCATION;VALUE=URI;X-ADDRESS=Atwood Elementary School 19 Heath St Oakland ME United States;X-APPLE-RADIUS=500;X-TITLE=19 Heath St:geo:-69.720633,44.548117
END:VEVENT
BEGIN:VEVENT
DTSTART;TZID=America/New_York:20251020T174500
DTEND;TZID=America/New_York:20251020T194500
DTSTAMP:20260423T194411
CREATED:20250805T140557Z
LAST-MODIFIED:20250826T163855Z
UID:10000082-1760982300-1760989500@aps.rsu18.org
SUMMARY:Cub Scout Pack 454 Meeting
DESCRIPTION:Cub Scout meeting (Must keep area clean after use)\nJoin with Google Meet: https://meet.google.com/sxm-wexy-wws\nOr dial: (US) +1 641-812-2139 PIN: 948569748#\nLearn more about Meet at: https://support.google.com/a/users/answer/9282720
URL:https://aps.rsu18.org/event/cub-scout-pack-454-meeting-11/
LOCATION:Atwood Elementary School\, 19 Heath St\, Oakland\, ME\, United States
GEO:44.548117;-69.720633
X-APPLE-STRUCTURED-LOCATION;VALUE=URI;X-ADDRESS=Atwood Elementary School 19 Heath St Oakland ME United States;X-APPLE-RADIUS=500;X-TITLE=19 Heath St:geo:-69.720633,44.548117
END:VEVENT
BEGIN:VEVENT
DTSTART;TZID=America/New_York:20251020T170000
DTEND;TZID=America/New_York:20251020T180000
DTSTAMP:20260423T194411
CREATED:20250917T133144Z
LAST-MODIFIED:20251020T151553Z
UID:10000193-1760979600-1760983200@aps.rsu18.org
SUMMARY:Girl Scout Sign ups
DESCRIPTION:Room to be used:  Library for Girl Scout Sign ups\nJoin with Google Meet: https://meet.google.com/jaz-gkea-mzz\nOr dial: (US) +1 413-345-2232 PIN: 321494676#\nLearn more about Meet at: https://support.google.com/a/users/answer/9282720
URL:https://aps.rsu18.org/event/girl-scout-sign-ups/
LOCATION:Atwood Elementary School\, 19 Heath St\, Oakland\, ME\, United States
GEO:44.548117;-69.720633
X-APPLE-STRUCTURED-LOCATION;VALUE=URI;X-ADDRESS=Atwood Elementary School 19 Heath St Oakland ME United States;X-APPLE-RADIUS=500;X-TITLE=19 Heath St:geo:-69.720633,44.548117
END:VEVENT
BEGIN:VEVENT
DTSTART;TZID=America/New_York:20251013T174500
DTEND;TZID=America/New_York:20251013T194500
DTSTAMP:20260423T194411
CREATED:20250827T164539Z
LAST-MODIFIED:20251013T150116Z
UID:10000120-1760377500-1760384700@aps.rsu18.org
SUMMARY:Cub Scout Pack 454 Meeting
DESCRIPTION:Cub Scout meeting (Must keep area clean after use)\nJoin with Google Meet: https://meet.google.com/sxm-wexy-wws\nOr dial: (US) +1 641-812-2139 PIN: 948569748#\nLearn more about Meet at: https://support.google.com/a/users/answer/9282720
URL:https://aps.rsu18.org/event/cub-scout-pack-454-meeting-49/
LOCATION:Atwood Elementary School\, 19 Heath St\, Oakland\, ME\, United States
GEO:44.548117;-69.720633
X-APPLE-STRUCTURED-LOCATION;VALUE=URI;X-ADDRESS=Atwood Elementary School 19 Heath St Oakland ME United States;X-APPLE-RADIUS=500;X-TITLE=19 Heath St:geo:-69.720633,44.548117
END:VEVENT
BEGIN:VEVENT
DTSTART;TZID=America/New_York:20251013T174500
DTEND;TZID=America/New_York:20251013T194500
DTSTAMP:20260423T194411
CREATED:20250805T140557Z
LAST-MODIFIED:20250826T163855Z
UID:10000081-1760377500-1760384700@aps.rsu18.org
SUMMARY:Cub Scout Pack 454 Meeting
DESCRIPTION:Cub Scout meeting (Must keep area clean after use)\nJoin with Google Meet: https://meet.google.com/sxm-wexy-wws\nOr dial: (US) +1 641-812-2139 PIN: 948569748#\nLearn more about Meet at: https://support.google.com/a/users/answer/9282720
URL:https://aps.rsu18.org/event/cub-scout-pack-454-meeting-10/
LOCATION:Atwood Elementary School\, 19 Heath St\, Oakland\, ME\, United States
GEO:44.548117;-69.720633
X-APPLE-STRUCTURED-LOCATION;VALUE=URI;X-ADDRESS=Atwood Elementary School 19 Heath St Oakland ME United States;X-APPLE-RADIUS=500;X-TITLE=19 Heath St:geo:-69.720633,44.548117
END:VEVENT
BEGIN:VEVENT
DTSTART;VALUE=DATE:20251013
DTEND;VALUE=DATE:20251014
DTSTAMP:20260423T194411
CREATED:20250912T181630Z
LAST-MODIFIED:20251013T150116Z
UID:10000155-1760313600-1760399999@aps.rsu18.org
SUMMARY:NO School
DESCRIPTION:
URL:https://aps.rsu18.org/event/no-school-2/
LOCATION:Atwood Elementary School\, 19 Heath St\, Oakland\, ME\, United States
GEO:44.548117;-69.720633
X-APPLE-STRUCTURED-LOCATION;VALUE=URI;X-ADDRESS=Atwood Elementary School 19 Heath St Oakland ME United States;X-APPLE-RADIUS=500;X-TITLE=19 Heath St:geo:-69.720633,44.548117
END:VEVENT
END:VCALENDAR