BEGIN:VCALENDAR
VERSION:2.0
PRODID:-//Atwood Primary - ECPv6.14.2//NONSGML v1.0//EN
CALSCALE:GREGORIAN
METHOD:PUBLISH
X-WR-CALNAME:Atwood Primary
X-ORIGINAL-URL:https://aps.rsu18.org
X-WR-CALDESC:Events for Atwood Primary
REFRESH-INTERVAL;VALUE=DURATION:PT1H
X-Robots-Tag:noindex
X-PUBLISHED-TTL:PT1H
BEGIN:VTIMEZONE
TZID:America/New_York
BEGIN:DAYLIGHT
TZOFFSETFROM:-0500
TZOFFSETTO:-0400
TZNAME:EDT
DTSTART:20250309T070000
END:DAYLIGHT
BEGIN:STANDARD
TZOFFSETFROM:-0400
TZOFFSETTO:-0500
TZNAME:EST
DTSTART:20251102T060000
END:STANDARD
BEGIN:DAYLIGHT
TZOFFSETFROM:-0500
TZOFFSETTO:-0400
TZNAME:EDT
DTSTART:20260308T070000
END:DAYLIGHT
BEGIN:STANDARD
TZOFFSETFROM:-0400
TZOFFSETTO:-0500
TZNAME:EST
DTSTART:20261101T060000
END:STANDARD
END:VTIMEZONE
BEGIN:VEVENT
DTSTART;TZID=America/New_York:20260202T174500
DTEND;TZID=America/New_York:20260202T194500
DTSTAMP:20260423T163749
CREATED:20250805T140601Z
LAST-MODIFIED:20250826T163857Z
UID:10000097-1770054300-1770061500@aps.rsu18.org
SUMMARY:Cub Scout Pack 454 Meeting
DESCRIPTION:Cub Scout meeting (Must keep area clean after use)\nJoin with Google Meet: https://meet.google.com/sxm-wexy-wws\nOr dial: (US) +1 641-812-2139 PIN: 948569748#\nLearn more about Meet at: https://support.google.com/a/users/answer/9282720
URL:https://aps.rsu18.org/event/cub-scout-pack-454-meeting-26/
LOCATION:Atwood Elementary School\, 19 Heath St\, Oakland\, ME\, United States
GEO:44.548117;-69.720633
X-APPLE-STRUCTURED-LOCATION;VALUE=URI;X-ADDRESS=Atwood Elementary School 19 Heath St Oakland ME United States;X-APPLE-RADIUS=500;X-TITLE=19 Heath St:geo:-69.720633,44.548117
END:VEVENT
BEGIN:VEVENT
DTSTART;TZID=America/New_York:20260126T174500
DTEND;TZID=America/New_York:20260126T194500
DTSTAMP:20260423T163749
CREATED:20250827T164603Z
LAST-MODIFIED:20260126T223109Z
UID:10000135-1769449500-1769456700@aps.rsu18.org
SUMMARY:Cub Scout Pack 454 Meeting
DESCRIPTION:Cub Scout meeting (Must keep area clean after use)\nJoin with Google Meet: https://meet.google.com/sxm-wexy-wws\nOr dial: (US) +1 641-812-2139 PIN: 948569748#\nLearn more about Meet at: https://support.google.com/a/users/answer/9282720
URL:https://aps.rsu18.org/event/cub-scout-pack-454-meeting-64/
LOCATION:Atwood Elementary School\, 19 Heath St\, Oakland\, ME\, United States
GEO:44.548117;-69.720633
X-APPLE-STRUCTURED-LOCATION;VALUE=URI;X-ADDRESS=Atwood Elementary School 19 Heath St Oakland ME United States;X-APPLE-RADIUS=500;X-TITLE=19 Heath St:geo:-69.720633,44.548117
END:VEVENT
BEGIN:VEVENT
DTSTART;TZID=America/New_York:20260126T174500
DTEND;TZID=America/New_York:20260126T194500
DTSTAMP:20260423T163749
CREATED:20250805T140600Z
LAST-MODIFIED:20250826T163857Z
UID:10000096-1769449500-1769456700@aps.rsu18.org
SUMMARY:Cub Scout Pack 454 Meeting
DESCRIPTION:Cub Scout meeting (Must keep area clean after use)\nJoin with Google Meet: https://meet.google.com/sxm-wexy-wws\nOr dial: (US) +1 641-812-2139 PIN: 948569748#\nLearn more about Meet at: https://support.google.com/a/users/answer/9282720
URL:https://aps.rsu18.org/event/cub-scout-pack-454-meeting-25/
LOCATION:Atwood Elementary School\, 19 Heath St\, Oakland\, ME\, United States
GEO:44.548117;-69.720633
X-APPLE-STRUCTURED-LOCATION;VALUE=URI;X-ADDRESS=Atwood Elementary School 19 Heath St Oakland ME United States;X-APPLE-RADIUS=500;X-TITLE=19 Heath St:geo:-69.720633,44.548117
END:VEVENT
BEGIN:VEVENT
DTSTART;VALUE=DATE:20260126
DTEND;VALUE=DATE:20260127
DTSTAMP:20260423T163749
CREATED:20250912T181635Z
LAST-MODIFIED:20260126T223109Z
UID:10000172-1769385600-1769471999@aps.rsu18.org
SUMMARY:NO SCHOOL
DESCRIPTION:
URL:https://aps.rsu18.org/event/no-school-8/
LOCATION:ME
END:VEVENT
BEGIN:VEVENT
DTSTART;TZID=America/New_York:20260119T174500
DTEND;TZID=America/New_York:20260119T194500
DTSTAMP:20260423T163749
CREATED:20250827T164602Z
LAST-MODIFIED:20260119T221551Z
UID:10000134-1768844700-1768851900@aps.rsu18.org
SUMMARY:Cub Scout Pack 454 Meeting
DESCRIPTION:Cub Scout meeting (Must keep area clean after use)\nJoin with Google Meet: https://meet.google.com/sxm-wexy-wws\nOr dial: (US) +1 641-812-2139 PIN: 948569748#\nLearn more about Meet at: https://support.google.com/a/users/answer/9282720
URL:https://aps.rsu18.org/event/cub-scout-pack-454-meeting-63/
LOCATION:Atwood Elementary School\, 19 Heath St\, Oakland\, ME\, United States
GEO:44.548117;-69.720633
X-APPLE-STRUCTURED-LOCATION;VALUE=URI;X-ADDRESS=Atwood Elementary School 19 Heath St Oakland ME United States;X-APPLE-RADIUS=500;X-TITLE=19 Heath St:geo:-69.720633,44.548117
END:VEVENT
BEGIN:VEVENT
DTSTART;TZID=America/New_York:20260119T174500
DTEND;TZID=America/New_York:20260119T194500
DTSTAMP:20260423T163749
CREATED:20250805T140600Z
LAST-MODIFIED:20250826T163857Z
UID:10000095-1768844700-1768851900@aps.rsu18.org
SUMMARY:Cub Scout Pack 454 Meeting
DESCRIPTION:Cub Scout meeting (Must keep area clean after use)\nJoin with Google Meet: https://meet.google.com/sxm-wexy-wws\nOr dial: (US) +1 641-812-2139 PIN: 948569748#\nLearn more about Meet at: https://support.google.com/a/users/answer/9282720
URL:https://aps.rsu18.org/event/cub-scout-pack-454-meeting-24/
LOCATION:Atwood Elementary School\, 19 Heath St\, Oakland\, ME\, United States
GEO:44.548117;-69.720633
X-APPLE-STRUCTURED-LOCATION;VALUE=URI;X-ADDRESS=Atwood Elementary School 19 Heath St Oakland ME United States;X-APPLE-RADIUS=500;X-TITLE=19 Heath St:geo:-69.720633,44.548117
END:VEVENT
BEGIN:VEVENT
DTSTART;VALUE=DATE:20260119
DTEND;VALUE=DATE:20260120
DTSTAMP:20260423T163749
CREATED:20250912T181635Z
LAST-MODIFIED:20260119T221551Z
UID:10000171-1768780800-1768867199@aps.rsu18.org
SUMMARY:NO SCHOOL/HOLIDAY
DESCRIPTION:
URL:https://aps.rsu18.org/event/no-school-holiday/
LOCATION:ME
END:VEVENT
BEGIN:VEVENT
DTSTART;TZID=America/New_York:20260112T174500
DTEND;TZID=America/New_York:20260112T194500
DTSTAMP:20260423T163749
CREATED:20250827T164601Z
LAST-MODIFIED:20260112T213027Z
UID:10000133-1768239900-1768247100@aps.rsu18.org
SUMMARY:Cub Scout Pack 454 Meeting
DESCRIPTION:Cub Scout meeting (Must keep area clean after use)\nJoin with Google Meet: https://meet.google.com/sxm-wexy-wws\nOr dial: (US) +1 641-812-2139 PIN: 948569748#\nLearn more about Meet at: https://support.google.com/a/users/answer/9282720
URL:https://aps.rsu18.org/event/cub-scout-pack-454-meeting-62/
LOCATION:Atwood Elementary School\, 19 Heath St\, Oakland\, ME\, United States
GEO:44.548117;-69.720633
X-APPLE-STRUCTURED-LOCATION;VALUE=URI;X-ADDRESS=Atwood Elementary School 19 Heath St Oakland ME United States;X-APPLE-RADIUS=500;X-TITLE=19 Heath St:geo:-69.720633,44.548117
END:VEVENT
BEGIN:VEVENT
DTSTART;TZID=America/New_York:20260112T174500
DTEND;TZID=America/New_York:20260112T194500
DTSTAMP:20260423T163749
CREATED:20250805T140600Z
LAST-MODIFIED:20250826T163857Z
UID:10000094-1768239900-1768247100@aps.rsu18.org
SUMMARY:Cub Scout Pack 454 Meeting
DESCRIPTION:Cub Scout meeting (Must keep area clean after use)\nJoin with Google Meet: https://meet.google.com/sxm-wexy-wws\nOr dial: (US) +1 641-812-2139 PIN: 948569748#\nLearn more about Meet at: https://support.google.com/a/users/answer/9282720
URL:https://aps.rsu18.org/event/cub-scout-pack-454-meeting-23/
LOCATION:Atwood Elementary School\, 19 Heath St\, Oakland\, ME\, United States
GEO:44.548117;-69.720633
X-APPLE-STRUCTURED-LOCATION;VALUE=URI;X-ADDRESS=Atwood Elementary School 19 Heath St Oakland ME United States;X-APPLE-RADIUS=500;X-TITLE=19 Heath St:geo:-69.720633,44.548117
END:VEVENT
BEGIN:VEVENT
DTSTART;TZID=America/New_York:20260105T174500
DTEND;TZID=America/New_York:20260105T194500
DTSTAMP:20260423T163749
CREATED:20250827T164553Z
LAST-MODIFIED:20260105T211549Z
UID:10000132-1767635100-1767642300@aps.rsu18.org
SUMMARY:Cub Scout Pack 454 Meeting
DESCRIPTION:Cub Scout meeting (Must keep area clean after use)\nJoin with Google Meet: https://meet.google.com/sxm-wexy-wws\nOr dial: (US) +1 641-812-2139 PIN: 948569748#\nLearn more about Meet at: https://support.google.com/a/users/answer/9282720
URL:https://aps.rsu18.org/event/cub-scout-pack-454-meeting-61/
LOCATION:Atwood Elementary School\, 19 Heath St\, Oakland\, ME\, United States
GEO:44.548117;-69.720633
X-APPLE-STRUCTURED-LOCATION;VALUE=URI;X-ADDRESS=Atwood Elementary School 19 Heath St Oakland ME United States;X-APPLE-RADIUS=500;X-TITLE=19 Heath St:geo:-69.720633,44.548117
END:VEVENT
BEGIN:VEVENT
DTSTART;TZID=America/New_York:20260105T174500
DTEND;TZID=America/New_York:20260105T194500
DTSTAMP:20260423T163749
CREATED:20250805T140600Z
LAST-MODIFIED:20250826T163857Z
UID:10000093-1767635100-1767642300@aps.rsu18.org
SUMMARY:Cub Scout Pack 454 Meeting
DESCRIPTION:Cub Scout meeting (Must keep area clean after use)\nJoin with Google Meet: https://meet.google.com/sxm-wexy-wws\nOr dial: (US) +1 641-812-2139 PIN: 948569748#\nLearn more about Meet at: https://support.google.com/a/users/answer/9282720
URL:https://aps.rsu18.org/event/cub-scout-pack-454-meeting-22/
LOCATION:Atwood Elementary School\, 19 Heath St\, Oakland\, ME\, United States
GEO:44.548117;-69.720633
X-APPLE-STRUCTURED-LOCATION;VALUE=URI;X-ADDRESS=Atwood Elementary School 19 Heath St Oakland ME United States;X-APPLE-RADIUS=500;X-TITLE=19 Heath St:geo:-69.720633,44.548117
END:VEVENT
BEGIN:VEVENT
DTSTART;VALUE=DATE:20260102
DTEND;VALUE=DATE:20260103
DTSTAMP:20260423T163749
CREATED:20250912T181634Z
LAST-MODIFIED:20260102T211540Z
UID:10000168-1767312000-1767398399@aps.rsu18.org
SUMMARY:NO SCHOOL CHRISTMAS/NEW YEAR BREAK
DESCRIPTION:
URL:https://aps.rsu18.org/event/no-school-christmas-new-year-break-8/
LOCATION:ME
END:VEVENT
BEGIN:VEVENT
DTSTART;VALUE=DATE:20260101
DTEND;VALUE=DATE:20260102
DTSTAMP:20260423T163749
CREATED:20250912T181634Z
LAST-MODIFIED:20260101T211633Z
UID:10000169-1767225600-1767311999@aps.rsu18.org
SUMMARY:NO SCHOOL CHRISTMAS/NEW YEAR BREAK
DESCRIPTION:
URL:https://aps.rsu18.org/event/no-school-christmas-new-year-break-9/
LOCATION:ME
END:VEVENT
BEGIN:VEVENT
DTSTART;VALUE=DATE:20251231
DTEND;VALUE=DATE:20260101
DTSTAMP:20260423T163749
CREATED:20250912T181634Z
LAST-MODIFIED:20251231T211532Z
UID:10000170-1767139200-1767225599@aps.rsu18.org
SUMMARY:NO SCHOOL CHRISTMAS/NEW YEAR BREAK
DESCRIPTION:
URL:https://aps.rsu18.org/event/no-school-christmas-new-year-break-10/
LOCATION:ME
END:VEVENT
BEGIN:VEVENT
DTSTART;VALUE=DATE:20251230
DTEND;VALUE=DATE:20251231
DTSTAMP:20260423T163749
CREATED:20250912T181634Z
LAST-MODIFIED:20251230T211528Z
UID:10000166-1767052800-1767139199@aps.rsu18.org
SUMMARY:NO SCHOOL CHRISTMAS/NEW YEAR BREAK
DESCRIPTION:
URL:https://aps.rsu18.org/event/no-school-christmas-new-year-break-6/
LOCATION:ME
END:VEVENT
BEGIN:VEVENT
DTSTART;TZID=America/New_York:20251229T174500
DTEND;TZID=America/New_York:20251229T194500
DTSTAMP:20260423T163749
CREATED:20250827T164552Z
LAST-MODIFIED:20251229T210335Z
UID:10000131-1767030300-1767037500@aps.rsu18.org
SUMMARY:Cub Scout Pack 454 Meeting
DESCRIPTION:Cub Scout meeting (Must keep area clean after use)\nJoin with Google Meet: https://meet.google.com/sxm-wexy-wws\nOr dial: (US) +1 641-812-2139 PIN: 948569748#\nLearn more about Meet at: https://support.google.com/a/users/answer/9282720
URL:https://aps.rsu18.org/event/cub-scout-pack-454-meeting-60/
LOCATION:Atwood Elementary School\, 19 Heath St\, Oakland\, ME\, United States
GEO:44.548117;-69.720633
X-APPLE-STRUCTURED-LOCATION;VALUE=URI;X-ADDRESS=Atwood Elementary School 19 Heath St Oakland ME United States;X-APPLE-RADIUS=500;X-TITLE=19 Heath St:geo:-69.720633,44.548117
END:VEVENT
BEGIN:VEVENT
DTSTART;TZID=America/New_York:20251229T174500
DTEND;TZID=America/New_York:20251229T194500
DTSTAMP:20260423T163749
CREATED:20250805T140559Z
LAST-MODIFIED:20250826T163856Z
UID:10000092-1767030300-1767037500@aps.rsu18.org
SUMMARY:Cub Scout Pack 454 Meeting
DESCRIPTION:Cub Scout meeting (Must keep area clean after use)\nJoin with Google Meet: https://meet.google.com/sxm-wexy-wws\nOr dial: (US) +1 641-812-2139 PIN: 948569748#\nLearn more about Meet at: https://support.google.com/a/users/answer/9282720
URL:https://aps.rsu18.org/event/cub-scout-pack-454-meeting-21/
LOCATION:Atwood Elementary School\, 19 Heath St\, Oakland\, ME\, United States
GEO:44.548117;-69.720633
X-APPLE-STRUCTURED-LOCATION;VALUE=URI;X-ADDRESS=Atwood Elementary School 19 Heath St Oakland ME United States;X-APPLE-RADIUS=500;X-TITLE=19 Heath St:geo:-69.720633,44.548117
END:VEVENT
BEGIN:VEVENT
DTSTART;VALUE=DATE:20251229
DTEND;VALUE=DATE:20251230
DTSTAMP:20260423T163749
CREATED:20250912T181634Z
LAST-MODIFIED:20251229T210335Z
UID:10000167-1766966400-1767052799@aps.rsu18.org
SUMMARY:NO SCHOOL CHRISTMAS/NEW YEAR BREAK
DESCRIPTION:
URL:https://aps.rsu18.org/event/no-school-christmas-new-year-break-7/
LOCATION:ME
END:VEVENT
BEGIN:VEVENT
DTSTART;VALUE=DATE:20251228
DTEND;VALUE=DATE:20251229
DTSTAMP:20260423T163749
CREATED:20250912T181633Z
LAST-MODIFIED:20251227T183047Z
UID:10000165-1766880000-1766966399@aps.rsu18.org
SUMMARY:NO SCHOOL CHRISTMAS/NEW YEAR BREAK
DESCRIPTION:
URL:https://aps.rsu18.org/event/no-school-christmas-new-year-break-5/
LOCATION:ME
END:VEVENT
BEGIN:VEVENT
DTSTART;VALUE=DATE:20251227
DTEND;VALUE=DATE:20251228
DTSTAMP:20260423T163749
CREATED:20250912T181633Z
LAST-MODIFIED:20251227T183047Z
UID:10000163-1766793600-1766879999@aps.rsu18.org
SUMMARY:NO SCHOOL CHRISTMAS/NEW YEAR BREAK
DESCRIPTION:
URL:https://aps.rsu18.org/event/no-school-christmas-new-year-break-3/
LOCATION:ME
END:VEVENT
BEGIN:VEVENT
DTSTART;VALUE=DATE:20251226
DTEND;VALUE=DATE:20251227
DTSTAMP:20260423T163749
CREATED:20250912T181633Z
LAST-MODIFIED:20251226T183030Z
UID:10000164-1766707200-1766793599@aps.rsu18.org
SUMMARY:NO SCHOOL CHRISTMAS/NEW YEAR BREAK
DESCRIPTION:
URL:https://aps.rsu18.org/event/no-school-christmas-new-year-break-4/
LOCATION:ME
END:VEVENT
BEGIN:VEVENT
DTSTART;VALUE=DATE:20251225
DTEND;VALUE=DATE:20251226
DTSTAMP:20260423T163749
CREATED:20250912T181633Z
LAST-MODIFIED:20251225T181627Z
UID:10000161-1766620800-1766707199@aps.rsu18.org
SUMMARY:NO SCHOOL CHRISTMAS/NEW YEAR BREAK
DESCRIPTION:
URL:https://aps.rsu18.org/event/no-school-christmas-new-year-break/
LOCATION:ME
END:VEVENT
BEGIN:VEVENT
DTSTART;VALUE=DATE:20251224
DTEND;VALUE=DATE:20251225
DTSTAMP:20260423T163749
CREATED:20250912T181633Z
LAST-MODIFIED:20251224T181545Z
UID:10000162-1766534400-1766620799@aps.rsu18.org
SUMMARY:NO SCHOOL CHRISTMAS/NEW YEAR BREAK
DESCRIPTION:
URL:https://aps.rsu18.org/event/no-school-christmas-new-year-break-2/
LOCATION:ME
END:VEVENT
BEGIN:VEVENT
DTSTART;TZID=America/New_York:20251222T174500
DTEND;TZID=America/New_York:20251222T194500
DTSTAMP:20260423T163749
CREATED:20250827T164551Z
LAST-MODIFIED:20251222T180104Z
UID:10000130-1766425500-1766432700@aps.rsu18.org
SUMMARY:Cub Scout Pack 454 Meeting
DESCRIPTION:Cub Scout meeting (Must keep area clean after use)\nJoin with Google Meet: https://meet.google.com/sxm-wexy-wws\nOr dial: (US) +1 641-812-2139 PIN: 948569748#\nLearn more about Meet at: https://support.google.com/a/users/answer/9282720
URL:https://aps.rsu18.org/event/cub-scout-pack-454-meeting-59/
LOCATION:Atwood Elementary School\, 19 Heath St\, Oakland\, ME\, United States
GEO:44.548117;-69.720633
X-APPLE-STRUCTURED-LOCATION;VALUE=URI;X-ADDRESS=Atwood Elementary School 19 Heath St Oakland ME United States;X-APPLE-RADIUS=500;X-TITLE=19 Heath St:geo:-69.720633,44.548117
END:VEVENT
BEGIN:VEVENT
DTSTART;TZID=America/New_York:20251222T174500
DTEND;TZID=America/New_York:20251222T194500
DTSTAMP:20260423T163749
CREATED:20250805T140559Z
LAST-MODIFIED:20250826T163856Z
UID:10000091-1766425500-1766432700@aps.rsu18.org
SUMMARY:Cub Scout Pack 454 Meeting
DESCRIPTION:Cub Scout meeting (Must keep area clean after use)\nJoin with Google Meet: https://meet.google.com/sxm-wexy-wws\nOr dial: (US) +1 641-812-2139 PIN: 948569748#\nLearn more about Meet at: https://support.google.com/a/users/answer/9282720
URL:https://aps.rsu18.org/event/cub-scout-pack-454-meeting-20/
LOCATION:Atwood Elementary School\, 19 Heath St\, Oakland\, ME\, United States
GEO:44.548117;-69.720633
X-APPLE-STRUCTURED-LOCATION;VALUE=URI;X-ADDRESS=Atwood Elementary School 19 Heath St Oakland ME United States;X-APPLE-RADIUS=500;X-TITLE=19 Heath St:geo:-69.720633,44.548117
END:VEVENT
BEGIN:VEVENT
DTSTART;TZID=America/New_York:20251215T174500
DTEND;TZID=America/New_York:20251215T194500
DTSTAMP:20260423T163749
CREATED:20250827T164550Z
LAST-MODIFIED:20251215T184623Z
UID:10000129-1765820700-1765827900@aps.rsu18.org
SUMMARY:Cub Scout Pack 454 Meeting
DESCRIPTION:Cub Scout meeting (Must keep area clean after use)\nJoin with Google Meet: https://meet.google.com/sxm-wexy-wws\nOr dial: (US) +1 641-812-2139 PIN: 948569748#\nLearn more about Meet at: https://support.google.com/a/users/answer/9282720
URL:https://aps.rsu18.org/event/cub-scout-pack-454-meeting-58/
LOCATION:Atwood Elementary School\, 19 Heath St\, Oakland\, ME\, United States
GEO:44.548117;-69.720633
X-APPLE-STRUCTURED-LOCATION;VALUE=URI;X-ADDRESS=Atwood Elementary School 19 Heath St Oakland ME United States;X-APPLE-RADIUS=500;X-TITLE=19 Heath St:geo:-69.720633,44.548117
END:VEVENT
BEGIN:VEVENT
DTSTART;TZID=America/New_York:20251215T174500
DTEND;TZID=America/New_York:20251215T194500
DTSTAMP:20260423T163749
CREATED:20250805T140559Z
LAST-MODIFIED:20250826T163856Z
UID:10000090-1765820700-1765827900@aps.rsu18.org
SUMMARY:Cub Scout Pack 454 Meeting
DESCRIPTION:Cub Scout meeting (Must keep area clean after use)\nJoin with Google Meet: https://meet.google.com/sxm-wexy-wws\nOr dial: (US) +1 641-812-2139 PIN: 948569748#\nLearn more about Meet at: https://support.google.com/a/users/answer/9282720
URL:https://aps.rsu18.org/event/cub-scout-pack-454-meeting-19/
LOCATION:Atwood Elementary School\, 19 Heath St\, Oakland\, ME\, United States
GEO:44.548117;-69.720633
X-APPLE-STRUCTURED-LOCATION;VALUE=URI;X-ADDRESS=Atwood Elementary School 19 Heath St Oakland ME United States;X-APPLE-RADIUS=500;X-TITLE=19 Heath St:geo:-69.720633,44.548117
END:VEVENT
BEGIN:VEVENT
DTSTART;TZID=America/New_York:20251208T174500
DTEND;TZID=America/New_York:20251208T194500
DTSTAMP:20260423T163749
CREATED:20250827T164549Z
LAST-MODIFIED:20251208T181845Z
UID:10000128-1765215900-1765223100@aps.rsu18.org
SUMMARY:Cub Scout Pack 454 Meeting
DESCRIPTION:Cub Scout meeting (Must keep area clean after use)\nJoin with Google Meet: https://meet.google.com/sxm-wexy-wws\nOr dial: (US) +1 641-812-2139 PIN: 948569748#\nLearn more about Meet at: https://support.google.com/a/users/answer/9282720
URL:https://aps.rsu18.org/event/cub-scout-pack-454-meeting-57/
LOCATION:Atwood Elementary School\, 19 Heath St\, Oakland\, ME\, United States
GEO:44.548117;-69.720633
X-APPLE-STRUCTURED-LOCATION;VALUE=URI;X-ADDRESS=Atwood Elementary School 19 Heath St Oakland ME United States;X-APPLE-RADIUS=500;X-TITLE=19 Heath St:geo:-69.720633,44.548117
END:VEVENT
BEGIN:VEVENT
DTSTART;TZID=America/New_York:20251208T174500
DTEND;TZID=America/New_York:20251208T194500
DTSTAMP:20260423T163749
CREATED:20250805T140559Z
LAST-MODIFIED:20250826T163856Z
UID:10000089-1765215900-1765223100@aps.rsu18.org
SUMMARY:Cub Scout Pack 454 Meeting
DESCRIPTION:Cub Scout meeting (Must keep area clean after use)\nJoin with Google Meet: https://meet.google.com/sxm-wexy-wws\nOr dial: (US) +1 641-812-2139 PIN: 948569748#\nLearn more about Meet at: https://support.google.com/a/users/answer/9282720
URL:https://aps.rsu18.org/event/cub-scout-pack-454-meeting-18/
LOCATION:Atwood Elementary School\, 19 Heath St\, Oakland\, ME\, United States
GEO:44.548117;-69.720633
X-APPLE-STRUCTURED-LOCATION;VALUE=URI;X-ADDRESS=Atwood Elementary School 19 Heath St Oakland ME United States;X-APPLE-RADIUS=500;X-TITLE=19 Heath St:geo:-69.720633,44.548117
END:VEVENT
BEGIN:VEVENT
DTSTART;TZID=America/New_York:20251201T174500
DTEND;TZID=America/New_York:20251201T194500
DTSTAMP:20260423T163749
CREATED:20250827T164548Z
LAST-MODIFIED:20251201T174535Z
UID:10000127-1764611100-1764618300@aps.rsu18.org
SUMMARY:Cub Scout Pack 454 Meeting
DESCRIPTION:Cub Scout meeting (Must keep area clean after use)\nJoin with Google Meet: https://meet.google.com/sxm-wexy-wws\nOr dial: (US) +1 641-812-2139 PIN: 948569748#\nLearn more about Meet at: https://support.google.com/a/users/answer/9282720
URL:https://aps.rsu18.org/event/cub-scout-pack-454-meeting-56/
LOCATION:Atwood Elementary School\, 19 Heath St\, Oakland\, ME\, United States
GEO:44.548117;-69.720633
X-APPLE-STRUCTURED-LOCATION;VALUE=URI;X-ADDRESS=Atwood Elementary School 19 Heath St Oakland ME United States;X-APPLE-RADIUS=500;X-TITLE=19 Heath St:geo:-69.720633,44.548117
END:VEVENT
END:VCALENDAR