BEGIN:VCALENDAR
VERSION:2.0
PRODID:-//Atwood Primary - ECPv6.14.2//NONSGML v1.0//EN
CALSCALE:GREGORIAN
METHOD:PUBLISH
X-ORIGINAL-URL:https://aps.rsu18.org
X-WR-CALDESC:Events for Atwood Primary
REFRESH-INTERVAL;VALUE=DURATION:PT1H
X-Robots-Tag:noindex
X-PUBLISHED-TTL:PT1H
BEGIN:VTIMEZONE
TZID:America/New_York
BEGIN:DAYLIGHT
TZOFFSETFROM:-0500
TZOFFSETTO:-0400
TZNAME:EDT
DTSTART:20260308T070000
END:DAYLIGHT
BEGIN:STANDARD
TZOFFSETFROM:-0400
TZOFFSETTO:-0500
TZNAME:EST
DTSTART:20261101T060000
END:STANDARD
END:VTIMEZONE
BEGIN:VEVENT
DTSTART;TZID=America/New_York:20260302T174500
DTEND;TZID=America/New_York:20260302T194500
DTSTAMP:20260423T191647
CREATED:20250805T140602Z
LAST-MODIFIED:20250826T163858Z
UID:10000101-1772473500-1772480700@aps.rsu18.org
SUMMARY:Cub Scout Pack 454 Meeting
DESCRIPTION:Cub Scout meeting (Must keep area clean after use)\nJoin with Google Meet: https://meet.google.com/sxm-wexy-wws\nOr dial: (US) +1 641-812-2139 PIN: 948569748#\nLearn more about Meet at: https://support.google.com/a/users/answer/9282720
URL:https://aps.rsu18.org/event/cub-scout-pack-454-meeting-30/
LOCATION:Atwood Elementary School\, 19 Heath St\, Oakland\, ME\, United States
GEO:44.548117;-69.720633
X-APPLE-STRUCTURED-LOCATION;VALUE=URI;X-ADDRESS=Atwood Elementary School 19 Heath St Oakland ME United States;X-APPLE-RADIUS=500;X-TITLE=19 Heath St:geo:-69.720633,44.548117
END:VEVENT
BEGIN:VEVENT
DTSTART;TZID=America/New_York:20260302T174500
DTEND;TZID=America/New_York:20260302T194500
DTSTAMP:20260423T191647
CREATED:20250827T164606Z
LAST-MODIFIED:20260301T235103Z
UID:10000140-1772473500-1772480700@aps.rsu18.org
SUMMARY:Cub Scout Pack 454 Meeting
DESCRIPTION:Cub Scout meeting (Must keep area clean after use)\nJoin with Google Meet: https://meet.google.com/sxm-wexy-wws\nOr dial: (US) +1 641-812-2139 PIN: 948569748#\nLearn more about Meet at: https://support.google.com/a/users/answer/9282720
URL:https://aps.rsu18.org/event/cub-scout-pack-454-meeting-69/
LOCATION:Atwood Elementary School\, 19 Heath St\, Oakland\, ME\, United States
GEO:44.548117;-69.720633
X-APPLE-STRUCTURED-LOCATION;VALUE=URI;X-ADDRESS=Atwood Elementary School 19 Heath St Oakland ME United States;X-APPLE-RADIUS=500;X-TITLE=19 Heath St:geo:-69.720633,44.548117
END:VEVENT
BEGIN:VEVENT
DTSTART;TZID=America/New_York:20260303T080000
DTEND;TZID=America/New_York:20260303T113000
DTSTAMP:20260423T191647
CREATED:20260303T114544Z
LAST-MODIFIED:20260303T114544Z
UID:10000194-1772524800-1772537400@aps.rsu18.org
SUMMARY:EARLY RELEASE DAY 11:30 DISMISSAL
DESCRIPTION:STUDENTS WILL BE DISMISSED AT 11:30 A.M.
URL:https://aps.rsu18.org/event/early-release-day-1130-dismissal/
LOCATION:Atwood Elementary School\, 19 Heath St\, Oakland\, ME\, United States
GEO:44.548117;-69.720633
X-APPLE-STRUCTURED-LOCATION;VALUE=URI;X-ADDRESS=Atwood Elementary School 19 Heath St Oakland ME United States;X-APPLE-RADIUS=500;X-TITLE=19 Heath St:geo:-69.720633,44.548117
END:VEVENT
BEGIN:VEVENT
DTSTART;VALUE=DATE:20260304
DTEND;VALUE=DATE:20260305
DTSTAMP:20260423T191647
CREATED:20260303T114544Z
LAST-MODIFIED:20260304T120046Z
UID:10000195-1772582400-1772668799@aps.rsu18.org
SUMMARY:CHEWONKI OWL EXHIBIT AT ATW
DESCRIPTION:CHEWONKI OWLS TO VISIT ATW\nJoin with Google Meet: https://meet.google.com/knt-tafz-rdg\nOr dial: (US) +1 406-616-3139 PIN: 605545439#\nLearn more about Meet at: https://support.google.com/a/users/answer/9282720
URL:https://aps.rsu18.org/event/chewonki-owl-exhibit-at-atw/
LOCATION:Atwood Elementary School\, 19 Heath St\, Oakland\, ME\, United States
GEO:44.548117;-69.720633
X-APPLE-STRUCTURED-LOCATION;VALUE=URI;X-ADDRESS=Atwood Elementary School 19 Heath St Oakland ME United States;X-APPLE-RADIUS=500;X-TITLE=19 Heath St:geo:-69.720633,44.548117
END:VEVENT
BEGIN:VEVENT
DTSTART;TZID=America/New_York:20260309T174500
DTEND;TZID=America/New_York:20260309T194500
DTSTAMP:20260423T191647
CREATED:20250805T140602Z
LAST-MODIFIED:20250826T163858Z
UID:10000102-1773078300-1773085500@aps.rsu18.org
SUMMARY:Cub Scout Pack 454 Meeting
DESCRIPTION:Cub Scout meeting (Must keep area clean after use)\nJoin with Google Meet: https://meet.google.com/sxm-wexy-wws\nOr dial: (US) +1 641-812-2139 PIN: 948569748#\nLearn more about Meet at: https://support.google.com/a/users/answer/9282720
URL:https://aps.rsu18.org/event/cub-scout-pack-454-meeting-31/
LOCATION:Atwood Elementary School\, 19 Heath St\, Oakland\, ME\, United States
GEO:44.548117;-69.720633
X-APPLE-STRUCTURED-LOCATION;VALUE=URI;X-ADDRESS=Atwood Elementary School 19 Heath St Oakland ME United States;X-APPLE-RADIUS=500;X-TITLE=19 Heath St:geo:-69.720633,44.548117
END:VEVENT
BEGIN:VEVENT
DTSTART;TZID=America/New_York:20260309T174500
DTEND;TZID=America/New_York:20260309T194500
DTSTAMP:20260423T191647
CREATED:20250827T164606Z
LAST-MODIFIED:20260309T121527Z
UID:10000141-1773078300-1773085500@aps.rsu18.org
SUMMARY:Cub Scout Pack 454 Meeting
DESCRIPTION:Cub Scout meeting (Must keep area clean after use)\nJoin with Google Meet: https://meet.google.com/sxm-wexy-wws\nOr dial: (US) +1 641-812-2139 PIN: 948569748#\nLearn more about Meet at: https://support.google.com/a/users/answer/9282720
URL:https://aps.rsu18.org/event/cub-scout-pack-454-meeting-70/
LOCATION:Atwood Elementary School\, 19 Heath St\, Oakland\, ME\, United States
GEO:44.548117;-69.720633
X-APPLE-STRUCTURED-LOCATION;VALUE=URI;X-ADDRESS=Atwood Elementary School 19 Heath St Oakland ME United States;X-APPLE-RADIUS=500;X-TITLE=19 Heath St:geo:-69.720633,44.548117
END:VEVENT
BEGIN:VEVENT
DTSTART;TZID=America/New_York:20260310T083000
DTEND;TZID=America/New_York:20260310T113000
DTSTAMP:20260423T191647
CREATED:20260303T114545Z
LAST-MODIFIED:20260310T121549Z
UID:10000196-1773131400-1773142200@aps.rsu18.org
SUMMARY:CHILDREN'S DISCOVERY MUSEUM
DESCRIPTION:GRADE 1 FIELD TRIP
URL:https://aps.rsu18.org/event/childrens-discovery-museum/
LOCATION:Atwood Elementary School\, 19 Heath St\, Oakland\, ME\, United States
GEO:44.548117;-69.720633
X-APPLE-STRUCTURED-LOCATION;VALUE=URI;X-ADDRESS=Atwood Elementary School 19 Heath St Oakland ME United States;X-APPLE-RADIUS=500;X-TITLE=19 Heath St:geo:-69.720633,44.548117
END:VEVENT
BEGIN:VEVENT
DTSTART;VALUE=DATE:20260313
DTEND;VALUE=DATE:20260314
DTSTAMP:20260423T191647
CREATED:20250912T181637Z
LAST-MODIFIED:20260313T123049Z
UID:10000178-1773360000-1773446399@aps.rsu18.org
SUMMARY:NO SCHOOL
DESCRIPTION:
URL:https://aps.rsu18.org/event/no-school-9/
LOCATION:ME
END:VEVENT
BEGIN:VEVENT
DTSTART;VALUE=DATE:20260313
DTEND;VALUE=DATE:20260314
DTSTAMP:20260423T191647
CREATED:20260303T114545Z
LAST-MODIFIED:20260313T123049Z
UID:10000197-1773360000-1773446399@aps.rsu18.org
SUMMARY:WORKSHOP DAY NO SCHOOL
DESCRIPTION:NO SCHOOL WORKSHOP DAY
URL:https://aps.rsu18.org/event/workshop-day-no-school/
LOCATION:Atwood Elementary School\, 19 Heath St\, Oakland\, ME\, United States
GEO:44.548117;-69.720633
X-APPLE-STRUCTURED-LOCATION;VALUE=URI;X-ADDRESS=Atwood Elementary School 19 Heath St Oakland ME United States;X-APPLE-RADIUS=500;X-TITLE=19 Heath St:geo:-69.720633,44.548117
END:VEVENT
BEGIN:VEVENT
DTSTART;TZID=America/New_York:20260316T174500
DTEND;TZID=America/New_York:20260316T194500
DTSTAMP:20260423T191647
CREATED:20250805T140602Z
LAST-MODIFIED:20250826T163859Z
UID:10000103-1773683100-1773690300@aps.rsu18.org
SUMMARY:Cub Scout Pack 454 Meeting
DESCRIPTION:Cub Scout meeting (Must keep area clean after use)\nJoin with Google Meet: https://meet.google.com/sxm-wexy-wws\nOr dial: (US) +1 641-812-2139 PIN: 948569748#\nLearn more about Meet at: https://support.google.com/a/users/answer/9282720
URL:https://aps.rsu18.org/event/cub-scout-pack-454-meeting-32/
LOCATION:Atwood Elementary School\, 19 Heath St\, Oakland\, ME\, United States
GEO:44.548117;-69.720633
X-APPLE-STRUCTURED-LOCATION;VALUE=URI;X-ADDRESS=Atwood Elementary School 19 Heath St Oakland ME United States;X-APPLE-RADIUS=500;X-TITLE=19 Heath St:geo:-69.720633,44.548117
END:VEVENT
BEGIN:VEVENT
DTSTART;TZID=America/New_York:20260316T174500
DTEND;TZID=America/New_York:20260316T194500
DTSTAMP:20260423T191647
CREATED:20250827T164607Z
LAST-MODIFIED:20260316T130047Z
UID:10000142-1773683100-1773690300@aps.rsu18.org
SUMMARY:Cub Scout Pack 454 Meeting
DESCRIPTION:Cub Scout meeting (Must keep area clean after use)\nJoin with Google Meet: https://meet.google.com/sxm-wexy-wws\nOr dial: (US) +1 641-812-2139 PIN: 948569748#\nLearn more about Meet at: https://support.google.com/a/users/answer/9282720
URL:https://aps.rsu18.org/event/cub-scout-pack-454-meeting-71/
LOCATION:Atwood Elementary School\, 19 Heath St\, Oakland\, ME\, United States
GEO:44.548117;-69.720633
X-APPLE-STRUCTURED-LOCATION;VALUE=URI;X-ADDRESS=Atwood Elementary School 19 Heath St Oakland ME United States;X-APPLE-RADIUS=500;X-TITLE=19 Heath St:geo:-69.720633,44.548117
END:VEVENT
BEGIN:VEVENT
DTSTART;TZID=America/New_York:20260319T150000
DTEND;TZID=America/New_York:20260319T190000
DTSTAMP:20260423T191647
CREATED:20260303T114545Z
LAST-MODIFIED:20260319T133047Z
UID:10000198-1773932400-1773946800@aps.rsu18.org
SUMMARY:PARENT/TEACHER CONFERENCES
DESCRIPTION:PARENT TEACHER CONFERENCE NIGHT & Fun Math Games
URL:https://aps.rsu18.org/event/parent-teacher-conferences/
LOCATION:Atwood Elementary School\, 19 Heath St\, Oakland\, ME\, United States
GEO:44.548117;-69.720633
X-APPLE-STRUCTURED-LOCATION;VALUE=URI;X-ADDRESS=Atwood Elementary School 19 Heath St Oakland ME United States;X-APPLE-RADIUS=500;X-TITLE=19 Heath St:geo:-69.720633,44.548117
END:VEVENT
BEGIN:VEVENT
DTSTART;TZID=America/New_York:20260323T174500
DTEND;TZID=America/New_York:20260323T194500
DTSTAMP:20260423T191647
CREATED:20250805T140602Z
LAST-MODIFIED:20250826T163859Z
UID:10000104-1774287900-1774295100@aps.rsu18.org
SUMMARY:Cub Scout Pack 454 Meeting
DESCRIPTION:Cub Scout meeting (Must keep area clean after use)\nJoin with Google Meet: https://meet.google.com/sxm-wexy-wws\nOr dial: (US) +1 641-812-2139 PIN: 948569748#\nLearn more about Meet at: https://support.google.com/a/users/answer/9282720
URL:https://aps.rsu18.org/event/cub-scout-pack-454-meeting-33/
LOCATION:Atwood Elementary School\, 19 Heath St\, Oakland\, ME\, United States
GEO:44.548117;-69.720633
X-APPLE-STRUCTURED-LOCATION;VALUE=URI;X-ADDRESS=Atwood Elementary School 19 Heath St Oakland ME United States;X-APPLE-RADIUS=500;X-TITLE=19 Heath St:geo:-69.720633,44.548117
END:VEVENT
BEGIN:VEVENT
DTSTART;TZID=America/New_York:20260323T174500
DTEND;TZID=America/New_York:20260323T194500
DTSTAMP:20260423T191647
CREATED:20250827T164607Z
LAST-MODIFIED:20260323T134633Z
UID:10000143-1774287900-1774295100@aps.rsu18.org
SUMMARY:Cub Scout Pack 454 Meeting
DESCRIPTION:Cub Scout meeting (Must keep area clean after use)\nJoin with Google Meet: https://meet.google.com/sxm-wexy-wws\nOr dial: (US) +1 641-812-2139 PIN: 948569748#\nLearn more about Meet at: https://support.google.com/a/users/answer/9282720
URL:https://aps.rsu18.org/event/cub-scout-pack-454-meeting-72/
LOCATION:Atwood Elementary School\, 19 Heath St\, Oakland\, ME\, United States
GEO:44.548117;-69.720633
X-APPLE-STRUCTURED-LOCATION;VALUE=URI;X-ADDRESS=Atwood Elementary School 19 Heath St Oakland ME United States;X-APPLE-RADIUS=500;X-TITLE=19 Heath St:geo:-69.720633,44.548117
END:VEVENT
BEGIN:VEVENT
DTSTART;TZID=America/New_York:20260323T183000
DTEND;TZID=America/New_York:20260323T193000
DTSTAMP:20260423T191647
CREATED:20260303T114546Z
LAST-MODIFIED:20260323T134633Z
UID:10000199-1774290600-1774294200@aps.rsu18.org
SUMMARY:GR 1 & 2 CONCERT
DESCRIPTION:GRADE 1 & 2 CONCERT AT THE PAC
URL:https://aps.rsu18.org/event/gr-1-2-concert/
LOCATION:Messalonskee High School\, 131 Messalonskee High Dr\, Oakland\, ME\, United States
GEO:44.556119;-69.716516
X-APPLE-STRUCTURED-LOCATION;VALUE=URI;X-ADDRESS=Messalonskee High School 131 Messalonskee High Dr Oakland ME United States;X-APPLE-RADIUS=500;X-TITLE=131 Messalonskee High Dr:geo:-69.716516,44.556119
END:VEVENT
BEGIN:VEVENT
DTSTART;TZID=America/New_York:20260324T110000
DTEND;TZID=America/New_York:20260324T120000
DTSTAMP:20260423T191647
CREATED:20260303T114546Z
LAST-MODIFIED:20260324T140136Z
UID:10000200-1774350000-1774353600@aps.rsu18.org
SUMMARY:FAMILY VIOLENCE PRESENTATION PREK-2
DESCRIPTION:FAMILY VIOLENCE PRESENTATION
URL:https://aps.rsu18.org/event/family-violence-presentation-prek-2/
LOCATION:Atwood Elementary School\, 19 Heath St\, Oakland\, ME\, United States
GEO:44.548117;-69.720633
X-APPLE-STRUCTURED-LOCATION;VALUE=URI;X-ADDRESS=Atwood Elementary School 19 Heath St Oakland ME United States;X-APPLE-RADIUS=500;X-TITLE=19 Heath St:geo:-69.720633,44.548117
END:VEVENT
BEGIN:VEVENT
DTSTART;TZID=America/New_York:20260325T110000
DTEND;TZID=America/New_York:20260325T120000
DTSTAMP:20260423T191647
CREATED:20260303T114546Z
LAST-MODIFIED:20260325T140057Z
UID:10000201-1774436400-1774440000@aps.rsu18.org
SUMMARY:FAMILY VIOLENCE PRESENTATION PREK-2
DESCRIPTION:FAMILY VIOLENCE PRESENTATION
URL:https://aps.rsu18.org/event/family-violence-presentation-prek-2-2/
LOCATION:Atwood Elementary School\, 19 Heath St\, Oakland\, ME\, United States
GEO:44.548117;-69.720633
X-APPLE-STRUCTURED-LOCATION;VALUE=URI;X-ADDRESS=Atwood Elementary School 19 Heath St Oakland ME United States;X-APPLE-RADIUS=500;X-TITLE=19 Heath St:geo:-69.720633,44.548117
END:VEVENT
BEGIN:VEVENT
DTSTART;TZID=America/New_York:20260326T110000
DTEND;TZID=America/New_York:20260326T120000
DTSTAMP:20260423T191647
CREATED:20260303T114546Z
LAST-MODIFIED:20260322T134529Z
UID:10000202-1774522800-1774526400@aps.rsu18.org
SUMMARY:FAMILY VIOLENCE PRESENTATION PREK-2
DESCRIPTION:FAMILY VIOLENCE PRESENTATION
URL:https://aps.rsu18.org/event/family-violence-presentation-prek-2-3/
LOCATION:Atwood Elementary School\, 19 Heath St\, Oakland\, ME\, United States
GEO:44.548117;-69.720633
X-APPLE-STRUCTURED-LOCATION;VALUE=URI;X-ADDRESS=Atwood Elementary School 19 Heath St Oakland ME United States;X-APPLE-RADIUS=500;X-TITLE=19 Heath St:geo:-69.720633,44.548117
END:VEVENT
BEGIN:VEVENT
DTSTART;TZID=America/New_York:20260327T110000
DTEND;TZID=America/New_York:20260327T120000
DTSTAMP:20260423T191647
CREATED:20260303T114547Z
LAST-MODIFIED:20260322T134529Z
UID:10000203-1774609200-1774612800@aps.rsu18.org
SUMMARY:FAMILY VIOLENCE PRESENTATION PREK-2
DESCRIPTION:FAMILY VIOLENCE PRESENTATION
URL:https://aps.rsu18.org/event/family-violence-presentation-prek-2-4/
LOCATION:Atwood Elementary School\, 19 Heath St\, Oakland\, ME\, United States
GEO:44.548117;-69.720633
X-APPLE-STRUCTURED-LOCATION;VALUE=URI;X-ADDRESS=Atwood Elementary School 19 Heath St Oakland ME United States;X-APPLE-RADIUS=500;X-TITLE=19 Heath St:geo:-69.720633,44.548117
END:VEVENT
BEGIN:VEVENT
DTSTART;TZID=America/New_York:20260328T110000
DTEND;TZID=America/New_York:20260328T120000
DTSTAMP:20260423T191647
CREATED:20260303T114547Z
LAST-MODIFIED:20260322T134530Z
UID:10000204-1774695600-1774699200@aps.rsu18.org
SUMMARY:FAMILY VIOLENCE PRESENTATION PREK-2
DESCRIPTION:FAMILY VIOLENCE PRESENTATION
URL:https://aps.rsu18.org/event/family-violence-presentation-prek-2-5/
LOCATION:Atwood Elementary School\, 19 Heath St\, Oakland\, ME\, United States
GEO:44.548117;-69.720633
X-APPLE-STRUCTURED-LOCATION;VALUE=URI;X-ADDRESS=Atwood Elementary School 19 Heath St Oakland ME United States;X-APPLE-RADIUS=500;X-TITLE=19 Heath St:geo:-69.720633,44.548117
END:VEVENT
BEGIN:VEVENT
DTSTART;TZID=America/New_York:20260329T110000
DTEND;TZID=America/New_York:20260329T120000
DTSTAMP:20260423T191647
CREATED:20260303T114547Z
LAST-MODIFIED:20260322T134530Z
UID:10000205-1774782000-1774785600@aps.rsu18.org
SUMMARY:FAMILY VIOLENCE PRESENTATION PREK-2
DESCRIPTION:FAMILY VIOLENCE PRESENTATION
URL:https://aps.rsu18.org/event/family-violence-presentation-prek-2-6/
LOCATION:Atwood Elementary School\, 19 Heath St\, Oakland\, ME\, United States
GEO:44.548117;-69.720633
X-APPLE-STRUCTURED-LOCATION;VALUE=URI;X-ADDRESS=Atwood Elementary School 19 Heath St Oakland ME United States;X-APPLE-RADIUS=500;X-TITLE=19 Heath St:geo:-69.720633,44.548117
END:VEVENT
BEGIN:VEVENT
DTSTART;TZID=America/New_York:20260330T110000
DTEND;TZID=America/New_York:20260330T120000
DTSTAMP:20260423T191647
CREATED:20260303T114547Z
LAST-MODIFIED:20260322T134530Z
UID:10000206-1774868400-1774872000@aps.rsu18.org
SUMMARY:FAMILY VIOLENCE PRESENTATION PREK-2
DESCRIPTION:FAMILY VIOLENCE PRESENTATION
URL:https://aps.rsu18.org/event/family-violence-presentation-prek-2-7/
LOCATION:Atwood Elementary School\, 19 Heath St\, Oakland\, ME\, United States
GEO:44.548117;-69.720633
X-APPLE-STRUCTURED-LOCATION;VALUE=URI;X-ADDRESS=Atwood Elementary School 19 Heath St Oakland ME United States;X-APPLE-RADIUS=500;X-TITLE=19 Heath St:geo:-69.720633,44.548117
END:VEVENT
BEGIN:VEVENT
DTSTART;TZID=America/New_York:20260330T174500
DTEND;TZID=America/New_York:20260330T194500
DTSTAMP:20260423T191647
CREATED:20250805T140602Z
LAST-MODIFIED:20250826T163859Z
UID:10000105-1774892700-1774899900@aps.rsu18.org
SUMMARY:Cub Scout Pack 454 Meeting
DESCRIPTION:Cub Scout meeting (Must keep area clean after use)\nJoin with Google Meet: https://meet.google.com/sxm-wexy-wws\nOr dial: (US) +1 641-812-2139 PIN: 948569748#\nLearn more about Meet at: https://support.google.com/a/users/answer/9282720
URL:https://aps.rsu18.org/event/cub-scout-pack-454-meeting-34/
LOCATION:Atwood Elementary School\, 19 Heath St\, Oakland\, ME\, United States
GEO:44.548117;-69.720633
X-APPLE-STRUCTURED-LOCATION;VALUE=URI;X-ADDRESS=Atwood Elementary School 19 Heath St Oakland ME United States;X-APPLE-RADIUS=500;X-TITLE=19 Heath St:geo:-69.720633,44.548117
END:VEVENT
BEGIN:VEVENT
DTSTART;TZID=America/New_York:20260330T174500
DTEND;TZID=America/New_York:20260330T194500
DTSTAMP:20260423T191647
CREATED:20250827T164608Z
LAST-MODIFIED:20260330T143036Z
UID:10000144-1774892700-1774899900@aps.rsu18.org
SUMMARY:Cub Scout Pack 454 Meeting
DESCRIPTION:Cub Scout meeting (Must keep area clean after use)\nJoin with Google Meet: https://meet.google.com/sxm-wexy-wws\nOr dial: (US) +1 641-812-2139 PIN: 948569748#\nLearn more about Meet at: https://support.google.com/a/users/answer/9282720
URL:https://aps.rsu18.org/event/cub-scout-pack-454-meeting-73/
LOCATION:Atwood Elementary School\, 19 Heath St\, Oakland\, ME\, United States
GEO:44.548117;-69.720633
X-APPLE-STRUCTURED-LOCATION;VALUE=URI;X-ADDRESS=Atwood Elementary School 19 Heath St Oakland ME United States;X-APPLE-RADIUS=500;X-TITLE=19 Heath St:geo:-69.720633,44.548117
END:VEVENT
BEGIN:VEVENT
DTSTART;TZID=America/New_York:20260331T110000
DTEND;TZID=America/New_York:20260331T120000
DTSTAMP:20260423T191647
CREATED:20260303T114548Z
LAST-MODIFIED:20260322T134530Z
UID:10000207-1774954800-1774958400@aps.rsu18.org
SUMMARY:FAMILY VIOLENCE PRESENTATION PREK-2
DESCRIPTION:FAMILY VIOLENCE PRESENTATION
URL:https://aps.rsu18.org/event/family-violence-presentation-prek-2-8/
LOCATION:Atwood Elementary School\, 19 Heath St\, Oakland\, ME\, United States
GEO:44.548117;-69.720633
X-APPLE-STRUCTURED-LOCATION;VALUE=URI;X-ADDRESS=Atwood Elementary School 19 Heath St Oakland ME United States;X-APPLE-RADIUS=500;X-TITLE=19 Heath St:geo:-69.720633,44.548117
END:VEVENT
BEGIN:VEVENT
DTSTART;TZID=America/New_York:20260401T110000
DTEND;TZID=America/New_York:20260401T120000
DTSTAMP:20260423T191647
CREATED:20260303T114548Z
LAST-MODIFIED:20260322T134531Z
UID:10000208-1775041200-1775044800@aps.rsu18.org
SUMMARY:FAMILY VIOLENCE PRESENTATION PREK-2
DESCRIPTION:FAMILY VIOLENCE PRESENTATION
URL:https://aps.rsu18.org/event/family-violence-presentation-prek-2-9/
LOCATION:Atwood Elementary School\, 19 Heath St\, Oakland\, ME\, United States
GEO:44.548117;-69.720633
X-APPLE-STRUCTURED-LOCATION;VALUE=URI;X-ADDRESS=Atwood Elementary School 19 Heath St Oakland ME United States;X-APPLE-RADIUS=500;X-TITLE=19 Heath St:geo:-69.720633,44.548117
END:VEVENT
BEGIN:VEVENT
DTSTART;TZID=America/New_York:20260402T110000
DTEND;TZID=America/New_York:20260402T120000
DTSTAMP:20260423T191647
CREATED:20260303T114548Z
LAST-MODIFIED:20260322T134531Z
UID:10000209-1775127600-1775131200@aps.rsu18.org
SUMMARY:FAMILY VIOLENCE PRESENTATION PREK-2
DESCRIPTION:FAMILY VIOLENCE PRESENTATION
URL:https://aps.rsu18.org/event/family-violence-presentation-prek-2-10/
LOCATION:Atwood Elementary School\, 19 Heath St\, Oakland\, ME\, United States
GEO:44.548117;-69.720633
X-APPLE-STRUCTURED-LOCATION;VALUE=URI;X-ADDRESS=Atwood Elementary School 19 Heath St Oakland ME United States;X-APPLE-RADIUS=500;X-TITLE=19 Heath St:geo:-69.720633,44.548117
END:VEVENT
BEGIN:VEVENT
DTSTART;VALUE=DATE:20260403
DTEND;VALUE=DATE:20260404
DTSTAMP:20260423T191647
CREATED:20260323T134634Z
LAST-MODIFIED:20260403T143144Z
UID:10000294-1775174400-1775260799@aps.rsu18.org
SUMMARY:Author Visit (Sarah Thomopson)
DESCRIPTION:https://www.sarahlthomson.com/childrens-books/
URL:https://aps.rsu18.org/event/author-visit-sarah-thomopson/
LOCATION:Atwood Elementary School\, 19 Heath St\, Oakland\, ME\, United States
GEO:44.548117;-69.720633
X-APPLE-STRUCTURED-LOCATION;VALUE=URI;X-ADDRESS=Atwood Elementary School 19 Heath St Oakland ME United States;X-APPLE-RADIUS=500;X-TITLE=19 Heath St:geo:-69.720633,44.548117
END:VEVENT
BEGIN:VEVENT
DTSTART;TZID=America/New_York:20260403T110000
DTEND;TZID=America/New_York:20260403T120000
DTSTAMP:20260423T191647
CREATED:20260303T114548Z
LAST-MODIFIED:20260322T134531Z
UID:10000210-1775214000-1775217600@aps.rsu18.org
SUMMARY:FAMILY VIOLENCE PRESENTATION PREK-2
DESCRIPTION:FAMILY VIOLENCE PRESENTATION
URL:https://aps.rsu18.org/event/family-violence-presentation-prek-2-11/
LOCATION:Atwood Elementary School\, 19 Heath St\, Oakland\, ME\, United States
GEO:44.548117;-69.720633
X-APPLE-STRUCTURED-LOCATION;VALUE=URI;X-ADDRESS=Atwood Elementary School 19 Heath St Oakland ME United States;X-APPLE-RADIUS=500;X-TITLE=19 Heath St:geo:-69.720633,44.548117
END:VEVENT
BEGIN:VEVENT
DTSTART;TZID=America/New_York:20260404T110000
DTEND;TZID=America/New_York:20260404T120000
DTSTAMP:20260423T191647
CREATED:20260303T114548Z
LAST-MODIFIED:20260322T134531Z
UID:10000211-1775300400-1775304000@aps.rsu18.org
SUMMARY:FAMILY VIOLENCE PRESENTATION PREK-2
DESCRIPTION:FAMILY VIOLENCE PRESENTATION
URL:https://aps.rsu18.org/event/family-violence-presentation-prek-2-12/
LOCATION:Atwood Elementary School\, 19 Heath St\, Oakland\, ME\, United States
GEO:44.548117;-69.720633
X-APPLE-STRUCTURED-LOCATION;VALUE=URI;X-ADDRESS=Atwood Elementary School 19 Heath St Oakland ME United States;X-APPLE-RADIUS=500;X-TITLE=19 Heath St:geo:-69.720633,44.548117
END:VEVENT
END:VCALENDAR